BEGIN:VCALENDAR
VERSION:2.0
PRODID:-//spbstu.ru//ical//RU
NAME:Расписание группы 3140801/42450
X-WR-CALNAME:Расписание группы 3140801/42450
TIMEZONE-ID:Europe/Moscow
X-WR-TIMEZONE:Europe/Moscow
BEGIN:VEVENT
UID:53iv@192.168.245.71:3006
SEQUENCE:0
DTSTAMP:20260425T020351Z
DTSTART:20260113T070000Z
DTEND:20260113T074000Z
SUMMARY:Специальные разделы диссертационного исследования
LOCATION:ГК-2 406
END:VEVENT
BEGIN:VEVENT
UID:i0px@192.168.245.71:3006
SEQUENCE:0
DTSTAMP:20260425T020351Z
DTSTART:20260114T080000Z
DTEND:20260114T120000Z
SUMMARY:Специальные разделы диссертационного исследования
LOCATION:ГК-2 406
END:VEVENT
END:VCALENDAR