BEGIN:VCALENDAR
VERSION:2.0
PRODID:-//spbstu.ru//ical//RU
NAME:Расписание группы з3132001/10701
X-WR-CALNAME:Расписание группы з3132001/10701
TIMEZONE-ID:Europe/Moscow
X-WR-TIMEZONE:Europe/Moscow
BEGIN:VEVENT
UID:76ff@192.168.245.71:3006
SEQUENCE:0
DTSTAMP:20260423T044249Z
DTSTART:20260427T090000Z
DTEND:20260427T104000Z
SUMMARY:Защита в чрезвычайных ситуациях
LOCATION:DL Дистанционно
END:VEVENT
BEGIN:VEVENT
UID:pfsv@192.168.245.71:3006
SEQUENCE:0
DTSTAMP:20260423T044249Z
DTSTART:20260427T130000Z
DTEND:20260427T144000Z
SUMMARY:Надежность технических систем и техногенный риск
LOCATION:DL Дистанционно
END:VEVENT
BEGIN:VEVENT
UID:dz43@192.168.245.71:3006
SEQUENCE:0
DTSTAMP:20260423T044249Z
DTSTART:20260430T090000Z
DTEND:20260430T104000Z
SUMMARY:Защита в чрезвычайных ситуациях
LOCATION:DL Дистанционно
END:VEVENT
BEGIN:VEVENT
UID:r61o@192.168.245.71:3006
SEQUENCE:0
DTSTAMP:20260423T044249Z
DTSTART:20260430T130000Z
DTEND:20260430T144000Z
SUMMARY:Безопасность и гигиена труда в международных стандартах (на англий
 ском языке)
LOCATION:DL Дистанционно
END:VEVENT
END:VCALENDAR