BEGIN:VCALENDAR
VERSION:2.0
PRODID:-//spbstu.ru//ical//RU
NAME:Расписание группы 3231301/50002
X-WR-CALNAME:Расписание группы 3231301/50002
TIMEZONE-ID:Europe/Moscow
X-WR-TIMEZONE:Europe/Moscow
BEGIN:VEVENT
UID:jj8j@192.168.245.71:3006
SEQUENCE:0
DTSTAMP:20260426T022654Z
DTSTART:20251201T090000Z
DTEND:20251201T104000Z
SUMMARY:Экономическая культура
LOCATION:ГЗ 226
END:VEVENT
BEGIN:VEVENT
UID:fz1w@192.168.245.71:3006
SEQUENCE:0
DTSTAMP:20260426T022654Z
DTSTART:20251201T110000Z
DTEND:20251201T124000Z
SUMMARY:Творческие семестры
LOCATION:ГЗ Белый зал
END:VEVENT
BEGIN:VEVENT
UID:2iut@192.168.245.71:3006
SEQUENCE:0
DTSTAMP:20260426T022654Z
DTSTART:20251201T130000Z
DTEND:20251201T144000Z
SUMMARY:Основы российской государственности
LOCATION:ГЗ 225
END:VEVENT
BEGIN:VEVENT
UID:1ghj@192.168.245.71:3006
SEQUENCE:0
DTSTAMP:20260426T022654Z
DTSTART:20251202T050000Z
DTEND:20251202T064000Z
SUMMARY:Элективная физическая культура и спорт
LOCATION:СК Секции
END:VEVENT
BEGIN:VEVENT
UID:0nem@192.168.245.71:3006
SEQUENCE:0
DTSTAMP:20260426T022654Z
DTSTART:20251202T070000Z
DTEND:20251202T084000Z
SUMMARY:Основы российской государственности
LOCATION:ГЗ Белый зал
END:VEVENT
BEGIN:VEVENT
UID:uygj@192.168.245.71:3006
SEQUENCE:0
DTSTAMP:20260426T022654Z
DTSTART:20251202T090000Z
DTEND:20251202T104000Z
SUMMARY:Инженерная графика
LOCATION:ГЗ 239
END:VEVENT
BEGIN:VEVENT
UID:4fpv@192.168.245.71:3006
SEQUENCE:0
DTSTAMP:20260426T022654Z
DTSTART:20251202T110000Z
DTEND:20251202T124000Z
SUMMARY:Высшая математика
LOCATION:ГЗ 207
END:VEVENT
BEGIN:VEVENT
UID:0rgv@192.168.245.71:3006
SEQUENCE:0
DTSTAMP:20260426T022654Z
DTSTART:20251202T130000Z
DTEND:20251202T144000Z
SUMMARY:Факультатив по математике
LOCATION:ГЗ 225
END:VEVENT
BEGIN:VEVENT
UID:bjmk@192.168.245.71:3006
SEQUENCE:0
DTSTAMP:20260426T022654Z
DTSTART:20251203T090000Z
DTEND:20251203T104000Z
SUMMARY:Высшая математика
LOCATION:ГЗ 226
END:VEVENT
BEGIN:VEVENT
UID:1oob@192.168.245.71:3006
SEQUENCE:0
DTSTAMP:20260426T022654Z
DTSTART:20251203T110000Z
DTEND:20251203T124000Z
SUMMARY:История России
LOCATION:ГЗ 244
END:VEVENT
BEGIN:VEVENT
UID:ir7p@192.168.245.71:3006
SEQUENCE:0
DTSTAMP:20260426T022654Z
DTSTART:20251204T090000Z
DTEND:20251204T104000Z
SUMMARY:Компьютерное моделирование
LOCATION:ТВН ВШАиТЭ уч.ауд.№303
END:VEVENT
BEGIN:VEVENT
UID:6adc@192.168.245.71:3006
SEQUENCE:0
DTSTAMP:20260426T022654Z
DTSTART:20251204T110000Z
DTEND:20251204T124000Z
SUMMARY:Иностранный язык: Базовый курс
LOCATION:ГЗ 228
END:VEVENT
BEGIN:VEVENT
UID:ub49@192.168.245.71:3006
SEQUENCE:0
DTSTAMP:20260426T022654Z
DTSTART:20251204T150000Z
DTEND:20251204T164000Z
SUMMARY:Факультатив по физике повышенной сложности
LOCATION:ГЗ 237
END:VEVENT
BEGIN:VEVENT
UID:5kkm@192.168.245.71:3006
SEQUENCE:0
DTSTAMP:20260426T022654Z
DTSTART:20251205T070000Z
DTEND:20251205T084000Z
SUMMARY:Элективная физическая культура и спорт
LOCATION:СК Секции
END:VEVENT
BEGIN:VEVENT
UID:2dvn@192.168.245.71:3006
SEQUENCE:0
DTSTAMP:20260426T022654Z
DTSTART:20251205T090000Z
DTEND:20251205T104000Z
SUMMARY:Высшая математика
LOCATION:ГЗ 122
END:VEVENT
BEGIN:VEVENT
UID:p2fq@192.168.245.71:3006
SEQUENCE:0
DTSTAMP:20260426T022654Z
DTSTART:20251205T110000Z
DTEND:20251205T124000Z
SUMMARY:Введение в профессиональную деятельность
LOCATION:ТВН ВШАиТЭ уч.ауд.№102
END:VEVENT
BEGIN:VEVENT
UID:v6ji@192.168.245.71:3006
SEQUENCE:0
DTSTAMP:20260426T022654Z
DTSTART:20251205T130000Z
DTEND:20251205T153000Z
SUMMARY:Высшая математика повышенной сложности
LOCATION:ГЗ 253
END:VEVENT
BEGIN:VEVENT
UID:cnb1@192.168.245.71:3006
SEQUENCE:0
DTSTAMP:20260426T022654Z
DTSTART:20251206T070000Z
DTEND:20251206T084000Z
SUMMARY:Иностранный язык: Русский язык как иностранный
LOCATION:ГЗ 284
END:VEVENT
BEGIN:VEVENT
UID:lpku@192.168.245.71:3006
SEQUENCE:0
DTSTAMP:20260426T022654Z
DTSTART:20251206T090000Z
DTEND:20251206T104000Z
SUMMARY:Иностранный язык: Русский язык как иностранный
LOCATION:ГЗ 284
END:VEVENT
BEGIN:VEVENT
UID:rvfo@192.168.245.71:3006
SEQUENCE:0
DTSTAMP:20260426T022654Z
DTSTART:20251206T110000Z
DTEND:20251206T124000Z
SUMMARY:История России
LOCATION:ГЗ 215
END:VEVENT
BEGIN:VEVENT
UID:yw5e@192.168.245.71:3006
SEQUENCE:0
DTSTAMP:20260426T022654Z
DTSTART:20251206T110000Z
DTEND:20251206T133000Z
SUMMARY:Русский язык как иностранный
LOCATION:15 к. 705
END:VEVENT
END:VCALENDAR