BEGIN:VCALENDAR
VERSION:2.0
PRODID:-//spbstu.ru//ical//RU
NAME:Расписание группы 3231301/50002
X-WR-CALNAME:Расписание группы 3231301/50002
TIMEZONE-ID:Europe/Moscow
X-WR-TIMEZONE:Europe/Moscow
BEGIN:VEVENT
UID:jzc6@192.168.245.71:3006
SEQUENCE:0
DTSTAMP:20260424T064501Z
DTSTART:20260202T070000Z
DTEND:20260202T084000Z
SUMMARY:Физика
LOCATION:ГЗ 155
END:VEVENT
BEGIN:VEVENT
UID:gzu6@192.168.245.71:3006
SEQUENCE:0
DTSTAMP:20260424T064501Z
DTSTART:20260202T070000Z
DTEND:20260202T084000Z
SUMMARY:Физика
LOCATION:ГЗ 155
END:VEVENT
BEGIN:VEVENT
UID:oozc@192.168.245.71:3006
SEQUENCE:0
DTSTAMP:20260424T064501Z
DTSTART:20260202T090000Z
DTEND:20260202T104000Z
SUMMARY:История России
LOCATION:ГЗ Белый зал
END:VEVENT
BEGIN:VEVENT
UID:3lyk@192.168.245.71:3006
SEQUENCE:0
DTSTAMP:20260424T064501Z
DTSTART:20260202T110000Z
DTEND:20260202T124000Z
SUMMARY:Высшая математика
LOCATION:ГЗ 122
END:VEVENT
BEGIN:VEVENT
UID:cc9l@192.168.245.71:3006
SEQUENCE:0
DTSTAMP:20260424T064501Z
DTSTART:20260202T130000Z
DTEND:20260202T144000Z
SUMMARY:Высшая математика повышенной сложности
LOCATION:ГЗ 280
END:VEVENT
BEGIN:VEVENT
UID:t0bj@192.168.245.71:3006
SEQUENCE:0
DTSTAMP:20260424T064501Z
DTSTART:20260203T050000Z
DTEND:20260203T064000Z
SUMMARY:Философия
LOCATION:ГЗ 215
END:VEVENT
BEGIN:VEVENT
UID:i5pb@192.168.245.71:3006
SEQUENCE:0
DTSTAMP:20260424T064501Z
DTSTART:20260203T070000Z
DTEND:20260203T084000Z
SUMMARY:Физика
LOCATION:ГЗ 324
END:VEVENT
BEGIN:VEVENT
UID:0xmg@192.168.245.71:3006
SEQUENCE:0
DTSTAMP:20260424T064501Z
DTSTART:20260203T090000Z
DTEND:20260203T104000Z
SUMMARY:Информатика
LOCATION:ТВН ВШАиТЭ комп.кл.
END:VEVENT
BEGIN:VEVENT
UID:52zx@192.168.245.71:3006
SEQUENCE:0
DTSTAMP:20260424T064501Z
DTSTART:20260203T110000Z
DTEND:20260203T124000Z
SUMMARY:Физика
LOCATION:ГЗ 223
END:VEVENT
BEGIN:VEVENT
UID:ypsb@192.168.245.71:3006
SEQUENCE:0
DTSTAMP:20260424T064501Z
DTSTART:20260204T070000Z
DTEND:20260204T084000Z
SUMMARY:Информатика
LOCATION:ГЗ 257
END:VEVENT
BEGIN:VEVENT
UID:fepi@192.168.245.71:3006
SEQUENCE:0
DTSTAMP:20260424T064501Z
DTSTART:20260204T090000Z
DTEND:20260204T104000Z
SUMMARY:Высшая математика
LOCATION:ГЗ 208
END:VEVENT
BEGIN:VEVENT
UID:a07y@192.168.245.71:3006
SEQUENCE:0
DTSTAMP:20260424T064501Z
DTSTART:20260204T110000Z
DTEND:20260204T124000Z
SUMMARY:Инженерная графика
LOCATION:ГЗ 229
END:VEVENT
BEGIN:VEVENT
UID:w8zn@192.168.245.71:3006
SEQUENCE:0
DTSTAMP:20260424T064501Z
DTSTART:20260204T130000Z
DTEND:20260204T144000Z
SUMMARY:Метрология
LOCATION:Мех. к. 14
END:VEVENT
BEGIN:VEVENT
UID:9nml@192.168.245.71:3006
SEQUENCE:0
DTSTAMP:20260424T064501Z
DTSTART:20260204T160000Z
DTEND:20260204T170000Z
SUMMARY:Творческие семестры
LOCATION:DL Дистанционно
END:VEVENT
BEGIN:VEVENT
UID:eyfd@192.168.245.71:3006
SEQUENCE:0
DTSTAMP:20260424T064501Z
DTSTART:20260205T070000Z
DTEND:20260205T084000Z
SUMMARY:Иностранный язык: Базовый курс
LOCATION:ГЗ 240
END:VEVENT
BEGIN:VEVENT
UID:m0xj@192.168.245.71:3006
SEQUENCE:0
DTSTAMP:20260424T064501Z
DTSTART:20260205T090000Z
DTEND:20260205T104000Z
SUMMARY:Информатика
LOCATION:ТВН ВШАиТЭ комп.кл.
END:VEVENT
BEGIN:VEVENT
UID:u4sc@192.168.245.71:3006
SEQUENCE:0
DTSTAMP:20260424T064501Z
DTSTART:20260205T110000Z
DTEND:20260205T124000Z
SUMMARY:Компьютерное моделирование
LOCATION:ГЗ 225
END:VEVENT
BEGIN:VEVENT
UID:1wpn@192.168.245.71:3006
SEQUENCE:0
DTSTAMP:20260424T064501Z
DTSTART:20260205T130000Z
DTEND:20260205T144000Z
SUMMARY:Инженерная графика
LOCATION:ГЗ 257
END:VEVENT
BEGIN:VEVENT
UID:v87t@192.168.245.71:3006
SEQUENCE:0
DTSTAMP:20260424T064501Z
DTSTART:20260205T150000Z
DTEND:20260205T164000Z
SUMMARY:Основы цифровых технологий
LOCATION:ТВН ВШАиТЭ комп.кл.
END:VEVENT
BEGIN:VEVENT
UID:ve2m@192.168.245.71:3006
SEQUENCE:0
DTSTAMP:20260424T064501Z
DTSTART:20260206T090000Z
DTEND:20260206T104000Z
SUMMARY:Химия
LOCATION:Хим. к. 52
END:VEVENT
BEGIN:VEVENT
UID:mpnm@192.168.245.71:3006
SEQUENCE:0
DTSTAMP:20260424T064501Z
DTSTART:20260206T110000Z
DTEND:20260206T124000Z
SUMMARY:Химия
LOCATION:Хим. к. 10
END:VEVENT
BEGIN:VEVENT
UID:rtr6@192.168.245.71:3006
SEQUENCE:0
DTSTAMP:20260424T064501Z
DTSTART:20260206T130000Z
DTEND:20260206T134000Z
SUMMARY:Химия
LOCATION:Хим. к. 10
END:VEVENT
BEGIN:VEVENT
UID:9yyx@192.168.245.71:3006
SEQUENCE:0
DTSTAMP:20260424T064501Z
DTSTART:20260206T130000Z
DTEND:20260206T134000Z
SUMMARY:Химия
LOCATION:Хим. к. 10
END:VEVENT
BEGIN:VEVENT
UID:fc7k@192.168.245.71:3006
SEQUENCE:0
DTSTAMP:20260424T064501Z
DTSTART:20260206T150000Z
DTEND:20260206T164000Z
SUMMARY:Иностранный язык: Базовый курс
LOCATION:ГЗ 284
END:VEVENT
BEGIN:VEVENT
UID:yd0o@192.168.245.71:3006
SEQUENCE:0
DTSTAMP:20260424T064501Z
DTSTART:20260207T060000Z
DTEND:20260207T084000Z
SUMMARY:Физика повышенной сложности
LOCATION:ГЗ 283
END:VEVENT
BEGIN:VEVENT
UID:dxva@192.168.245.71:3006
SEQUENCE:0
DTSTAMP:20260424T064501Z
DTSTART:20260207T070000Z
DTEND:20260207T084000Z
SUMMARY:Иностранный язык: Русский язык как иностранный
LOCATION:ГЗ 230
END:VEVENT
BEGIN:VEVENT
UID:9a6p@192.168.245.71:3006
SEQUENCE:0
DTSTAMP:20260424T064501Z
DTSTART:20260207T090000Z
DTEND:20260207T104000Z
SUMMARY:Иностранный язык: Русский язык как иностранный
LOCATION:ГЗ 230
END:VEVENT
BEGIN:VEVENT
UID:ya4z@192.168.245.71:3006
SEQUENCE:0
DTSTAMP:20260424T064501Z
DTSTART:20260207T090000Z
DTEND:20260207T104000Z
SUMMARY:Высшая математика повышенной сложности
LOCATION:ГЗ 284
END:VEVENT
BEGIN:VEVENT
UID:mr5g@192.168.245.71:3006
SEQUENCE:0
DTSTAMP:20260424T064501Z
DTSTART:20260207T110000Z
DTEND:20260207T124000Z
SUMMARY:Физика повышенной сложности
LOCATION:ГЗ 283
END:VEVENT
BEGIN:VEVENT
UID:pgg6@192.168.245.71:3006
SEQUENCE:0
DTSTAMP:20260424T064501Z
DTSTART:20260207T130000Z
DTEND:20260207T144000Z
SUMMARY:Введение в профессиональную деятельность
LOCATION:ТВН ВШАиТЭ уч.ауд.№102
END:VEVENT
END:VCALENDAR