BEGIN:VCALENDAR
VERSION:2.0
PRODID:-//spbstu.ru//ical//RU
NAME:Расписание группы 3231302/50003
X-WR-CALNAME:Расписание группы 3231302/50003
TIMEZONE-ID:Europe/Moscow
X-WR-TIMEZONE:Europe/Moscow
BEGIN:VEVENT
UID:6yk1@192.168.245.71:3006
SEQUENCE:0
DTSTAMP:20260424T201237Z
DTSTART:20260420T070000Z
DTEND:20260420T084000Z
SUMMARY:Иностранный язык: Базовый курс
LOCATION:ГЗ 229
END:VEVENT
BEGIN:VEVENT
UID:wx46@192.168.245.71:3006
SEQUENCE:0
DTSTAMP:20260424T201237Z
DTSTART:20260420T090000Z
DTEND:20260420T104000Z
SUMMARY:Физика
LOCATION:ГЗ 155
END:VEVENT
BEGIN:VEVENT
UID:er0l@192.168.245.71:3006
SEQUENCE:0
DTSTAMP:20260424T201237Z
DTSTART:20260420T090000Z
DTEND:20260420T104000Z
SUMMARY:Физика
LOCATION:ГЗ 155
END:VEVENT
BEGIN:VEVENT
UID:8e1p@192.168.245.71:3006
SEQUENCE:0
DTSTAMP:20260424T201237Z
DTSTART:20260420T110000Z
DTEND:20260420T124000Z
SUMMARY:Высшая математика
LOCATION:ГЗ 305
END:VEVENT
BEGIN:VEVENT
UID:l9v5@192.168.245.71:3006
SEQUENCE:0
DTSTAMP:20260424T201237Z
DTSTART:20260421T050000Z
DTEND:20260421T064000Z
SUMMARY:Элективная физическая культура и спорт
LOCATION:СК Секции
END:VEVENT
BEGIN:VEVENT
UID:cs9k@192.168.245.71:3006
SEQUENCE:0
DTSTAMP:20260424T201237Z
DTSTART:20260421T070000Z
DTEND:20260421T084000Z
SUMMARY:Физика
LOCATION:ГЗ 329
END:VEVENT
BEGIN:VEVENT
UID:ieey@192.168.245.71:3006
SEQUENCE:0
DTSTAMP:20260424T201237Z
DTSTART:20260421T090000Z
DTEND:20260421T104000Z
SUMMARY:Физика
LOCATION:ГЗ 226
END:VEVENT
BEGIN:VEVENT
UID:kzar@192.168.245.71:3006
SEQUENCE:0
DTSTAMP:20260424T201237Z
DTSTART:20260421T110000Z
DTEND:20260421T124000Z
SUMMARY:Высшая математика
LOCATION:ГЗ 256
END:VEVENT
BEGIN:VEVENT
UID:9ffk@192.168.245.71:3006
SEQUENCE:0
DTSTAMP:20260424T201237Z
DTSTART:20260422T080000Z
DTEND:20260422T103000Z
SUMMARY:Информатика
LOCATION:17 уч.к. 307
END:VEVENT
BEGIN:VEVENT
UID:w827@192.168.245.71:3006
SEQUENCE:0
DTSTAMP:20260424T201237Z
DTSTART:20260422T110000Z
DTEND:20260422T124000Z
SUMMARY:Электротехника
LOCATION:ГЗ 329
END:VEVENT
BEGIN:VEVENT
UID:5q3u@192.168.245.71:3006
SEQUENCE:0
DTSTAMP:20260424T201237Z
DTSTART:20260422T130000Z
DTEND:20260422T144000Z
SUMMARY:Информатика
LOCATION:ГЗ 282
END:VEVENT
BEGIN:VEVENT
UID:5gpa@192.168.245.71:3006
SEQUENCE:0
DTSTAMP:20260424T201237Z
DTSTART:20260423T070000Z
DTEND:20260423T084000Z
SUMMARY:Химия
LOCATION:Хим. к. 52
END:VEVENT
BEGIN:VEVENT
UID:85e7@192.168.245.71:3006
SEQUENCE:0
DTSTAMP:20260424T201237Z
DTSTART:20260423T110000Z
DTEND:20260423T124000Z
SUMMARY:Инженерная графика
LOCATION:ГЗ 304
END:VEVENT
BEGIN:VEVENT
UID:o87f@192.168.245.71:3006
SEQUENCE:0
DTSTAMP:20260424T201237Z
DTSTART:20260424T050000Z
DTEND:20260424T064000Z
SUMMARY:Иностранный язык: Русский язык как иностранный
LOCATION:3 к. 501
END:VEVENT
BEGIN:VEVENT
UID:l7iz@192.168.245.71:3006
SEQUENCE:0
DTSTAMP:20260424T201237Z
DTSTART:20260424T070000Z
DTEND:20260424T084000Z
SUMMARY:Элективная физическая культура и спорт
LOCATION:СК Секции
END:VEVENT
BEGIN:VEVENT
UID:apwz@192.168.245.71:3006
SEQUENCE:0
DTSTAMP:20260424T201237Z
DTSTART:20260424T110000Z
DTEND:20260424T135000Z
SUMMARY:Электротехника
LOCATION:17 уч.к. 314
END:VEVENT
BEGIN:VEVENT
UID:4sa3@192.168.245.71:3006
SEQUENCE:0
DTSTAMP:20260424T201237Z
DTSTART:20260424T110000Z
DTEND:20260424T135000Z
SUMMARY:Электротехника
LOCATION:17 уч.к. 310
END:VEVENT
BEGIN:VEVENT
UID:x18c@192.168.245.71:3006
SEQUENCE:0
DTSTAMP:20260424T201237Z
DTSTART:20260424T140000Z
DTEND:20260424T154000Z
SUMMARY:Лабораторный практикум по электротехнике
LOCATION:17 уч.к. 104
END:VEVENT
BEGIN:VEVENT
UID:dz6j@192.168.245.71:3006
SEQUENCE:0
DTSTAMP:20260424T201237Z
DTSTART:20260425T090000Z
DTEND:20260425T104000Z
SUMMARY:Химия
LOCATION:Хим. к. 10
END:VEVENT
BEGIN:VEVENT
UID:necn@192.168.245.71:3006
SEQUENCE:0
DTSTAMP:20260424T201237Z
DTSTART:20260425T110000Z
DTEND:20260425T114000Z
SUMMARY:Химия
LOCATION:Хим. к. 10
END:VEVENT
BEGIN:VEVENT
UID:lyvn@192.168.245.71:3006
SEQUENCE:0
DTSTAMP:20260424T201237Z
DTSTART:20260425T110000Z
DTEND:20260425T114000Z
SUMMARY:Химия
LOCATION:Хим. к. 10
END:VEVENT
BEGIN:VEVENT
UID:6lvt@192.168.245.71:3006
SEQUENCE:0
DTSTAMP:20260424T201237Z
DTSTART:20260425T120000Z
DTEND:20260425T134000Z
SUMMARY:Факультатив по математике
LOCATION:ГЗ 182
END:VEVENT
BEGIN:VEVENT
UID:54dw@192.168.245.71:3006
SEQUENCE:0
DTSTAMP:20260424T201237Z
DTSTART:20260425T130000Z
DTEND:20260425T144000Z
SUMMARY:Иностранный язык: Русский язык как иностранный
LOCATION:3 к. 501
END:VEVENT
END:VCALENDAR