BEGIN:VCALENDAR
VERSION:2.0
PRODID:-//spbstu.ru//ical//RU
NAME:Расписание группы 3231303/50003
X-WR-CALNAME:Расписание группы 3231303/50003
TIMEZONE-ID:Europe/Moscow
X-WR-TIMEZONE:Europe/Moscow
BEGIN:VEVENT
UID:wx6s@192.168.245.71:3006
SEQUENCE:0
DTSTAMP:20260421T040913Z
DTSTART:20260310T050000Z
DTEND:20260310T064000Z
SUMMARY:Элективная физическая культура и спорт
LOCATION:СК Секции
END:VEVENT
BEGIN:VEVENT
UID:oevf@192.168.245.71:3006
SEQUENCE:0
DTSTAMP:20260421T040913Z
DTSTART:20260310T070000Z
DTEND:20260310T084000Z
SUMMARY:Материаловедение
LOCATION:ГЗ 283
END:VEVENT
BEGIN:VEVENT
UID:qt20@192.168.245.71:3006
SEQUENCE:0
DTSTAMP:20260421T040913Z
DTSTART:20260310T090000Z
DTEND:20260310T104000Z
SUMMARY:Иностранный язык: Базовый курс
LOCATION:ГЗ 230
END:VEVENT
BEGIN:VEVENT
UID:sjty@192.168.245.71:3006
SEQUENCE:0
DTSTAMP:20260421T040913Z
DTSTART:20260310T110000Z
DTEND:20260310T124000Z
SUMMARY:Материаловедение
LOCATION:ГЗ 57
END:VEVENT
BEGIN:VEVENT
UID:2s8s@192.168.245.71:3006
SEQUENCE:0
DTSTAMP:20260421T040913Z
DTSTART:20260310T110000Z
DTEND:20260310T124000Z
SUMMARY:Материаловедение
LOCATION:ГЗ 57
END:VEVENT
BEGIN:VEVENT
UID:kup9@192.168.245.71:3006
SEQUENCE:0
DTSTAMP:20260421T040913Z
DTSTART:20260310T130000Z
DTEND:20260310T150000Z
SUMMARY:Высшая математика
LOCATION:ГЗ 329
END:VEVENT
BEGIN:VEVENT
UID:gc5x@192.168.245.71:3006
SEQUENCE:0
DTSTAMP:20260421T040913Z
DTSTART:20260311T060000Z
DTEND:20260311T064000Z
SUMMARY:Химия
LOCATION:Хим. к. 10
END:VEVENT
BEGIN:VEVENT
UID:xux6@192.168.245.71:3006
SEQUENCE:0
DTSTAMP:20260421T040913Z
DTSTART:20260311T060000Z
DTEND:20260311T064000Z
SUMMARY:Химия
LOCATION:Хим. к. 10
END:VEVENT
BEGIN:VEVENT
UID:9rfe@192.168.245.71:3006
SEQUENCE:0
DTSTAMP:20260421T040913Z
DTSTART:20260311T070000Z
DTEND:20260311T084000Z
SUMMARY:Химия
LOCATION:Хим. к. 10
END:VEVENT
BEGIN:VEVENT
UID:ymvn@192.168.245.71:3006
SEQUENCE:0
DTSTAMP:20260421T040913Z
DTSTART:20260311T090000Z
DTEND:20260311T104000Z
SUMMARY:Физика
LOCATION:ГЗ 224
END:VEVENT
BEGIN:VEVENT
UID:h6dq@192.168.245.71:3006
SEQUENCE:0
DTSTAMP:20260421T040913Z
DTSTART:20260311T110000Z
DTEND:20260311T124000Z
SUMMARY:Инженерная графика
LOCATION:ГЗ 123
END:VEVENT
BEGIN:VEVENT
UID:38su@192.168.245.71:3006
SEQUENCE:0
DTSTAMP:20260421T040913Z
DTSTART:20260311T130000Z
DTEND:20260311T144000Z
SUMMARY:Философия
LOCATION:ГЗ 227
END:VEVENT
BEGIN:VEVENT
UID:v79k@192.168.245.71:3006
SEQUENCE:0
DTSTAMP:20260421T040913Z
DTSTART:20260312T070000Z
DTEND:20260312T084000Z
SUMMARY:Высшая математика
LOCATION:ГЗ 229
END:VEVENT
BEGIN:VEVENT
UID:hyf0@192.168.245.71:3006
SEQUENCE:0
DTSTAMP:20260421T040913Z
DTSTART:20260312T090000Z
DTEND:20260312T104000Z
SUMMARY:Физика
LOCATION:ГЗ 222
END:VEVENT
BEGIN:VEVENT
UID:5ndl@192.168.245.71:3006
SEQUENCE:0
DTSTAMP:20260421T040913Z
DTSTART:20260312T110000Z
DTEND:20260312T124000Z
SUMMARY:Химия
LOCATION:Хим. к. 52
END:VEVENT
BEGIN:VEVENT
UID:kadw@192.168.245.71:3006
SEQUENCE:0
DTSTAMP:20260421T040913Z
DTSTART:20260312T130000Z
DTEND:20260312T144000Z
SUMMARY:Информатика
LOCATION:НИК А2.22
END:VEVENT
BEGIN:VEVENT
UID:4gll@192.168.245.71:3006
SEQUENCE:0
DTSTAMP:20260421T040913Z
DTSTART:20260313T050000Z
DTEND:20260313T064000Z
SUMMARY:Факультатив по основам методологии научных исследований
LOCATION:ГЗ 123
END:VEVENT
BEGIN:VEVENT
UID:hheo@192.168.245.71:3006
SEQUENCE:0
DTSTAMP:20260421T040913Z
DTSTART:20260313T070000Z
DTEND:20260313T084000Z
SUMMARY:Элективная физическая культура и спорт
LOCATION:СК Секции
END:VEVENT
BEGIN:VEVENT
UID:5t1r@192.168.245.71:3006
SEQUENCE:0
DTSTAMP:20260421T040913Z
DTSTART:20260313T090000Z
DTEND:20260313T104000Z
SUMMARY:Информатика
LOCATION:ГЗ 122
END:VEVENT
BEGIN:VEVENT
UID:kyqu@192.168.245.71:3006
SEQUENCE:0
DTSTAMP:20260421T040913Z
DTSTART:20260313T110000Z
DTEND:20260313T124000Z
SUMMARY:Информатика
LOCATION:НИК А2.22
END:VEVENT
BEGIN:VEVENT
UID:cv26@192.168.245.71:3006
SEQUENCE:0
DTSTAMP:20260421T040913Z
DTSTART:20260313T130000Z
DTEND:20260313T144000Z
SUMMARY:История России
LOCATION:ГЗ 244
END:VEVENT
BEGIN:VEVENT
UID:3ntg@192.168.245.71:3006
SEQUENCE:0
DTSTAMP:20260421T040913Z
DTSTART:20260314T060000Z
DTEND:20260314T084000Z
SUMMARY:Физика повышенной сложности
LOCATION:ГЗ 283
END:VEVENT
BEGIN:VEVENT
UID:gky2@192.168.245.71:3006
SEQUENCE:0
DTSTAMP:20260421T040913Z
DTSTART:20260314T070000Z
DTEND:20260314T084000Z
SUMMARY:Иностранный язык: Русский язык как иностранный
LOCATION:ГЗ 230
END:VEVENT
BEGIN:VEVENT
UID:lsau@192.168.245.71:3006
SEQUENCE:0
DTSTAMP:20260421T040913Z
DTSTART:20260314T090000Z
DTEND:20260314T104000Z
SUMMARY:Иностранный язык: Русский язык как иностранный
LOCATION:ГЗ 230
END:VEVENT
BEGIN:VEVENT
UID:a60g@192.168.245.71:3006
SEQUENCE:0
DTSTAMP:20260421T040913Z
DTSTART:20260314T090000Z
DTEND:20260314T104000Z
SUMMARY:Высшая математика повышенной сложности
LOCATION:ГЗ 284
END:VEVENT
BEGIN:VEVENT
UID:n27z@192.168.245.71:3006
SEQUENCE:0
DTSTAMP:20260421T040913Z
DTSTART:20260314T110000Z
DTEND:20260314T124000Z
SUMMARY:Физика повышенной сложности
LOCATION:ГЗ 283
END:VEVENT
END:VCALENDAR