BEGIN:VCALENDAR
VERSION:2.0
PRODID:-//spbstu.ru//ical//RU
NAME:Расписание группы 3231303/50003
X-WR-CALNAME:Расписание группы 3231303/50003
TIMEZONE-ID:Europe/Moscow
X-WR-TIMEZONE:Europe/Moscow
BEGIN:VEVENT
UID:j4x2@192.168.245.71:3006
SEQUENCE:0
DTSTAMP:20260421T090600Z
DTSTART:20260616T070000Z
DTEND:20260616T084000Z
SUMMARY:Высшая математика
LOCATION:ГЗ 224
END:VEVENT
BEGIN:VEVENT
UID:fo6q@192.168.245.71:3006
SEQUENCE:0
DTSTAMP:20260421T090600Z
DTSTART:20260618T070000Z
DTEND:20260618T130000Z
SUMMARY:Высшая математика
LOCATION:ГЗ 224
END:VEVENT
END:VCALENDAR