BEGIN:VCALENDAR
VERSION:2.0
PRODID:-//spbstu.ru//ical//RU
NAME:Расписание группы 3231303/50004
X-WR-CALNAME:Расписание группы 3231303/50004
TIMEZONE-ID:Europe/Moscow
X-WR-TIMEZONE:Europe/Moscow
BEGIN:VEVENT
UID:c1tm@192.168.245.71:3006
SEQUENCE:0
DTSTAMP:20260424T055126Z
DTSTART:20251124T090000Z
DTEND:20251124T104000Z
SUMMARY:Основы цифровых технологий
LOCATION:ТВН ГМ уч.ауд.№304
END:VEVENT
BEGIN:VEVENT
UID:syhx@192.168.245.71:3006
SEQUENCE:0
DTSTAMP:20260424T055126Z
DTSTART:20251124T110000Z
DTEND:20251124T124000Z
SUMMARY:Высшая математика
LOCATION:ГЗ 305
END:VEVENT
BEGIN:VEVENT
UID:kkq1@192.168.245.71:3006
SEQUENCE:0
DTSTAMP:20260424T055126Z
DTSTART:20251125T050000Z
DTEND:20251125T064000Z
SUMMARY:Элективная физическая культура и спорт
LOCATION:СК Секции
END:VEVENT
BEGIN:VEVENT
UID:um8s@192.168.245.71:3006
SEQUENCE:0
DTSTAMP:20260424T055126Z
DTSTART:20251125T090000Z
DTEND:20251125T104000Z
SUMMARY:История России
LOCATION:ГЗ 218
END:VEVENT
BEGIN:VEVENT
UID:8r95@192.168.245.71:3006
SEQUENCE:0
DTSTAMP:20260424T055126Z
DTSTART:20251125T130000Z
DTEND:20251125T144000Z
SUMMARY:Факультатив по физике
LOCATION:ГЗ 329
END:VEVENT
BEGIN:VEVENT
UID:yurd@192.168.245.71:3006
SEQUENCE:0
DTSTAMP:20260424T055126Z
DTSTART:20251126T090000Z
DTEND:20251126T104000Z
SUMMARY:Инженерная графика
LOCATION:ГЗ 239
END:VEVENT
BEGIN:VEVENT
UID:fvve@192.168.245.71:3006
SEQUENCE:0
DTSTAMP:20260424T055126Z
DTSTART:20251126T110000Z
DTEND:20251126T124000Z
SUMMARY:Высшая математика
LOCATION:ГЗ 227
END:VEVENT
BEGIN:VEVENT
UID:aqd7@192.168.245.71:3006
SEQUENCE:0
DTSTAMP:20260424T055126Z
DTSTART:20251126T130000Z
DTEND:20251126T144000Z
SUMMARY:Высшая математика
LOCATION:ГЗ 227
END:VEVENT
BEGIN:VEVENT
UID:i60w@192.168.245.71:3006
SEQUENCE:0
DTSTAMP:20260424T055126Z
DTSTART:20251127T070000Z
DTEND:20251127T084000Z
SUMMARY:Иностранный язык: Базовый курс
LOCATION:ГЗ 228
END:VEVENT
BEGIN:VEVENT
UID:cfvc@192.168.245.71:3006
SEQUENCE:0
DTSTAMP:20260424T055126Z
DTSTART:20251127T090000Z
DTEND:20251127T104000Z
SUMMARY:Машиностроительные САПР
LOCATION:ТВН ГМ уч.ауд.№304
END:VEVENT
BEGIN:VEVENT
UID:nx6o@192.168.245.71:3006
SEQUENCE:0
DTSTAMP:20260424T055126Z
DTSTART:20251127T110000Z
DTEND:20251127T124000Z
SUMMARY:Введение в профессиональную деятельность
LOCATION:ГЗ 224
END:VEVENT
BEGIN:VEVENT
UID:bfgl@192.168.245.71:3006
SEQUENCE:0
DTSTAMP:20260424T055126Z
DTSTART:20251127T130000Z
DTEND:20251127T144000Z
SUMMARY:Основы цифровых технологий
LOCATION:ГЗ 224
END:VEVENT
BEGIN:VEVENT
UID:e72v@192.168.245.71:3006
SEQUENCE:0
DTSTAMP:20260424T055126Z
DTSTART:20251127T150000Z
DTEND:20251127T170000Z
SUMMARY:Факультатив по физике повышенной сложности
LOCATION:ГЗ 329
END:VEVENT
BEGIN:VEVENT
UID:0frs@192.168.245.71:3006
SEQUENCE:0
DTSTAMP:20260424T055126Z
DTSTART:20251128T070000Z
DTEND:20251128T084000Z
SUMMARY:Элективная физическая культура и спорт
LOCATION:СК Секции
END:VEVENT
BEGIN:VEVENT
UID:bz0c@192.168.245.71:3006
SEQUENCE:0
DTSTAMP:20260424T055126Z
DTSTART:20251128T090000Z
DTEND:20251128T104000Z
SUMMARY:Высшая математика
LOCATION:ГЗ 122
END:VEVENT
BEGIN:VEVENT
UID:yw5u@192.168.245.71:3006
SEQUENCE:0
DTSTAMP:20260424T055126Z
DTSTART:20251128T110000Z
DTEND:20251128T124000Z
SUMMARY:Основы российской государственности
LOCATION:ГЗ 226
END:VEVENT
BEGIN:VEVENT
UID:9gel@192.168.245.71:3006
SEQUENCE:0
DTSTAMP:20260424T055126Z
DTSTART:20251128T130000Z
DTEND:20251128T153000Z
SUMMARY:Высшая математика повышенной сложности
LOCATION:ГЗ 253
END:VEVENT
BEGIN:VEVENT
UID:ny50@192.168.245.71:3006
SEQUENCE:0
DTSTAMP:20260424T055126Z
DTSTART:20251129T070000Z
DTEND:20251129T084000Z
SUMMARY:Иностранный язык: Русский язык как иностранный
LOCATION:ГЗ 284
END:VEVENT
BEGIN:VEVENT
UID:oekt@192.168.245.71:3006
SEQUENCE:0
DTSTAMP:20260424T055126Z
DTSTART:20251129T090000Z
DTEND:20251129T104000Z
SUMMARY:Иностранный язык: Русский язык как иностранный
LOCATION:ГЗ 284
END:VEVENT
BEGIN:VEVENT
UID:hqms@192.168.245.71:3006
SEQUENCE:0
DTSTAMP:20260424T055126Z
DTSTART:20251129T110000Z
DTEND:20251129T133000Z
SUMMARY:Русский язык как иностранный
LOCATION:15 к. 705
END:VEVENT
END:VCALENDAR