BEGIN:VCALENDAR
VERSION:2.0
PRODID:-//spbstu.ru//ical//RU
NAME:Расписание группы 3231303/50004
X-WR-CALNAME:Расписание группы 3231303/50004
TIMEZONE-ID:Europe/Moscow
X-WR-TIMEZONE:Europe/Moscow
BEGIN:VEVENT
UID:401v@192.168.245.71:3006
SEQUENCE:0
DTSTAMP:20260424T000452Z
DTSTART:20251215T110000Z
DTEND:20251215T124000Z
SUMMARY:Творческие семестры
LOCATION:ГЗ Белый зал
END:VEVENT
BEGIN:VEVENT
UID:zdcv@192.168.245.71:3006
SEQUENCE:0
DTSTAMP:20260424T000452Z
DTSTART:20251216T070000Z
DTEND:20251216T084000Z
SUMMARY:Основы российской государственности
LOCATION:ГЗ 122
END:VEVENT
BEGIN:VEVENT
UID:rzut@192.168.245.71:3006
SEQUENCE:0
DTSTAMP:20260424T000452Z
DTSTART:20251216T090000Z
DTEND:20251216T104000Z
SUMMARY:История России
LOCATION:ГЗ 218
END:VEVENT
BEGIN:VEVENT
UID:j4xz@192.168.245.71:3006
SEQUENCE:0
DTSTAMP:20260424T000452Z
DTSTART:20251216T130000Z
DTEND:20251216T144000Z
SUMMARY:Факультатив по математике
LOCATION:ГЗ 225
END:VEVENT
BEGIN:VEVENT
UID:vrc2@192.168.245.71:3006
SEQUENCE:0
DTSTAMP:20260424T000452Z
DTSTART:20251217T070000Z
DTEND:20251217T100000Z
SUMMARY:Творческие семестры
LOCATION:DL Дистанционно
END:VEVENT
BEGIN:VEVENT
UID:mlzq@192.168.245.71:3006
SEQUENCE:0
DTSTAMP:20260424T000452Z
DTSTART:20251217T110000Z
DTEND:20251217T140000Z
SUMMARY:Иностранный язык: Русский язык как иностранный
LOCATION:ГЗ 230
END:VEVENT
BEGIN:VEVENT
UID:wxaj@192.168.245.71:3006
SEQUENCE:0
DTSTAMP:20260424T000452Z
DTSTART:20251218T100000Z
DTEND:20251218T130000Z
SUMMARY:Иностранный язык: Базовый курс
LOCATION:ГЗ 221
END:VEVENT
BEGIN:VEVENT
UID:1gbi@192.168.245.71:3006
SEQUENCE:0
DTSTAMP:20260424T000452Z
DTSTART:20251219T110000Z
DTEND:20251219T124000Z
SUMMARY:Высшая математика
LOCATION:ГЗ 224
END:VEVENT
BEGIN:VEVENT
UID:qscy@192.168.245.71:3006
SEQUENCE:0
DTSTAMP:20260424T000452Z
DTSTART:20251220T070000Z
DTEND:20251220T110000Z
SUMMARY:Инженерная графика
LOCATION:ГЗ 304
END:VEVENT
END:VCALENDAR