BEGIN:VCALENDAR
VERSION:2.0
PRODID:-//spbstu.ru//ical//RU
NAME:Расписание группы 3231303/50005
X-WR-CALNAME:Расписание группы 3231303/50005
TIMEZONE-ID:Europe/Moscow
X-WR-TIMEZONE:Europe/Moscow
BEGIN:VEVENT
UID:bodj@192.168.245.71:3006
SEQUENCE:0
DTSTAMP:20260425T134719Z
DTSTART:20250922T070000Z
DTEND:20250922T084000Z
SUMMARY:Высшая математика
LOCATION:ГЗ 227
END:VEVENT
BEGIN:VEVENT
UID:ynqy@192.168.245.71:3006
SEQUENCE:0
DTSTAMP:20260425T134719Z
DTSTART:20250922T090000Z
DTEND:20250922T104000Z
SUMMARY:Инженерная графика
LOCATION:ГЗ 228
END:VEVENT
BEGIN:VEVENT
UID:rd9f@192.168.245.71:3006
SEQUENCE:0
DTSTAMP:20260425T134719Z
DTSTART:20250922T110000Z
DTEND:20250922T124000Z
SUMMARY:Творческие семестры
LOCATION:ГЗ Белый зал
END:VEVENT
BEGIN:VEVENT
UID:tw7t@192.168.245.71:3006
SEQUENCE:0
DTSTAMP:20260425T134719Z
DTSTART:20250923T050000Z
DTEND:20250923T064000Z
SUMMARY:Элективная физическая культура и спорт
LOCATION:СК Секции
END:VEVENT
BEGIN:VEVENT
UID:d3b7@192.168.245.71:3006
SEQUENCE:0
DTSTAMP:20260425T134719Z
DTSTART:20250923T070000Z
DTEND:20250923T084000Z
SUMMARY:Основы российской государственности
LOCATION:ГЗ Белый зал
END:VEVENT
BEGIN:VEVENT
UID:fuse@192.168.245.71:3006
SEQUENCE:0
DTSTAMP:20260425T134719Z
DTSTART:20250923T090000Z
DTEND:20250923T104000Z
SUMMARY:Высшая математика
LOCATION:ГЗ 226
END:VEVENT
BEGIN:VEVENT
UID:sld3@192.168.245.71:3006
SEQUENCE:0
DTSTAMP:20260425T134719Z
DTSTART:20250923T110000Z
DTEND:20250923T124000Z
SUMMARY:Тестирование по физике
LOCATION:ГЗ 325
END:VEVENT
BEGIN:VEVENT
UID:gmpj@192.168.245.71:3006
SEQUENCE:0
DTSTAMP:20260425T134719Z
DTSTART:20250923T130000Z
DTEND:20250923T144000Z
SUMMARY:Факультатив по математике
LOCATION:ГЗ 329
END:VEVENT
BEGIN:VEVENT
UID:m37r@192.168.245.71:3006
SEQUENCE:0
DTSTAMP:20260425T134719Z
DTSTART:20250924T090000Z
DTEND:20250924T104000Z
SUMMARY:История России
LOCATION:ГЗ 244
END:VEVENT
BEGIN:VEVENT
UID:6yuz@192.168.245.71:3006
SEQUENCE:0
DTSTAMP:20260425T134719Z
DTSTART:20250924T110000Z
DTEND:20250924T124000Z
SUMMARY:Основы российской государственности
LOCATION:ГЗ 230
END:VEVENT
BEGIN:VEVENT
UID:1uye@192.168.245.71:3006
SEQUENCE:0
DTSTAMP:20260425T134719Z
DTSTART:20250924T130000Z
DTEND:20250924T144000Z
SUMMARY:Инженерная графика
LOCATION:ГЗ 305
END:VEVENT
BEGIN:VEVENT
UID:vf1m@192.168.245.71:3006
SEQUENCE:0
DTSTAMP:20260425T134719Z
DTSTART:20250925T070000Z
DTEND:20250925T084000Z
SUMMARY:Машиностроительные САПР
LOCATION:ТВН ГМ уч.ауд.№304
END:VEVENT
BEGIN:VEVENT
UID:2dal@192.168.245.71:3006
SEQUENCE:0
DTSTAMP:20260425T134719Z
DTSTART:20250925T090000Z
DTEND:20250925T104000Z
SUMMARY:Экономическая культура
LOCATION:ГЗ 281
END:VEVENT
BEGIN:VEVENT
UID:t6jx@192.168.245.71:3006
SEQUENCE:0
DTSTAMP:20260425T134719Z
DTSTART:20250925T110000Z
DTEND:20250925T124000Z
SUMMARY:Введение в профессиональную деятельность
LOCATION:ГЗ 224
END:VEVENT
BEGIN:VEVENT
UID:98o0@192.168.245.71:3006
SEQUENCE:0
DTSTAMP:20260425T134719Z
DTSTART:20250926T070000Z
DTEND:20250926T084000Z
SUMMARY:Элективная физическая культура и спорт
LOCATION:СК Секции
END:VEVENT
BEGIN:VEVENT
UID:lmpx@192.168.245.71:3006
SEQUENCE:0
DTSTAMP:20260425T134719Z
DTSTART:20250926T090000Z
DTEND:20250926T104000Z
SUMMARY:Высшая математика
LOCATION:ГЗ 122
END:VEVENT
BEGIN:VEVENT
UID:li0e@192.168.245.71:3006
SEQUENCE:0
DTSTAMP:20260425T134719Z
DTSTART:20250926T110000Z
DTEND:20250926T124000Z
SUMMARY:Иностранный язык: Базовый курс
LOCATION:ГЗ 228
END:VEVENT
BEGIN:VEVENT
UID:bzq6@192.168.245.71:3006
SEQUENCE:0
DTSTAMP:20260425T134719Z
DTSTART:20250927T070000Z
DTEND:20250927T084000Z
SUMMARY:Иностранный язык: Русский язык как иностранный
LOCATION:ГЗ 284
END:VEVENT
BEGIN:VEVENT
UID:64dx@192.168.245.71:3006
SEQUENCE:0
DTSTAMP:20260425T134719Z
DTSTART:20250927T090000Z
DTEND:20250927T104000Z
SUMMARY:Иностранный язык: Русский язык как иностранный
LOCATION:ГЗ 284
END:VEVENT
END:VCALENDAR