BEGIN:VCALENDAR
VERSION:2.0
PRODID:-//spbstu.ru//ical//RU
NAME:Расписание группы 3231303/50005
X-WR-CALNAME:Расписание группы 3231303/50005
TIMEZONE-ID:Europe/Moscow
X-WR-TIMEZONE:Europe/Moscow
BEGIN:VEVENT
UID:ijh0@192.168.245.71:3006
SEQUENCE:0
DTSTAMP:20260421T174716Z
DTSTART:20260112T090000Z
DTEND:20260112T104000Z
SUMMARY:Физическая культура
LOCATION:ГЗ 122
END:VEVENT
BEGIN:VEVENT
UID:xfzx@192.168.245.71:3006
SEQUENCE:0
DTSTAMP:20260421T174716Z
DTSTART:20260113T070000Z
DTEND:20260113T110000Z
SUMMARY:Экономическая культура
LOCATION:ГЗ 222
END:VEVENT
BEGIN:VEVENT
UID:rxz2@192.168.245.71:3006
SEQUENCE:0
DTSTAMP:20260421T174716Z
DTSTART:20260115T070000Z
DTEND:20260115T110000Z
SUMMARY:Инженерная графика
LOCATION:ГЗ 223
END:VEVENT
BEGIN:VEVENT
UID:qzgp@192.168.245.71:3006
SEQUENCE:0
DTSTAMP:20260421T174716Z
DTSTART:20260117T070000Z
DTEND:20260117T110000Z
SUMMARY:Машиностроительные САПР
LOCATION:ТВН ГМ уч.ауд.№304
END:VEVENT
END:VCALENDAR