BEGIN:VCALENDAR
VERSION:2.0
PRODID:-//spbstu.ru//ical//RU
NAME:Расписание группы 3231303/50005
X-WR-CALNAME:Расписание группы 3231303/50005
TIMEZONE-ID:Europe/Moscow
X-WR-TIMEZONE:Europe/Moscow
BEGIN:VEVENT
UID:x8sy@192.168.245.71:3006
SEQUENCE:0
DTSTAMP:20260421T054649Z
DTSTART:20260302T070000Z
DTEND:20260302T084000Z
SUMMARY:Инженерная графика
LOCATION:ГЗ 123
END:VEVENT
BEGIN:VEVENT
UID:7ixd@192.168.245.71:3006
SEQUENCE:0
DTSTAMP:20260421T054649Z
DTSTART:20260302T090000Z
DTEND:20260302T104000Z
SUMMARY:История России
LOCATION:ГЗ Белый зал
END:VEVENT
BEGIN:VEVENT
UID:56yp@192.168.245.71:3006
SEQUENCE:0
DTSTAMP:20260421T054649Z
DTSTART:20260302T110000Z
DTEND:20260302T124000Z
SUMMARY:Высшая математика
LOCATION:ГЗ 122
END:VEVENT
BEGIN:VEVENT
UID:24gl@192.168.245.71:3006
SEQUENCE:0
DTSTAMP:20260421T054649Z
DTSTART:20260303T050000Z
DTEND:20260303T064000Z
SUMMARY:Элективная физическая культура и спорт
LOCATION:СК Секции
END:VEVENT
BEGIN:VEVENT
UID:z1bc@192.168.245.71:3006
SEQUENCE:0
DTSTAMP:20260421T054649Z
DTSTART:20260303T070000Z
DTEND:20260303T084000Z
SUMMARY:Материаловедение
LOCATION:ГЗ 283
END:VEVENT
BEGIN:VEVENT
UID:yje2@192.168.245.71:3006
SEQUENCE:0
DTSTAMP:20260421T054649Z
DTSTART:20260303T090000Z
DTEND:20260303T104000Z
SUMMARY:Высшая математика
LOCATION:ГЗ 229
END:VEVENT
BEGIN:VEVENT
UID:bk4h@192.168.245.71:3006
SEQUENCE:0
DTSTAMP:20260421T054649Z
DTSTART:20260303T110000Z
DTEND:20260303T124000Z
SUMMARY:Материаловедение
LOCATION:ГЗ 57
END:VEVENT
BEGIN:VEVENT
UID:a1lw@192.168.245.71:3006
SEQUENCE:0
DTSTAMP:20260421T054649Z
DTSTART:20260303T110000Z
DTEND:20260303T124000Z
SUMMARY:Материаловедение
LOCATION:ГЗ 57
END:VEVENT
BEGIN:VEVENT
UID:dt8y@192.168.245.71:3006
SEQUENCE:0
DTSTAMP:20260421T054649Z
DTSTART:20260303T150000Z
DTEND:20260303T164000Z
SUMMARY:Философия
LOCATION:DL Дистанционно
END:VEVENT
BEGIN:VEVENT
UID:tov6@192.168.245.71:3006
SEQUENCE:0
DTSTAMP:20260421T054649Z
DTSTART:20260304T060000Z
DTEND:20260304T064000Z
SUMMARY:Химия
LOCATION:Хим. к. 10
END:VEVENT
BEGIN:VEVENT
UID:jax8@192.168.245.71:3006
SEQUENCE:0
DTSTAMP:20260421T054649Z
DTSTART:20260304T060000Z
DTEND:20260304T064000Z
SUMMARY:Химия
LOCATION:Хим. к. 10
END:VEVENT
BEGIN:VEVENT
UID:3lro@192.168.245.71:3006
SEQUENCE:0
DTSTAMP:20260421T054649Z
DTSTART:20260304T070000Z
DTEND:20260304T084000Z
SUMMARY:Химия
LOCATION:Хим. к. 10
END:VEVENT
BEGIN:VEVENT
UID:shyo@192.168.245.71:3006
SEQUENCE:0
DTSTAMP:20260421T054649Z
DTSTART:20260304T090000Z
DTEND:20260304T104000Z
SUMMARY:Физика
LOCATION:ГЗ 224
END:VEVENT
BEGIN:VEVENT
UID:eqkc@192.168.245.71:3006
SEQUENCE:0
DTSTAMP:20260421T054649Z
DTSTART:20260304T110000Z
DTEND:20260304T133000Z
SUMMARY:Информатика
LOCATION:ТВН ГМ уч.ауд.№201
END:VEVENT
BEGIN:VEVENT
UID:sah9@192.168.245.71:3006
SEQUENCE:0
DTSTAMP:20260421T054649Z
DTSTART:20260304T150000Z
DTEND:20260304T164000Z
SUMMARY:Иностранный язык: Базовый курс
LOCATION:ГЗ 284
END:VEVENT
BEGIN:VEVENT
UID:3lug@192.168.245.71:3006
SEQUENCE:0
DTSTAMP:20260421T054649Z
DTSTART:20260305T070000Z
DTEND:20260305T084000Z
SUMMARY:Физика
LOCATION:ГЗ 222
END:VEVENT
BEGIN:VEVENT
UID:z5la@192.168.245.71:3006
SEQUENCE:0
DTSTAMP:20260421T054649Z
DTSTART:20260305T090000Z
DTEND:20260305T104000Z
SUMMARY:Иностранный язык: Базовый курс
LOCATION:ГЗ 240
END:VEVENT
BEGIN:VEVENT
UID:733z@192.168.245.71:3006
SEQUENCE:0
DTSTAMP:20260421T054649Z
DTSTART:20260305T110000Z
DTEND:20260305T124000Z
SUMMARY:Химия
LOCATION:Хим. к. 52
END:VEVENT
BEGIN:VEVENT
UID:3lks@192.168.245.71:3006
SEQUENCE:0
DTSTAMP:20260421T054649Z
DTSTART:20260305T130000Z
DTEND:20260305T144000Z
SUMMARY:Инженерная графика
LOCATION:ГЗ 283
END:VEVENT
BEGIN:VEVENT
UID:wprs@192.168.245.71:3006
SEQUENCE:0
DTSTAMP:20260421T054649Z
DTSTART:20260306T070000Z
DTEND:20260306T084000Z
SUMMARY:Элективная физическая культура и спорт
LOCATION:СК Секции
END:VEVENT
BEGIN:VEVENT
UID:xub0@192.168.245.71:3006
SEQUENCE:0
DTSTAMP:20260421T054649Z
DTSTART:20260306T090000Z
DTEND:20260306T104000Z
SUMMARY:Информатика
LOCATION:ГЗ 122
END:VEVENT
BEGIN:VEVENT
UID:r5s5@192.168.245.71:3006
SEQUENCE:0
DTSTAMP:20260421T054649Z
DTSTART:20260306T110000Z
DTEND:20260306T124000Z
SUMMARY:Компьютерные технологии
LOCATION:ТВН ГМ уч.ауд.№304
END:VEVENT
BEGIN:VEVENT
UID:ffka@192.168.245.71:3006
SEQUENCE:0
DTSTAMP:20260421T054649Z
DTSTART:20260306T130000Z
DTEND:20260306T144000Z
SUMMARY:История России
LOCATION:ГЗ 244
END:VEVENT
BEGIN:VEVENT
UID:7io9@192.168.245.71:3006
SEQUENCE:0
DTSTAMP:20260421T054649Z
DTSTART:20260307T060000Z
DTEND:20260307T084000Z
SUMMARY:Физика повышенной сложности
LOCATION:ГЗ 283
END:VEVENT
BEGIN:VEVENT
UID:dqjq@192.168.245.71:3006
SEQUENCE:0
DTSTAMP:20260421T054649Z
DTSTART:20260307T070000Z
DTEND:20260307T084000Z
SUMMARY:Иностранный язык: Русский язык как иностранный
LOCATION:ГЗ 230
END:VEVENT
BEGIN:VEVENT
UID:vv51@192.168.245.71:3006
SEQUENCE:0
DTSTAMP:20260421T054649Z
DTSTART:20260307T090000Z
DTEND:20260307T104000Z
SUMMARY:Иностранный язык: Русский язык как иностранный
LOCATION:ГЗ 230
END:VEVENT
BEGIN:VEVENT
UID:4c2y@192.168.245.71:3006
SEQUENCE:0
DTSTAMP:20260421T054649Z
DTSTART:20260307T090000Z
DTEND:20260307T104000Z
SUMMARY:Высшая математика повышенной сложности
LOCATION:ГЗ 284
END:VEVENT
BEGIN:VEVENT
UID:q34x@192.168.245.71:3006
SEQUENCE:0
DTSTAMP:20260421T054649Z
DTSTART:20260307T110000Z
DTEND:20260307T124000Z
SUMMARY:Физика повышенной сложности
LOCATION:ГЗ 283
END:VEVENT
END:VCALENDAR