BEGIN:VCALENDAR
VERSION:2.0
PRODID:-//spbstu.ru//ical//RU
NAME:Расписание группы 3231303/50005
X-WR-CALNAME:Расписание группы 3231303/50005
TIMEZONE-ID:Europe/Moscow
X-WR-TIMEZONE:Europe/Moscow
BEGIN:VEVENT
UID:0xxz@192.168.245.71:3006
SEQUENCE:0
DTSTAMP:20260421T003418Z
DTSTART:20260330T070000Z
DTEND:20260330T084000Z
SUMMARY:Инженерная графика
LOCATION:ГЗ 123
END:VEVENT
BEGIN:VEVENT
UID:k2sh@192.168.245.71:3006
SEQUENCE:0
DTSTAMP:20260421T003418Z
DTSTART:20260330T090000Z
DTEND:20260330T104000Z
SUMMARY:История России
LOCATION:ГЗ Белый зал
END:VEVENT
BEGIN:VEVENT
UID:0oro@192.168.245.71:3006
SEQUENCE:0
DTSTAMP:20260421T003418Z
DTSTART:20260330T110000Z
DTEND:20260330T124000Z
SUMMARY:Высшая математика
LOCATION:ГЗ 122
END:VEVENT
BEGIN:VEVENT
UID:8qvz@192.168.245.71:3006
SEQUENCE:0
DTSTAMP:20260421T003418Z
DTSTART:20260331T050000Z
DTEND:20260331T064000Z
SUMMARY:Элективная физическая культура и спорт
LOCATION:СК Секции
END:VEVENT
BEGIN:VEVENT
UID:ptxp@192.168.245.71:3006
SEQUENCE:0
DTSTAMP:20260421T003418Z
DTSTART:20260331T070000Z
DTEND:20260331T084000Z
SUMMARY:Материаловедение
LOCATION:ГЗ 283
END:VEVENT
BEGIN:VEVENT
UID:hats@192.168.245.71:3006
SEQUENCE:0
DTSTAMP:20260421T003418Z
DTSTART:20260331T090000Z
DTEND:20260331T104000Z
SUMMARY:Высшая математика
LOCATION:ГЗ 229
END:VEVENT
BEGIN:VEVENT
UID:r9gw@192.168.245.71:3006
SEQUENCE:0
DTSTAMP:20260421T003418Z
DTSTART:20260331T110000Z
DTEND:20260331T124000Z
SUMMARY:Материаловедение
LOCATION:ГЗ 57
END:VEVENT
BEGIN:VEVENT
UID:5tow@192.168.245.71:3006
SEQUENCE:0
DTSTAMP:20260421T003418Z
DTSTART:20260331T110000Z
DTEND:20260331T124000Z
SUMMARY:Материаловедение
LOCATION:ГЗ 57
END:VEVENT
BEGIN:VEVENT
UID:kwae@192.168.245.71:3006
SEQUENCE:0
DTSTAMP:20260421T003418Z
DTSTART:20260401T060000Z
DTEND:20260401T064000Z
SUMMARY:Химия
LOCATION:Хим. к. 10
END:VEVENT
BEGIN:VEVENT
UID:s74p@192.168.245.71:3006
SEQUENCE:0
DTSTAMP:20260421T003418Z
DTSTART:20260401T060000Z
DTEND:20260401T064000Z
SUMMARY:Химия
LOCATION:Хим. к. 10
END:VEVENT
BEGIN:VEVENT
UID:0ykc@192.168.245.71:3006
SEQUENCE:0
DTSTAMP:20260421T003418Z
DTSTART:20260401T070000Z
DTEND:20260401T084000Z
SUMMARY:Химия
LOCATION:Хим. к. 10
END:VEVENT
BEGIN:VEVENT
UID:bnhh@192.168.245.71:3006
SEQUENCE:0
DTSTAMP:20260421T003418Z
DTSTART:20260401T090000Z
DTEND:20260401T104000Z
SUMMARY:Физика
LOCATION:ГЗ 224
END:VEVENT
BEGIN:VEVENT
UID:f30s@192.168.245.71:3006
SEQUENCE:0
DTSTAMP:20260421T003418Z
DTSTART:20260401T110000Z
DTEND:20260401T133000Z
SUMMARY:Информатика
LOCATION:ТВН ГМ уч.ауд.№201
END:VEVENT
BEGIN:VEVENT
UID:bbhi@192.168.245.71:3006
SEQUENCE:0
DTSTAMP:20260421T003418Z
DTSTART:20260402T070000Z
DTEND:20260402T084000Z
SUMMARY:Физика
LOCATION:ГЗ 222
END:VEVENT
BEGIN:VEVENT
UID:a5v7@192.168.245.71:3006
SEQUENCE:0
DTSTAMP:20260421T003418Z
DTSTART:20260402T090000Z
DTEND:20260402T104000Z
SUMMARY:Иностранный язык: Базовый курс
LOCATION:ГЗ 240
END:VEVENT
BEGIN:VEVENT
UID:lvo5@192.168.245.71:3006
SEQUENCE:0
DTSTAMP:20260421T003418Z
DTSTART:20260402T110000Z
DTEND:20260402T124000Z
SUMMARY:Химия
LOCATION:Хим. к. 52
END:VEVENT
BEGIN:VEVENT
UID:ms20@192.168.245.71:3006
SEQUENCE:0
DTSTAMP:20260421T003418Z
DTSTART:20260403T070000Z
DTEND:20260403T084000Z
SUMMARY:Элективная физическая культура и спорт
LOCATION:СК Секции
END:VEVENT
BEGIN:VEVENT
UID:fqbo@192.168.245.71:3006
SEQUENCE:0
DTSTAMP:20260421T003418Z
DTSTART:20260403T090000Z
DTEND:20260403T104000Z
SUMMARY:Информатика
LOCATION:ГЗ 122
END:VEVENT
BEGIN:VEVENT
UID:us75@192.168.245.71:3006
SEQUENCE:0
DTSTAMP:20260421T003418Z
DTSTART:20260403T110000Z
DTEND:20260403T124000Z
SUMMARY:Компьютерные технологии
LOCATION:ТВН ГМ уч.ауд.№304
END:VEVENT
BEGIN:VEVENT
UID:4qp1@192.168.245.71:3006
SEQUENCE:0
DTSTAMP:20260421T003418Z
DTSTART:20260403T130000Z
DTEND:20260403T144000Z
SUMMARY:История России
LOCATION:ГЗ 244
END:VEVENT
BEGIN:VEVENT
UID:rm5z@192.168.245.71:3006
SEQUENCE:0
DTSTAMP:20260421T003418Z
DTSTART:20260404T060000Z
DTEND:20260404T084000Z
SUMMARY:Физика повышенной сложности
LOCATION:ГЗ 283
END:VEVENT
BEGIN:VEVENT
UID:2hzg@192.168.245.71:3006
SEQUENCE:0
DTSTAMP:20260421T003418Z
DTSTART:20260404T070000Z
DTEND:20260404T084000Z
SUMMARY:Иностранный язык: Русский язык как иностранный
LOCATION:ГЗ 230
END:VEVENT
BEGIN:VEVENT
UID:v1p2@192.168.245.71:3006
SEQUENCE:0
DTSTAMP:20260421T003418Z
DTSTART:20260404T090000Z
DTEND:20260404T104000Z
SUMMARY:Иностранный язык: Русский язык как иностранный
LOCATION:ГЗ 230
END:VEVENT
BEGIN:VEVENT
UID:v4m8@192.168.245.71:3006
SEQUENCE:0
DTSTAMP:20260421T003418Z
DTSTART:20260404T090000Z
DTEND:20260404T104000Z
SUMMARY:Высшая математика повышенной сложности
LOCATION:ГЗ 284
END:VEVENT
BEGIN:VEVENT
UID:cntf@192.168.245.71:3006
SEQUENCE:0
DTSTAMP:20260421T003418Z
DTSTART:20260404T110000Z
DTEND:20260404T124000Z
SUMMARY:Физика повышенной сложности
LOCATION:ГЗ 283
END:VEVENT
END:VCALENDAR