BEGIN:VCALENDAR
VERSION:2.0
PRODID:-//spbstu.ru//ical//RU
NAME:Расписание группы 3231303/50005
X-WR-CALNAME:Расписание группы 3231303/50005
TIMEZONE-ID:Europe/Moscow
X-WR-TIMEZONE:Europe/Moscow
BEGIN:VEVENT
UID:v1fi@192.168.245.71:3006
SEQUENCE:0
DTSTAMP:20260420T210635Z
DTSTART:20260504T070000Z
DTEND:20260504T084000Z
SUMMARY:Инженерная графика
LOCATION:ГЗ 123
END:VEVENT
BEGIN:VEVENT
UID:ala7@192.168.245.71:3006
SEQUENCE:0
DTSTAMP:20260420T210635Z
DTSTART:20260504T090000Z
DTEND:20260504T104000Z
SUMMARY:Физика
LOCATION:ГЗ 215
END:VEVENT
BEGIN:VEVENT
UID:yppp@192.168.245.71:3006
SEQUENCE:0
DTSTAMP:20260420T210635Z
DTSTART:20260504T110000Z
DTEND:20260504T124000Z
SUMMARY:Высшая математика
LOCATION:ГЗ 122
END:VEVENT
BEGIN:VEVENT
UID:csko@192.168.245.71:3006
SEQUENCE:0
DTSTAMP:20260420T210635Z
DTSTART:20260505T050000Z
DTEND:20260505T064000Z
SUMMARY:Элективная физическая культура и спорт
LOCATION:СК Секции
END:VEVENT
BEGIN:VEVENT
UID:2r0i@192.168.245.71:3006
SEQUENCE:0
DTSTAMP:20260420T210635Z
DTSTART:20260505T070000Z
DTEND:20260505T084000Z
SUMMARY:Материаловедение
LOCATION:ГЗ 283
END:VEVENT
BEGIN:VEVENT
UID:w34h@192.168.245.71:3006
SEQUENCE:0
DTSTAMP:20260420T210635Z
DTSTART:20260505T090000Z
DTEND:20260505T104000Z
SUMMARY:Высшая математика
LOCATION:ГЗ 229
END:VEVENT
BEGIN:VEVENT
UID:ohhx@192.168.245.71:3006
SEQUENCE:0
DTSTAMP:20260420T210635Z
DTSTART:20260505T110000Z
DTEND:20260505T124000Z
SUMMARY:Физика
LOCATION:ГЗ 155
END:VEVENT
BEGIN:VEVENT
UID:tkz1@192.168.245.71:3006
SEQUENCE:0
DTSTAMP:20260420T210635Z
DTSTART:20260505T110000Z
DTEND:20260505T124000Z
SUMMARY:Физика
LOCATION:ГЗ 155
END:VEVENT
BEGIN:VEVENT
UID:ouzo@192.168.245.71:3006
SEQUENCE:0
DTSTAMP:20260420T210635Z
DTSTART:20260506T060000Z
DTEND:20260506T064000Z
SUMMARY:Химия
LOCATION:Хим. к. 10
END:VEVENT
BEGIN:VEVENT
UID:ykfj@192.168.245.71:3006
SEQUENCE:0
DTSTAMP:20260420T210635Z
DTSTART:20260506T060000Z
DTEND:20260506T064000Z
SUMMARY:Химия
LOCATION:Хим. к. 10
END:VEVENT
BEGIN:VEVENT
UID:0pu3@192.168.245.71:3006
SEQUENCE:0
DTSTAMP:20260420T210635Z
DTSTART:20260506T070000Z
DTEND:20260506T084000Z
SUMMARY:Химия
LOCATION:Хим. к. 10
END:VEVENT
BEGIN:VEVENT
UID:etjl@192.168.245.71:3006
SEQUENCE:0
DTSTAMP:20260420T210635Z
DTSTART:20260506T070000Z
DTEND:20260506T084000Z
SUMMARY:Химия
LOCATION:Хим. к. 10
END:VEVENT
BEGIN:VEVENT
UID:o8cn@192.168.245.71:3006
SEQUENCE:0
DTSTAMP:20260420T210635Z
DTSTART:20260506T090000Z
DTEND:20260506T104000Z
SUMMARY:Физика
LOCATION:ГЗ 224
END:VEVENT
BEGIN:VEVENT
UID:lbyt@192.168.245.71:3006
SEQUENCE:0
DTSTAMP:20260420T210635Z
DTSTART:20260506T110000Z
DTEND:20260506T133000Z
SUMMARY:Информатика
LOCATION:ТВН ГМ уч.ауд.№201
END:VEVENT
BEGIN:VEVENT
UID:16zd@192.168.245.71:3006
SEQUENCE:0
DTSTAMP:20260420T210635Z
DTSTART:20260507T070000Z
DTEND:20260507T084000Z
SUMMARY:Физика
LOCATION:ГЗ 222
END:VEVENT
BEGIN:VEVENT
UID:1s3i@192.168.245.71:3006
SEQUENCE:0
DTSTAMP:20260420T210635Z
DTSTART:20260507T090000Z
DTEND:20260507T104000Z
SUMMARY:Иностранный язык: Базовый курс
LOCATION:ГЗ 240
END:VEVENT
BEGIN:VEVENT
UID:odur@192.168.245.71:3006
SEQUENCE:0
DTSTAMP:20260420T210635Z
DTSTART:20260507T110000Z
DTEND:20260507T124000Z
SUMMARY:Химия
LOCATION:Хим. к. 52
END:VEVENT
BEGIN:VEVENT
UID:a7b6@192.168.245.71:3006
SEQUENCE:0
DTSTAMP:20260420T210635Z
DTSTART:20260508T070000Z
DTEND:20260508T084000Z
SUMMARY:Элективная физическая культура и спорт
LOCATION:СК Секции
END:VEVENT
BEGIN:VEVENT
UID:29rt@192.168.245.71:3006
SEQUENCE:0
DTSTAMP:20260420T210635Z
DTSTART:20260508T090000Z
DTEND:20260508T104000Z
SUMMARY:Информатика
LOCATION:ГЗ 122
END:VEVENT
BEGIN:VEVENT
UID:0kan@192.168.245.71:3006
SEQUENCE:0
DTSTAMP:20260420T210635Z
DTSTART:20260508T110000Z
DTEND:20260508T124000Z
SUMMARY:Компьютерные технологии
LOCATION:ТВН ГМ уч.ауд.№304
END:VEVENT
END:VCALENDAR