BEGIN:VCALENDAR
VERSION:2.0
PRODID:-//spbstu.ru//ical//RU
NAME:Расписание группы 3231401/50001
X-WR-CALNAME:Расписание группы 3231401/50001
TIMEZONE-ID:Europe/Moscow
X-WR-TIMEZONE:Europe/Moscow
BEGIN:VEVENT
UID:9ztj@192.168.245.71:3006
SEQUENCE:0
DTSTAMP:20260423T182253Z
DTSTART:20251020T070000Z
DTEND:20251020T084000Z
SUMMARY:Инженерная графика
LOCATION:ГЗ 228
END:VEVENT
BEGIN:VEVENT
UID:fbe8@192.168.245.71:3006
SEQUENCE:0
DTSTAMP:20260423T182253Z
DTSTART:20251020T090000Z
DTEND:20251020T104000Z
SUMMARY:Основы цифровых технологий
LOCATION:ТВН ВШАиТЭ комп.кл.
END:VEVENT
BEGIN:VEVENT
UID:8sbl@192.168.245.71:3006
SEQUENCE:0
DTSTAMP:20260423T182253Z
DTSTART:20251020T110000Z
DTEND:20251020T124000Z
SUMMARY:Высшая математика
LOCATION:ГЗ 283
END:VEVENT
BEGIN:VEVENT
UID:wmdf@192.168.245.71:3006
SEQUENCE:0
DTSTAMP:20260423T182253Z
DTSTART:20251021T050000Z
DTEND:20251021T064000Z
SUMMARY:Элективная физическая культура и спорт
LOCATION:СК Секции
END:VEVENT
BEGIN:VEVENT
UID:0t71@192.168.245.71:3006
SEQUENCE:0
DTSTAMP:20260423T182253Z
DTSTART:20251021T070000Z
DTEND:20251021T084000Z
SUMMARY:Основы российской государственности
LOCATION:ГЗ Белый зал
END:VEVENT
BEGIN:VEVENT
UID:soha@192.168.245.71:3006
SEQUENCE:0
DTSTAMP:20260423T182253Z
DTSTART:20251021T090000Z
DTEND:20251021T104000Z
SUMMARY:Метрология
LOCATION:Мех. к. 14
END:VEVENT
BEGIN:VEVENT
UID:edwr@192.168.245.71:3006
SEQUENCE:0
DTSTAMP:20260423T182253Z
DTSTART:20251021T130000Z
DTEND:20251021T144000Z
SUMMARY:Факультатив по математике
LOCATION:ГЗ 329
END:VEVENT
BEGIN:VEVENT
UID:c8n5@192.168.245.71:3006
SEQUENCE:0
DTSTAMP:20260423T182253Z
DTSTART:20251022T090000Z
DTEND:20251022T104000Z
SUMMARY:Высшая математика
LOCATION:ГЗ 224
END:VEVENT
BEGIN:VEVENT
UID:v4el@192.168.245.71:3006
SEQUENCE:0
DTSTAMP:20260423T182253Z
DTSTART:20251022T110000Z
DTEND:20251022T124000Z
SUMMARY:Высшая математика
LOCATION:ГЗ 106
END:VEVENT
BEGIN:VEVENT
UID:504i@192.168.245.71:3006
SEQUENCE:0
DTSTAMP:20260423T182253Z
DTSTART:20251022T130000Z
DTEND:20251022T144000Z
SUMMARY:Иностранный язык: Базовый курс
LOCATION:ГЗ 219
END:VEVENT
BEGIN:VEVENT
UID:ro8j@192.168.245.71:3006
SEQUENCE:0
DTSTAMP:20260423T182253Z
DTSTART:20251023T070000Z
DTEND:20251023T084000Z
SUMMARY:Основы цифровых технологий
LOCATION:ГЗ 122
END:VEVENT
BEGIN:VEVENT
UID:ciyt@192.168.245.71:3006
SEQUENCE:0
DTSTAMP:20260423T182253Z
DTSTART:20251023T090000Z
DTEND:20251023T104000Z
SUMMARY:Основы российской государственности
LOCATION:ГЗ 101
END:VEVENT
BEGIN:VEVENT
UID:ihfy@192.168.245.71:3006
SEQUENCE:0
DTSTAMP:20260423T182253Z
DTSTART:20251023T110000Z
DTEND:20251023T124000Z
SUMMARY:Метрология
LOCATION:Мех. к. 14
END:VEVENT
BEGIN:VEVENT
UID:iph7@192.168.245.71:3006
SEQUENCE:0
DTSTAMP:20260423T182253Z
DTSTART:20251023T130000Z
DTEND:20251023T144000Z
SUMMARY:Творческие семестры
LOCATION:ГЗ Белый зал
END:VEVENT
BEGIN:VEVENT
UID:rnpk@192.168.245.71:3006
SEQUENCE:0
DTSTAMP:20260423T182253Z
DTSTART:20251024T070000Z
DTEND:20251024T084000Z
SUMMARY:Элективная физическая культура и спорт
LOCATION:СК Секции
END:VEVENT
BEGIN:VEVENT
UID:xbx3@192.168.245.71:3006
SEQUENCE:0
DTSTAMP:20260423T182253Z
DTSTART:20251024T090000Z
DTEND:20251024T104000Z
SUMMARY:История России
LOCATION:ГЗ 225
END:VEVENT
BEGIN:VEVENT
UID:eq75@192.168.245.71:3006
SEQUENCE:0
DTSTAMP:20260423T182253Z
DTSTART:20251024T140000Z
DTEND:20251024T154000Z
SUMMARY:Введение в профессиональную деятельность
LOCATION:DL Дистанционно
END:VEVENT
BEGIN:VEVENT
UID:syl3@192.168.245.71:3006
SEQUENCE:0
DTSTAMP:20260423T182253Z
DTSTART:20251025T070000Z
DTEND:20251025T084000Z
SUMMARY:Иностранный язык: Русский язык как иностранный
LOCATION:ГЗ 284
END:VEVENT
BEGIN:VEVENT
UID:zida@192.168.245.71:3006
SEQUENCE:0
DTSTAMP:20260423T182253Z
DTSTART:20251025T090000Z
DTEND:20251025T104000Z
SUMMARY:Иностранный язык: Русский язык как иностранный
LOCATION:ГЗ 284
END:VEVENT
BEGIN:VEVENT
UID:ihe9@192.168.245.71:3006
SEQUENCE:0
DTSTAMP:20260423T182253Z
DTSTART:20251025T110000Z
DTEND:20251025T133000Z
SUMMARY:Русский язык как иностранный
LOCATION:15 к. 705
END:VEVENT
END:VCALENDAR