BEGIN:VCALENDAR
VERSION:2.0
PRODID:-//spbstu.ru//ical//RU
NAME:Расписание группы 3231401/50001
X-WR-CALNAME:Расписание группы 3231401/50001
TIMEZONE-ID:Europe/Moscow
X-WR-TIMEZONE:Europe/Moscow
BEGIN:VEVENT
UID:pz6t@192.168.245.71:3006
SEQUENCE:0
DTSTAMP:20260420T184711Z
DTSTART:20260413T070000Z
DTEND:20260413T084000Z
SUMMARY:Теоретическая механика
LOCATION:ГЗ 240
END:VEVENT
BEGIN:VEVENT
UID:su0q@192.168.245.71:3006
SEQUENCE:0
DTSTAMP:20260420T184711Z
DTSTART:20260413T090000Z
DTEND:20260413T104000Z
SUMMARY:История России
LOCATION:ГЗ Белый зал
END:VEVENT
BEGIN:VEVENT
UID:ny45@192.168.245.71:3006
SEQUENCE:0
DTSTAMP:20260420T184711Z
DTSTART:20260413T110000Z
DTEND:20260413T124000Z
SUMMARY:Теоретическая механика
LOCATION:ГЗ 283
END:VEVENT
BEGIN:VEVENT
UID:jrqf@192.168.245.71:3006
SEQUENCE:0
DTSTAMP:20260420T184711Z
DTSTART:20260413T130000Z
DTEND:20260413T144000Z
SUMMARY:Высшая математика повышенной сложности
LOCATION:ГЗ 232
END:VEVENT
BEGIN:VEVENT
UID:20hn@192.168.245.71:3006
SEQUENCE:0
DTSTAMP:20260420T184711Z
DTSTART:20260414T050000Z
DTEND:20260414T064000Z
SUMMARY:Элективная физическая культура и спорт
LOCATION:СК Секции
END:VEVENT
BEGIN:VEVENT
UID:1j4w@192.168.245.71:3006
SEQUENCE:0
DTSTAMP:20260420T184711Z
DTSTART:20260414T070000Z
DTEND:20260414T084000Z
SUMMARY:Физика
LOCATION:ГЗ 257
END:VEVENT
BEGIN:VEVENT
UID:djy7@192.168.245.71:3006
SEQUENCE:0
DTSTAMP:20260420T184711Z
DTSTART:20260414T090000Z
DTEND:20260414T104000Z
SUMMARY:Химия
LOCATION:Хим. к. 10
END:VEVENT
BEGIN:VEVENT
UID:pm8f@192.168.245.71:3006
SEQUENCE:0
DTSTAMP:20260420T184711Z
DTSTART:20260414T110000Z
DTEND:20260414T114000Z
SUMMARY:Химия
LOCATION:Хим. к. 10
END:VEVENT
BEGIN:VEVENT
UID:1zpn@192.168.245.71:3006
SEQUENCE:0
DTSTAMP:20260420T184711Z
DTSTART:20260414T110000Z
DTEND:20260414T114000Z
SUMMARY:Химия
LOCATION:Хим. к. 10
END:VEVENT
BEGIN:VEVENT
UID:7oyp@192.168.245.71:3006
SEQUENCE:0
DTSTAMP:20260420T184711Z
DTSTART:20260415T070000Z
DTEND:20260415T084000Z
SUMMARY:Информатика
LOCATION:ГЗ 257
END:VEVENT
BEGIN:VEVENT
UID:xyrb@192.168.245.71:3006
SEQUENCE:0
DTSTAMP:20260420T184711Z
DTSTART:20260415T090000Z
DTEND:20260415T104000Z
SUMMARY:Инженерная графика
LOCATION:ГЗ 152
END:VEVENT
BEGIN:VEVENT
UID:ann7@192.168.245.71:3006
SEQUENCE:0
DTSTAMP:20260420T184711Z
DTSTART:20260415T110000Z
DTEND:20260415T124000Z
SUMMARY:Физика
LOCATION:ГЗ 155
END:VEVENT
BEGIN:VEVENT
UID:g1rb@192.168.245.71:3006
SEQUENCE:0
DTSTAMP:20260420T184711Z
DTSTART:20260415T110000Z
DTEND:20260415T124000Z
SUMMARY:Физика
LOCATION:ГЗ 155
END:VEVENT
BEGIN:VEVENT
UID:77h2@192.168.245.71:3006
SEQUENCE:0
DTSTAMP:20260420T184711Z
DTSTART:20260415T130000Z
DTEND:20260415T144000Z
SUMMARY:Высшая математика (продвинутый уровень)
LOCATION:ГЗ 107
END:VEVENT
BEGIN:VEVENT
UID:klee@192.168.245.71:3006
SEQUENCE:0
DTSTAMP:20260420T184711Z
DTSTART:20260416T070000Z
DTEND:20260416T084000Z
SUMMARY:Информатика
LOCATION:ТВН ВШАиТЭ комп.кл.
END:VEVENT
BEGIN:VEVENT
UID:fvdj@192.168.245.71:3006
SEQUENCE:0
DTSTAMP:20260420T184711Z
DTSTART:20260416T090000Z
DTEND:20260416T104000Z
SUMMARY:Высшая математика
LOCATION:ГЗ 224
END:VEVENT
BEGIN:VEVENT
UID:7tce@192.168.245.71:3006
SEQUENCE:0
DTSTAMP:20260420T184711Z
DTSTART:20260416T110000Z
DTEND:20260416T124000Z
SUMMARY:Физика
LOCATION:ГЗ 229
END:VEVENT
BEGIN:VEVENT
UID:o5ou@192.168.245.71:3006
SEQUENCE:0
DTSTAMP:20260420T184711Z
DTSTART:20260416T130000Z
DTEND:20260416T144000Z
SUMMARY:История России
LOCATION:ГЗ 257
END:VEVENT
BEGIN:VEVENT
UID:6bz1@192.168.245.71:3006
SEQUENCE:0
DTSTAMP:20260420T184711Z
DTSTART:20260417T070000Z
DTEND:20260417T084000Z
SUMMARY:Элективная физическая культура и спорт
LOCATION:СК Секции
END:VEVENT
BEGIN:VEVENT
UID:gv5n@192.168.245.71:3006
SEQUENCE:0
DTSTAMP:20260420T184711Z
DTSTART:20260417T090000Z
DTEND:20260417T104000Z
SUMMARY:Химия
LOCATION:Хим. к. 52
END:VEVENT
BEGIN:VEVENT
UID:hyo6@192.168.245.71:3006
SEQUENCE:0
DTSTAMP:20260420T184711Z
DTSTART:20260417T110000Z
DTEND:20260417T124000Z
SUMMARY:Высшая математика
LOCATION:ГЗ 107
END:VEVENT
BEGIN:VEVENT
UID:o53o@192.168.245.71:3006
SEQUENCE:0
DTSTAMP:20260420T184711Z
DTSTART:20260417T130000Z
DTEND:20260417T144000Z
SUMMARY:Иностранный язык: Базовый курс
LOCATION:ГЗ 106
END:VEVENT
BEGIN:VEVENT
UID:w15u@192.168.245.71:3006
SEQUENCE:0
DTSTAMP:20260420T184711Z
DTSTART:20260418T060000Z
DTEND:20260418T084000Z
SUMMARY:Физика повышенной сложности
LOCATION:ГЗ 283
END:VEVENT
BEGIN:VEVENT
UID:8pzw@192.168.245.71:3006
SEQUENCE:0
DTSTAMP:20260420T184711Z
DTSTART:20260418T070000Z
DTEND:20260418T084000Z
SUMMARY:Иностранный язык: Русский язык как иностранный
LOCATION:ГЗ 212
END:VEVENT
BEGIN:VEVENT
UID:evjc@192.168.245.71:3006
SEQUENCE:0
DTSTAMP:20260420T184711Z
DTSTART:20260418T090000Z
DTEND:20260418T104000Z
SUMMARY:Иностранный язык: Русский язык как иностранный
LOCATION:ГЗ 212
END:VEVENT
BEGIN:VEVENT
UID:w9lz@192.168.245.71:3006
SEQUENCE:0
DTSTAMP:20260420T184711Z
DTSTART:20260418T090000Z
DTEND:20260418T104000Z
SUMMARY:Высшая математика повышенной сложности
LOCATION:ГЗ 284
END:VEVENT
BEGIN:VEVENT
UID:87w0@192.168.245.71:3006
SEQUENCE:0
DTSTAMP:20260420T184711Z
DTSTART:20260418T110000Z
DTEND:20260418T124000Z
SUMMARY:Физика повышенной сложности
LOCATION:ГЗ 283
END:VEVENT
END:VCALENDAR