BEGIN:VCALENDAR
VERSION:2.0
PRODID:-//spbstu.ru//ical//RU
NAME:Расписание группы 3231401/50001
X-WR-CALNAME:Расписание группы 3231401/50001
TIMEZONE-ID:Europe/Moscow
X-WR-TIMEZONE:Europe/Moscow
BEGIN:VEVENT
UID:d850@192.168.245.71:3006
SEQUENCE:0
DTSTAMP:20260420T232952Z
DTSTART:20260525T100000Z
DTEND:20260525T130000Z
SUMMARY:Иностранный язык: Базовый курс
LOCATION:ГЗ 240
END:VEVENT
BEGIN:VEVENT
UID:g9n9@192.168.245.71:3006
SEQUENCE:0
DTSTAMP:20260420T232952Z
DTSTART:20260526T070000Z
DTEND:20260526T084000Z
SUMMARY:Элективная физическая культура и спорт
LOCATION:СК Секции
END:VEVENT
BEGIN:VEVENT
UID:6wud@192.168.245.71:3006
SEQUENCE:0
DTSTAMP:20260420T232952Z
DTSTART:20260526T120000Z
DTEND:20260526T144000Z
SUMMARY:Иностранный язык: Русский язык как иностранный
LOCATION:ГЗ 225
END:VEVENT
BEGIN:VEVENT
UID:ke8j@192.168.245.71:3006
SEQUENCE:0
DTSTAMP:20260420T232952Z
DTSTART:20260527T070000Z
DTEND:20260527T100000Z
SUMMARY:История России
LOCATION:ГЗ 280
END:VEVENT
BEGIN:VEVENT
UID:84a8@192.168.245.71:3006
SEQUENCE:0
DTSTAMP:20260420T232952Z
DTSTART:20260528T110000Z
DTEND:20260528T124000Z
SUMMARY:Информатика
LOCATION:ТВН ВШАиТЭ уч.ауд.№303
END:VEVENT
BEGIN:VEVENT
UID:6a5t@192.168.245.71:3006
SEQUENCE:0
DTSTAMP:20260420T232952Z
DTSTART:20260529T090000Z
DTEND:20260529T104000Z
SUMMARY:Философия
LOCATION:ГЗ 282
END:VEVENT
BEGIN:VEVENT
UID:oxfz@192.168.245.71:3006
SEQUENCE:0
DTSTAMP:20260420T232952Z
DTSTART:20260530T110000Z
DTEND:20260530T150000Z
SUMMARY:Теоретическая механика
LOCATION:ГЗ 152
END:VEVENT
END:VCALENDAR