BEGIN:VCALENDAR
VERSION:2.0
PRODID:-//spbstu.ru//ical//RU
NAME:Расписание группы 3231401/50002
X-WR-CALNAME:Расписание группы 3231401/50002
TIMEZONE-ID:Europe/Moscow
X-WR-TIMEZONE:Europe/Moscow
BEGIN:VEVENT
UID:fnyb@192.168.245.71:3006
SEQUENCE:0
DTSTAMP:20260424T090446Z
DTSTART:20251222T110000Z
DTEND:20251222T150000Z
SUMMARY:Экономическая культура
LOCATION:ГЗ 229
END:VEVENT
BEGIN:VEVENT
UID:9q5m@192.168.245.71:3006
SEQUENCE:0
DTSTAMP:20260424T090446Z
DTSTART:20251223T090000Z
DTEND:20251223T104000Z
SUMMARY:Элективная физическая культура и спорт
LOCATION:СК Секции
END:VEVENT
BEGIN:VEVENT
UID:z5i1@192.168.245.71:3006
SEQUENCE:0
DTSTAMP:20260424T090446Z
DTSTART:20251224T070000Z
DTEND:20251224T100000Z
SUMMARY:Иностранный язык: Базовый курс
LOCATION:ГЗ 229
END:VEVENT
BEGIN:VEVENT
UID:ulre@192.168.245.71:3006
SEQUENCE:0
DTSTAMP:20260424T090446Z
DTSTART:20251224T130000Z
DTEND:20251224T150000Z
SUMMARY:Факультатив по физике
LOCATION:ГЗ 329
END:VEVENT
BEGIN:VEVENT
UID:dvoe@192.168.245.71:3006
SEQUENCE:0
DTSTAMP:20260424T090446Z
DTSTART:20251225T090000Z
DTEND:20251225T120000Z
SUMMARY:Факультатив по математике
LOCATION:ГЗ 305
END:VEVENT
BEGIN:VEVENT
UID:a205@192.168.245.71:3006
SEQUENCE:0
DTSTAMP:20260424T090446Z
DTSTART:20251225T120000Z
DTEND:20251225T133000Z
SUMMARY:Высшая математика
LOCATION:ГЗ 305
END:VEVENT
BEGIN:VEVENT
UID:z7nd@192.168.245.71:3006
SEQUENCE:0
DTSTAMP:20260424T090446Z
DTSTART:20251226T100000Z
DTEND:20251226T130000Z
SUMMARY:Основы цифровых технологий
LOCATION:ТВН ВШАиТЭ уч.ауд.№303
END:VEVENT
END:VCALENDAR