BEGIN:VCALENDAR
VERSION:2.0
PRODID:-//spbstu.ru//ical//RU
NAME:Расписание группы 3231401/50002
X-WR-CALNAME:Расписание группы 3231401/50002
TIMEZONE-ID:Europe/Moscow
X-WR-TIMEZONE:Europe/Moscow
BEGIN:VEVENT
UID:xcy2@192.168.245.71:3006
SEQUENCE:0
DTSTAMP:20260424T123540Z
DTSTART:20250908T070000Z
DTEND:20250908T084000Z
SUMMARY:Метрология
LOCATION:Мех. к. 14
END:VEVENT
BEGIN:VEVENT
UID:sijc@192.168.245.71:3006
SEQUENCE:0
DTSTAMP:20260424T123540Z
DTSTART:20250908T090000Z
DTEND:20250908T104000Z
SUMMARY:Высшая математика
LOCATION:ГЗ 106
END:VEVENT
BEGIN:VEVENT
UID:q4k1@192.168.245.71:3006
SEQUENCE:0
DTSTAMP:20260424T123540Z
DTSTART:20250908T110000Z
DTEND:20250908T124000Z
SUMMARY:Высшая математика
LOCATION:ГЗ 283
END:VEVENT
BEGIN:VEVENT
UID:d19r@192.168.245.71:3006
SEQUENCE:0
DTSTAMP:20260424T123540Z
DTSTART:20250909T060000Z
DTEND:20250909T070000Z
SUMMARY:Элективная физическая культура и спорт
LOCATION:ГЗ Белый зал
END:VEVENT
BEGIN:VEVENT
UID:oxbc@192.168.245.71:3006
SEQUENCE:0
DTSTAMP:20260424T123540Z
DTSTART:20250909T070000Z
DTEND:20250909T084000Z
SUMMARY:Основы российской государственности
LOCATION:ГЗ 215
END:VEVENT
BEGIN:VEVENT
UID:qebj@192.168.245.71:3006
SEQUENCE:0
DTSTAMP:20260424T123540Z
DTSTART:20250909T090000Z
DTEND:20250909T104000Z
SUMMARY:История России
LOCATION:ГЗ 227
END:VEVENT
BEGIN:VEVENT
UID:2mz6@192.168.245.71:3006
SEQUENCE:0
DTSTAMP:20260424T123540Z
DTSTART:20250909T110000Z
DTEND:20250909T124000Z
SUMMARY:Высшая математика
LOCATION:ГЗ 106
END:VEVENT
BEGIN:VEVENT
UID:4740@192.168.245.71:3006
SEQUENCE:0
DTSTAMP:20260424T123540Z
DTSTART:20250910T090000Z
DTEND:20250910T104000Z
SUMMARY:Высшая математика
LOCATION:ГЗ 224
END:VEVENT
BEGIN:VEVENT
UID:ihhm@192.168.245.71:3006
SEQUENCE:0
DTSTAMP:20260424T123540Z
DTSTART:20250910T110000Z
DTEND:20250910T124000Z
SUMMARY:Инженерная графика
LOCATION:ГЗ 239
END:VEVENT
BEGIN:VEVENT
UID:0gl4@192.168.245.71:3006
SEQUENCE:0
DTSTAMP:20260424T123540Z
DTSTART:20250910T130000Z
DTEND:20250910T144000Z
SUMMARY:Метрология
LOCATION:Мех. к. 14
END:VEVENT
BEGIN:VEVENT
UID:spn8@192.168.245.71:3006
SEQUENCE:0
DTSTAMP:20260424T123540Z
DTSTART:20250911T070000Z
DTEND:20250911T084000Z
SUMMARY:Основы цифровых технологий
LOCATION:ГЗ 122
END:VEVENT
BEGIN:VEVENT
UID:uidm@192.168.245.71:3006
SEQUENCE:0
DTSTAMP:20260424T123540Z
DTSTART:20250911T090000Z
DTEND:20250911T104000Z
SUMMARY:Основы российской государственности
LOCATION:ГЗ 101
END:VEVENT
BEGIN:VEVENT
UID:nn71@192.168.245.71:3006
SEQUENCE:0
DTSTAMP:20260424T123540Z
DTSTART:20250911T130000Z
DTEND:20250911T144000Z
SUMMARY:Творческие семестры
LOCATION:ГЗ Белый зал
END:VEVENT
BEGIN:VEVENT
UID:ng6x@192.168.245.71:3006
SEQUENCE:0
DTSTAMP:20260424T123540Z
DTSTART:20250912T070000Z
DTEND:20250912T084000Z
SUMMARY:Элективная физическая культура и спорт
LOCATION:СК Секции
END:VEVENT
BEGIN:VEVENT
UID:w7d0@192.168.245.71:3006
SEQUENCE:0
DTSTAMP:20260424T123540Z
DTSTART:20250912T090000Z
DTEND:20250912T104000Z
SUMMARY:Иностранный язык: Базовый курс
LOCATION:ГЗ 228
END:VEVENT
BEGIN:VEVENT
UID:ibe2@192.168.245.71:3006
SEQUENCE:0
DTSTAMP:20260424T123540Z
DTSTART:20250912T110000Z
DTEND:20250912T124000Z
SUMMARY:Тестирование по математике
LOCATION:НИК А2.17 (1-2)
END:VEVENT
BEGIN:VEVENT
UID:co56@192.168.245.71:3006
SEQUENCE:0
DTSTAMP:20260424T123540Z
DTSTART:20250912T140000Z
DTEND:20250912T154000Z
SUMMARY:Введение в профессиональную деятельность
LOCATION:DL Дистанционно
END:VEVENT
BEGIN:VEVENT
UID:hqqe@192.168.245.71:3006
SEQUENCE:0
DTSTAMP:20260424T123540Z
DTSTART:20250913T070000Z
DTEND:20250913T084000Z
SUMMARY:Иностранный язык: Русский язык как иностранный
LOCATION:ГЗ 284
END:VEVENT
BEGIN:VEVENT
UID:tvct@192.168.245.71:3006
SEQUENCE:0
DTSTAMP:20260424T123540Z
DTSTART:20250913T090000Z
DTEND:20250913T104000Z
SUMMARY:Иностранный язык: Русский язык как иностранный
LOCATION:ГЗ 284
END:VEVENT
END:VCALENDAR