BEGIN:VCALENDAR
VERSION:2.0
PRODID:-//spbstu.ru//ical//RU
NAME:Расписание группы 3231401/50002
X-WR-CALNAME:Расписание группы 3231401/50002
TIMEZONE-ID:Europe/Moscow
X-WR-TIMEZONE:Europe/Moscow
BEGIN:VEVENT
UID:mvs3@192.168.245.71:3006
SEQUENCE:0
DTSTAMP:20260421T090519Z
DTSTART:20260216T070000Z
DTEND:20260216T084000Z
SUMMARY:Физика
LOCATION:ГЗ 239
END:VEVENT
BEGIN:VEVENT
UID:raqv@192.168.245.71:3006
SEQUENCE:0
DTSTAMP:20260421T090519Z
DTSTART:20260216T090000Z
DTEND:20260216T104000Z
SUMMARY:История России
LOCATION:ГЗ Белый зал
END:VEVENT
BEGIN:VEVENT
UID:btua@192.168.245.71:3006
SEQUENCE:0
DTSTAMP:20260421T090519Z
DTSTART:20260216T110000Z
DTEND:20260216T124000Z
SUMMARY:Теоретическая механика
LOCATION:ГЗ 283
END:VEVENT
BEGIN:VEVENT
UID:4ikt@192.168.245.71:3006
SEQUENCE:0
DTSTAMP:20260421T090519Z
DTSTART:20260216T130000Z
DTEND:20260216T144000Z
SUMMARY:Высшая математика повышенной сложности
LOCATION:ГЗ 232
END:VEVENT
BEGIN:VEVENT
UID:aw24@192.168.245.71:3006
SEQUENCE:0
DTSTAMP:20260421T090519Z
DTSTART:20260216T150000Z
DTEND:20260216T164000Z
SUMMARY:Метрология
LOCATION:Хим. к. 9
END:VEVENT
BEGIN:VEVENT
UID:pucg@192.168.245.71:3006
SEQUENCE:0
DTSTAMP:20260421T090519Z
DTSTART:20260217T050000Z
DTEND:20260217T064000Z
SUMMARY:Элективная физическая культура и спорт
LOCATION:СК Секции
END:VEVENT
BEGIN:VEVENT
UID:cotq@192.168.245.71:3006
SEQUENCE:0
DTSTAMP:20260421T090519Z
DTSTART:20260217T070000Z
DTEND:20260217T084000Z
SUMMARY:Физика
LOCATION:ГЗ 257
END:VEVENT
BEGIN:VEVENT
UID:14de@192.168.245.71:3006
SEQUENCE:0
DTSTAMP:20260421T090519Z
DTSTART:20260217T090000Z
DTEND:20260217T104000Z
SUMMARY:Химия
LOCATION:Хим. к. 10
END:VEVENT
BEGIN:VEVENT
UID:6eeg@192.168.245.71:3006
SEQUENCE:0
DTSTAMP:20260421T090519Z
DTSTART:20260217T110000Z
DTEND:20260217T114000Z
SUMMARY:Химия
LOCATION:Хим. к. 10
END:VEVENT
BEGIN:VEVENT
UID:b1bp@192.168.245.71:3006
SEQUENCE:0
DTSTAMP:20260421T090519Z
DTSTART:20260217T110000Z
DTEND:20260217T114000Z
SUMMARY:Химия
LOCATION:Хим. к. 10
END:VEVENT
BEGIN:VEVENT
UID:wdv6@192.168.245.71:3006
SEQUENCE:0
DTSTAMP:20260421T090519Z
DTSTART:20260217T130000Z
DTEND:20260217T170000Z
SUMMARY:Высшая математика
LOCATION:ГЗ 253
END:VEVENT
BEGIN:VEVENT
UID:58ts@192.168.245.71:3006
SEQUENCE:0
DTSTAMP:20260421T090519Z
DTSTART:20260218T070000Z
DTEND:20260218T084000Z
SUMMARY:Информатика
LOCATION:ГЗ 257
END:VEVENT
BEGIN:VEVENT
UID:glex@192.168.245.71:3006
SEQUENCE:0
DTSTAMP:20260421T090519Z
DTSTART:20260218T090000Z
DTEND:20260218T104000Z
SUMMARY:Иностранный язык: Базовый курс
LOCATION:ГЗ 240
END:VEVENT
BEGIN:VEVENT
UID:b4qm@192.168.245.71:3006
SEQUENCE:0
DTSTAMP:20260421T090519Z
DTSTART:20260218T110000Z
DTEND:20260218T124000Z
SUMMARY:Высшая математика
LOCATION:ГЗ 107
END:VEVENT
BEGIN:VEVENT
UID:7qqn@192.168.245.71:3006
SEQUENCE:0
DTSTAMP:20260421T090519Z
DTSTART:20260218T130000Z
DTEND:20260218T144000Z
SUMMARY:Теоретическая механика
LOCATION:ГЗ 240
END:VEVENT
BEGIN:VEVENT
UID:3wiq@192.168.245.71:3006
SEQUENCE:0
DTSTAMP:20260421T090519Z
DTSTART:20260219T070000Z
DTEND:20260219T084000Z
SUMMARY:Инженерная графика
LOCATION:ГЗ 123
END:VEVENT
BEGIN:VEVENT
UID:3q2k@192.168.245.71:3006
SEQUENCE:0
DTSTAMP:20260421T090519Z
DTSTART:20260219T090000Z
DTEND:20260219T104000Z
SUMMARY:Высшая математика
LOCATION:ГЗ 224
END:VEVENT
BEGIN:VEVENT
UID:6dka@192.168.245.71:3006
SEQUENCE:0
DTSTAMP:20260421T090519Z
DTSTART:20260219T110000Z
DTEND:20260219T124000Z
SUMMARY:Философия
LOCATION:ГЗ 227
END:VEVENT
BEGIN:VEVENT
UID:m6i8@192.168.245.71:3006
SEQUENCE:0
DTSTAMP:20260421T090519Z
DTSTART:20260219T130000Z
DTEND:20260219T144000Z
SUMMARY:Инженерная графика
LOCATION:ГЗ 257
END:VEVENT
BEGIN:VEVENT
UID:eczf@192.168.245.71:3006
SEQUENCE:0
DTSTAMP:20260421T090519Z
DTSTART:20260220T070000Z
DTEND:20260220T084000Z
SUMMARY:Элективная физическая культура и спорт
LOCATION:СК Секции
END:VEVENT
BEGIN:VEVENT
UID:6np0@192.168.245.71:3006
SEQUENCE:0
DTSTAMP:20260421T090519Z
DTSTART:20260220T090000Z
DTEND:20260220T104000Z
SUMMARY:Химия
LOCATION:Хим. к. 52
END:VEVENT
BEGIN:VEVENT
UID:gfeh@192.168.245.71:3006
SEQUENCE:0
DTSTAMP:20260421T090519Z
DTSTART:20260220T110000Z
DTEND:20260220T124000Z
SUMMARY:Информатика
LOCATION:ТВН ВШАиТЭ комп.кл.
END:VEVENT
BEGIN:VEVENT
UID:a1fk@192.168.245.71:3006
SEQUENCE:0
DTSTAMP:20260421T090519Z
DTSTART:20260220T130000Z
DTEND:20260220T144000Z
SUMMARY:Информатика
LOCATION:ТВН ВШАиТЭ комп.кл.
END:VEVENT
BEGIN:VEVENT
UID:wtwq@192.168.245.71:3006
SEQUENCE:0
DTSTAMP:20260421T090519Z
DTSTART:20260221T060000Z
DTEND:20260221T084000Z
SUMMARY:Физика повышенной сложности
LOCATION:ГЗ 283
END:VEVENT
BEGIN:VEVENT
UID:9iav@192.168.245.71:3006
SEQUENCE:0
DTSTAMP:20260421T090519Z
DTSTART:20260221T070000Z
DTEND:20260221T084000Z
SUMMARY:Иностранный язык: Русский язык как иностранный
LOCATION:ГЗ 230
END:VEVENT
BEGIN:VEVENT
UID:ezl9@192.168.245.71:3006
SEQUENCE:0
DTSTAMP:20260421T090519Z
DTSTART:20260221T090000Z
DTEND:20260221T104000Z
SUMMARY:Иностранный язык: Русский язык как иностранный
LOCATION:ГЗ 230
END:VEVENT
BEGIN:VEVENT
UID:s62j@192.168.245.71:3006
SEQUENCE:0
DTSTAMP:20260421T090519Z
DTSTART:20260221T090000Z
DTEND:20260221T104000Z
SUMMARY:Высшая математика повышенной сложности
LOCATION:ГЗ 284
END:VEVENT
BEGIN:VEVENT
UID:xa1v@192.168.245.71:3006
SEQUENCE:0
DTSTAMP:20260421T090519Z
DTSTART:20260221T110000Z
DTEND:20260221T124000Z
SUMMARY:Физика повышенной сложности
LOCATION:ГЗ 283
END:VEVENT
END:VCALENDAR