BEGIN:VCALENDAR
VERSION:2.0
PRODID:-//spbstu.ru//ical//RU
NAME:Расписание группы 3231401/50002
X-WR-CALNAME:Расписание группы 3231401/50002
TIMEZONE-ID:Europe/Moscow
X-WR-TIMEZONE:Europe/Moscow
BEGIN:VEVENT
UID:tzx0@192.168.245.71:3006
SEQUENCE:0
DTSTAMP:20260421T102613Z
DTSTART:20260209T070000Z
DTEND:20260209T084000Z
SUMMARY:Физика
LOCATION:ГЗ 239
END:VEVENT
BEGIN:VEVENT
UID:cddm@192.168.245.71:3006
SEQUENCE:0
DTSTAMP:20260421T102613Z
DTSTART:20260209T090000Z
DTEND:20260209T104000Z
SUMMARY:Физика
LOCATION:ГЗ 257
END:VEVENT
BEGIN:VEVENT
UID:mh4h@192.168.245.71:3006
SEQUENCE:0
DTSTAMP:20260421T102613Z
DTSTART:20260209T110000Z
DTEND:20260209T124000Z
SUMMARY:Теоретическая механика
LOCATION:ГЗ 283
END:VEVENT
BEGIN:VEVENT
UID:6968@192.168.245.71:3006
SEQUENCE:0
DTSTAMP:20260421T102613Z
DTSTART:20260209T130000Z
DTEND:20260209T144000Z
SUMMARY:Высшая математика повышенной сложности
LOCATION:ГЗ 232
END:VEVENT
BEGIN:VEVENT
UID:v1r2@192.168.245.71:3006
SEQUENCE:0
DTSTAMP:20260421T102613Z
DTSTART:20260209T150000Z
DTEND:20260209T164000Z
SUMMARY:Введение в профессиональную деятельность
LOCATION:ТВН ВШАиТЭ комп.кл.
END:VEVENT
BEGIN:VEVENT
UID:qadz@192.168.245.71:3006
SEQUENCE:0
DTSTAMP:20260421T102613Z
DTSTART:20260210T050000Z
DTEND:20260210T064000Z
SUMMARY:Элективная физическая культура и спорт
LOCATION:СК Секции
END:VEVENT
BEGIN:VEVENT
UID:mun8@192.168.245.71:3006
SEQUENCE:0
DTSTAMP:20260421T102613Z
DTSTART:20260210T070000Z
DTEND:20260210T084000Z
SUMMARY:Физика
LOCATION:ГЗ 257
END:VEVENT
BEGIN:VEVENT
UID:zw6e@192.168.245.71:3006
SEQUENCE:0
DTSTAMP:20260421T102613Z
DTSTART:20260210T090000Z
DTEND:20260210T104000Z
SUMMARY:Химия
LOCATION:Хим. к. 10
END:VEVENT
BEGIN:VEVENT
UID:32cl@192.168.245.71:3006
SEQUENCE:0
DTSTAMP:20260421T102613Z
DTSTART:20260210T110000Z
DTEND:20260210T114000Z
SUMMARY:Химия
LOCATION:Хим. к. 10
END:VEVENT
BEGIN:VEVENT
UID:456c@192.168.245.71:3006
SEQUENCE:0
DTSTAMP:20260421T102613Z
DTSTART:20260210T110000Z
DTEND:20260210T114000Z
SUMMARY:Химия
LOCATION:Хим. к. 10
END:VEVENT
BEGIN:VEVENT
UID:6wx8@192.168.245.71:3006
SEQUENCE:0
DTSTAMP:20260421T102613Z
DTSTART:20260211T050000Z
DTEND:20260211T064000Z
SUMMARY:Инженерная графика
LOCATION:ГЗ 123
END:VEVENT
BEGIN:VEVENT
UID:l5yc@192.168.245.71:3006
SEQUENCE:0
DTSTAMP:20260421T102613Z
DTSTART:20260211T070000Z
DTEND:20260211T084000Z
SUMMARY:Информатика
LOCATION:ГЗ 257
END:VEVENT
BEGIN:VEVENT
UID:4x0y@192.168.245.71:3006
SEQUENCE:0
DTSTAMP:20260421T102613Z
DTSTART:20260211T090000Z
DTEND:20260211T104000Z
SUMMARY:Иностранный язык: Базовый курс
LOCATION:ГЗ 240
END:VEVENT
BEGIN:VEVENT
UID:wzfw@192.168.245.71:3006
SEQUENCE:0
DTSTAMP:20260421T102613Z
DTSTART:20260211T110000Z
DTEND:20260211T124000Z
SUMMARY:Высшая математика
LOCATION:ГЗ 107
END:VEVENT
BEGIN:VEVENT
UID:amh9@192.168.245.71:3006
SEQUENCE:0
DTSTAMP:20260421T102613Z
DTSTART:20260212T070000Z
DTEND:20260212T084000Z
SUMMARY:Физика
LOCATION:ГЗ 155
END:VEVENT
BEGIN:VEVENT
UID:zjxr@192.168.245.71:3006
SEQUENCE:0
DTSTAMP:20260421T102613Z
DTSTART:20260212T070000Z
DTEND:20260212T084000Z
SUMMARY:Физика
LOCATION:ГЗ 155
END:VEVENT
BEGIN:VEVENT
UID:ecfr@192.168.245.71:3006
SEQUENCE:0
DTSTAMP:20260421T102613Z
DTSTART:20260212T090000Z
DTEND:20260212T104000Z
SUMMARY:Высшая математика
LOCATION:ГЗ 224
END:VEVENT
BEGIN:VEVENT
UID:rdbn@192.168.245.71:3006
SEQUENCE:0
DTSTAMP:20260421T102613Z
DTSTART:20260212T110000Z
DTEND:20260212T124000Z
SUMMARY:Философия
LOCATION:ГЗ 227
END:VEVENT
BEGIN:VEVENT
UID:ice0@192.168.245.71:3006
SEQUENCE:0
DTSTAMP:20260421T102613Z
DTSTART:20260212T130000Z
DTEND:20260212T144000Z
SUMMARY:Инженерная графика
LOCATION:ГЗ 257
END:VEVENT
BEGIN:VEVENT
UID:97ei@192.168.245.71:3006
SEQUENCE:0
DTSTAMP:20260421T102613Z
DTSTART:20260212T150000Z
DTEND:20260212T164000Z
SUMMARY:Инженерная графика
LOCATION:ГЗ 304
END:VEVENT
BEGIN:VEVENT
UID:o75z@192.168.245.71:3006
SEQUENCE:0
DTSTAMP:20260421T102613Z
DTSTART:20260213T070000Z
DTEND:20260213T084000Z
SUMMARY:Элективная физическая культура и спорт
LOCATION:СК Секции
END:VEVENT
BEGIN:VEVENT
UID:3jmk@192.168.245.71:3006
SEQUENCE:0
DTSTAMP:20260421T102613Z
DTSTART:20260213T090000Z
DTEND:20260213T104000Z
SUMMARY:Химия
LOCATION:Хим. к. 52
END:VEVENT
BEGIN:VEVENT
UID:frby@192.168.245.71:3006
SEQUENCE:0
DTSTAMP:20260421T102613Z
DTSTART:20260213T110000Z
DTEND:20260213T124000Z
SUMMARY:Информатика
LOCATION:ТВН ВШАиТЭ комп.кл.
END:VEVENT
BEGIN:VEVENT
UID:xca9@192.168.245.71:3006
SEQUENCE:0
DTSTAMP:20260421T102613Z
DTSTART:20260213T130000Z
DTEND:20260213T144000Z
SUMMARY:Высшая математика (продвинутый уровень)
LOCATION:ГЗ 107
END:VEVENT
BEGIN:VEVENT
UID:c369@192.168.245.71:3006
SEQUENCE:0
DTSTAMP:20260421T102613Z
DTSTART:20260213T150000Z
DTEND:20260213T164000Z
SUMMARY:Экономическая культура
LOCATION:ГЗ 220
END:VEVENT
BEGIN:VEVENT
UID:rz4g@192.168.245.71:3006
SEQUENCE:0
DTSTAMP:20260421T102613Z
DTSTART:20260214T060000Z
DTEND:20260214T084000Z
SUMMARY:Физика повышенной сложности
LOCATION:ГЗ 283
END:VEVENT
BEGIN:VEVENT
UID:192n@192.168.245.71:3006
SEQUENCE:0
DTSTAMP:20260421T102613Z
DTSTART:20260214T070000Z
DTEND:20260214T084000Z
SUMMARY:Иностранный язык: Русский язык как иностранный
LOCATION:ГЗ 230
END:VEVENT
BEGIN:VEVENT
UID:nmhn@192.168.245.71:3006
SEQUENCE:0
DTSTAMP:20260421T102613Z
DTSTART:20260214T090000Z
DTEND:20260214T104000Z
SUMMARY:Иностранный язык: Русский язык как иностранный
LOCATION:ГЗ 230
END:VEVENT
BEGIN:VEVENT
UID:dxpc@192.168.245.71:3006
SEQUENCE:0
DTSTAMP:20260421T102613Z
DTSTART:20260214T090000Z
DTEND:20260214T104000Z
SUMMARY:Высшая математика повышенной сложности
LOCATION:ГЗ 284
END:VEVENT
BEGIN:VEVENT
UID:xzkx@192.168.245.71:3006
SEQUENCE:0
DTSTAMP:20260421T102613Z
DTSTART:20260214T110000Z
DTEND:20260214T124000Z
SUMMARY:Физика повышенной сложности
LOCATION:ГЗ 283
END:VEVENT
BEGIN:VEVENT
UID:rxwg@192.168.245.71:3006
SEQUENCE:0
DTSTAMP:20260421T102613Z
DTSTART:20260214T110000Z
DTEND:20260214T124000Z
SUMMARY:История России
LOCATION:ГЗ 227
END:VEVENT
END:VCALENDAR