BEGIN:VCALENDAR
VERSION:2.0
PRODID:-//spbstu.ru//ical//RU
NAME:Расписание группы 3231401/50002
X-WR-CALNAME:Расписание группы 3231401/50002
TIMEZONE-ID:Europe/Moscow
X-WR-TIMEZONE:Europe/Moscow
BEGIN:VEVENT
UID:cuod@192.168.245.71:3006
SEQUENCE:0
DTSTAMP:20260421T003404Z
DTSTART:20260504T070000Z
DTEND:20260504T084000Z
SUMMARY:Физика
LOCATION:ГЗ 239
END:VEVENT
BEGIN:VEVENT
UID:dfnw@192.168.245.71:3006
SEQUENCE:0
DTSTAMP:20260421T003404Z
DTSTART:20260504T090000Z
DTEND:20260504T104000Z
SUMMARY:Физика
LOCATION:ГЗ 257
END:VEVENT
BEGIN:VEVENT
UID:alom@192.168.245.71:3006
SEQUENCE:0
DTSTAMP:20260421T003404Z
DTSTART:20260504T110000Z
DTEND:20260504T124000Z
SUMMARY:Теоретическая механика
LOCATION:ГЗ 283
END:VEVENT
BEGIN:VEVENT
UID:ek4f@192.168.245.71:3006
SEQUENCE:0
DTSTAMP:20260421T003404Z
DTSTART:20260504T130000Z
DTEND:20260504T144000Z
SUMMARY:Высшая математика повышенной сложности
LOCATION:ГЗ 232
END:VEVENT
BEGIN:VEVENT
UID:r0vy@192.168.245.71:3006
SEQUENCE:0
DTSTAMP:20260421T003404Z
DTSTART:20260505T050000Z
DTEND:20260505T064000Z
SUMMARY:Элективная физическая культура и спорт
LOCATION:СК Секции
END:VEVENT
BEGIN:VEVENT
UID:4psh@192.168.245.71:3006
SEQUENCE:0
DTSTAMP:20260421T003404Z
DTSTART:20260505T070000Z
DTEND:20260505T084000Z
SUMMARY:Физика
LOCATION:ГЗ 257
END:VEVENT
BEGIN:VEVENT
UID:wu2a@192.168.245.71:3006
SEQUENCE:0
DTSTAMP:20260421T003404Z
DTSTART:20260505T090000Z
DTEND:20260505T104000Z
SUMMARY:Химия
LOCATION:Хим. к. 10
END:VEVENT
BEGIN:VEVENT
UID:gbpl@192.168.245.71:3006
SEQUENCE:0
DTSTAMP:20260421T003404Z
DTSTART:20260505T090000Z
DTEND:20260505T104000Z
SUMMARY:Химия
LOCATION:Хим. к. 10
END:VEVENT
BEGIN:VEVENT
UID:mc0x@192.168.245.71:3006
SEQUENCE:0
DTSTAMP:20260421T003404Z
DTSTART:20260505T110000Z
DTEND:20260505T114000Z
SUMMARY:Химия
LOCATION:Хим. к. 10
END:VEVENT
BEGIN:VEVENT
UID:9n2z@192.168.245.71:3006
SEQUENCE:0
DTSTAMP:20260421T003404Z
DTSTART:20260505T110000Z
DTEND:20260505T114000Z
SUMMARY:Химия
LOCATION:Хим. к. 10
END:VEVENT
BEGIN:VEVENT
UID:t6aw@192.168.245.71:3006
SEQUENCE:0
DTSTAMP:20260421T003404Z
DTSTART:20260506T050000Z
DTEND:20260506T064000Z
SUMMARY:Инженерная графика
LOCATION:ГЗ 123
END:VEVENT
BEGIN:VEVENT
UID:os1a@192.168.245.71:3006
SEQUENCE:0
DTSTAMP:20260421T003404Z
DTSTART:20260506T070000Z
DTEND:20260506T084000Z
SUMMARY:Информатика
LOCATION:ГЗ 257
END:VEVENT
BEGIN:VEVENT
UID:euc0@192.168.245.71:3006
SEQUENCE:0
DTSTAMP:20260421T003404Z
DTSTART:20260506T090000Z
DTEND:20260506T104000Z
SUMMARY:Иностранный язык: Базовый курс
LOCATION:ГЗ 240
END:VEVENT
BEGIN:VEVENT
UID:0g38@192.168.245.71:3006
SEQUENCE:0
DTSTAMP:20260421T003404Z
DTSTART:20260506T110000Z
DTEND:20260506T124000Z
SUMMARY:Высшая математика
LOCATION:ГЗ 107
END:VEVENT
BEGIN:VEVENT
UID:sr78@192.168.245.71:3006
SEQUENCE:0
DTSTAMP:20260421T003404Z
DTSTART:20260507T070000Z
DTEND:20260507T084000Z
SUMMARY:Физика
LOCATION:ГЗ 155
END:VEVENT
BEGIN:VEVENT
UID:lfza@192.168.245.71:3006
SEQUENCE:0
DTSTAMP:20260421T003404Z
DTSTART:20260507T070000Z
DTEND:20260507T084000Z
SUMMARY:Физика
LOCATION:ГЗ 155
END:VEVENT
BEGIN:VEVENT
UID:o3l3@192.168.245.71:3006
SEQUENCE:0
DTSTAMP:20260421T003404Z
DTSTART:20260507T090000Z
DTEND:20260507T104000Z
SUMMARY:Высшая математика
LOCATION:ГЗ 224
END:VEVENT
BEGIN:VEVENT
UID:q52k@192.168.245.71:3006
SEQUENCE:0
DTSTAMP:20260421T003404Z
DTSTART:20260507T110000Z
DTEND:20260507T124000Z
SUMMARY:История России
LOCATION:ГЗ 227
END:VEVENT
BEGIN:VEVENT
UID:utkk@192.168.245.71:3006
SEQUENCE:0
DTSTAMP:20260421T003404Z
DTSTART:20260508T070000Z
DTEND:20260508T084000Z
SUMMARY:Элективная физическая культура и спорт
LOCATION:СК Секции
END:VEVENT
BEGIN:VEVENT
UID:g8pz@192.168.245.71:3006
SEQUENCE:0
DTSTAMP:20260421T003404Z
DTSTART:20260508T090000Z
DTEND:20260508T104000Z
SUMMARY:Химия
LOCATION:Хим. к. 52
END:VEVENT
BEGIN:VEVENT
UID:i33a@192.168.245.71:3006
SEQUENCE:0
DTSTAMP:20260421T003404Z
DTSTART:20260508T110000Z
DTEND:20260508T124000Z
SUMMARY:Информатика
LOCATION:ТВН ВШАиТЭ комп.кл.
END:VEVENT
END:VCALENDAR