BEGIN:VCALENDAR
VERSION:2.0
PRODID:-//spbstu.ru//ical//RU
NAME:Расписание группы 3241301/50601
X-WR-CALNAME:Расписание группы 3241301/50601
TIMEZONE-ID:Europe/Moscow
X-WR-TIMEZONE:Europe/Moscow
BEGIN:VEVENT
UID:1jr0@192.168.245.71:3006
SEQUENCE:0
DTSTAMP:20260424T201041Z
DTSTART:20260202T070000Z
DTEND:20260202T084000Z
SUMMARY:Управление инновационным проектом
LOCATION:ГЗ 225
END:VEVENT
BEGIN:VEVENT
UID:64jk@192.168.245.71:3006
SEQUENCE:0
DTSTAMP:20260424T201041Z
DTSTART:20260202T090000Z
DTEND:20260202T104000Z
SUMMARY:Автоматические системы управления тепловыми процессами
LOCATION:ГЗ 244
END:VEVENT
BEGIN:VEVENT
UID:gegf@192.168.245.71:3006
SEQUENCE:0
DTSTAMP:20260424T201041Z
DTSTART:20260202T110000Z
DTEND:20260202T124000Z
SUMMARY:Системы энергообеспечения предприятий
LOCATION:ТВН ВШАиТЭ уч.ауд.№102
END:VEVENT
BEGIN:VEVENT
UID:64cv@192.168.245.71:3006
SEQUENCE:0
DTSTAMP:20260424T201041Z
DTSTART:20260202T130000Z
DTEND:20260202T144000Z
SUMMARY:Автоматические системы управления тепловыми процессами
LOCATION:Хим. к. 9
END:VEVENT
BEGIN:VEVENT
UID:27cj@192.168.245.71:3006
SEQUENCE:0
DTSTAMP:20260424T201041Z
DTSTART:20260203T070000Z
DTEND:20260203T084000Z
SUMMARY:Энерго- и ресурсосбережение в энергетике
LOCATION:ТВН ВШАиТЭ уч.ауд.№102
END:VEVENT
BEGIN:VEVENT
UID:oskc@192.168.245.71:3006
SEQUENCE:0
DTSTAMP:20260424T201041Z
DTSTART:20260203T090000Z
DTEND:20260203T104000Z
SUMMARY:Экономика и управление энергосбережением
LOCATION:ТВН ВШАиТЭ уч.ауд.№102
END:VEVENT
BEGIN:VEVENT
UID:qc7m@192.168.245.71:3006
SEQUENCE:0
DTSTAMP:20260424T201041Z
DTSTART:20260203T110000Z
DTEND:20260203T124000Z
SUMMARY:Численные методы в исследовании теплофизических процессов
LOCATION:ТВН ВШАиТЭ уч.ауд.№303
END:VEVENT
BEGIN:VEVENT
UID:ily1@192.168.245.71:3006
SEQUENCE:0
DTSTAMP:20260424T201041Z
DTSTART:20260207T110000Z
DTEND:20260207T124000Z
SUMMARY:Энерго- и ресурсосбережение в энергетике
LOCATION:ТВН ВШАиТЭ уч.ауд.№303
END:VEVENT
BEGIN:VEVENT
UID:x3vc@192.168.245.71:3006
SEQUENCE:0
DTSTAMP:20260424T201041Z
DTSTART:20260207T130000Z
DTEND:20260207T144000Z
SUMMARY:Энерго- и ресурсосбережение в энергетике
LOCATION:ТВН ВШАиТЭ уч.ауд.№303
END:VEVENT
END:VCALENDAR