BEGIN:VCALENDAR
VERSION:2.0
PRODID:-//spbstu.ru//ical//RU
NAME:Расписание группы 3241301/50601
X-WR-CALNAME:Расписание группы 3241301/50601
TIMEZONE-ID:Europe/Moscow
X-WR-TIMEZONE:Europe/Moscow
BEGIN:VEVENT
UID:2d25@192.168.245.71:3006
SEQUENCE:0
DTSTAMP:20260420T224458Z
DTSTART:20260511T070000Z
DTEND:20260511T084000Z
SUMMARY:Экономика и управление энергосбережением
LOCATION:ТВН ВШАиТЭ уч.ауд.№102
END:VEVENT
BEGIN:VEVENT
UID:gk84@192.168.245.71:3006
SEQUENCE:0
DTSTAMP:20260420T224458Z
DTSTART:20260511T110000Z
DTEND:20260511T124000Z
SUMMARY:Системы энергообеспечения предприятий
LOCATION:ТВН ВШАиТЭ уч.ауд.№102
END:VEVENT
BEGIN:VEVENT
UID:a13q@192.168.245.71:3006
SEQUENCE:0
DTSTAMP:20260420T224458Z
DTSTART:20260512T090000Z
DTEND:20260512T104000Z
SUMMARY:Управление инновационным проектом
LOCATION:ТВН ВШАиТЭ уч.ауд.№102
END:VEVENT
BEGIN:VEVENT
UID:g9k6@192.168.245.71:3006
SEQUENCE:0
DTSTAMP:20260420T224458Z
DTSTART:20260512T110000Z
DTEND:20260512T124000Z
SUMMARY:Численные методы в исследовании теплофизических процессов
LOCATION:ТВН ВШАиТЭ уч.ауд.№303
END:VEVENT
BEGIN:VEVENT
UID:1vcc@192.168.245.71:3006
SEQUENCE:0
DTSTAMP:20260420T224458Z
DTSTART:20260516T130000Z
DTEND:20260516T144000Z
SUMMARY:Энерго- и ресурсосбережение в энергетике
LOCATION:ТВН ВШАиТЭ уч.ауд.№303
END:VEVENT
END:VCALENDAR