BEGIN:VCALENDAR
VERSION:2.0
PRODID:-//spbstu.ru//ical//RU
NAME:Расписание группы 3241301/50601
X-WR-CALNAME:Расписание группы 3241301/50601
TIMEZONE-ID:Europe/Moscow
X-WR-TIMEZONE:Europe/Moscow
BEGIN:VEVENT
UID:ecte@192.168.245.71:3006
SEQUENCE:0
DTSTAMP:20260421T054909Z
DTSTART:20260601T070000Z
DTEND:20260601T110000Z
SUMMARY:Экономика и управление энергосбережением
LOCATION:ТВН ВШАиТЭ уч.ауд.№302а
END:VEVENT
BEGIN:VEVENT
UID:15ej@192.168.245.71:3006
SEQUENCE:0
DTSTAMP:20260421T054909Z
DTSTART:20260604T070000Z
DTEND:20260604T100000Z
SUMMARY:Автоматические системы управления тепловыми процессами
LOCATION:Мех. к. 26
END:VEVENT
BEGIN:VEVENT
UID:otmf@192.168.245.71:3006
SEQUENCE:0
DTSTAMP:20260421T054909Z
DTSTART:20260604T100000Z
DTEND:20260604T130000Z
SUMMARY:Автоматические системы управления тепловыми процессами
LOCATION:Мех. к. 26
END:VEVENT
END:VCALENDAR