BEGIN:VCALENDAR
VERSION:2.0
PRODID:-//spbstu.ru//ical//RU
NAME:Расписание группы 3241302/50101
X-WR-CALNAME:Расписание группы 3241302/50101
TIMEZONE-ID:Europe/Moscow
X-WR-TIMEZONE:Europe/Moscow
BEGIN:VEVENT
UID:zklm@192.168.245.71:3006
SEQUENCE:0
DTSTAMP:20260425T003821Z
DTSTART:20251112T090000Z
DTEND:20251112T104000Z
SUMMARY:Дополнительные главы теоретических основ электротехники
LOCATION:ГЗ 271
END:VEVENT
BEGIN:VEVENT
UID:13xw@192.168.245.71:3006
SEQUENCE:0
DTSTAMP:20260425T003821Z
DTSTART:20251113T070000Z
DTEND:20251113T084000Z
SUMMARY:Автоматизированные системы управления технологическим процессом эл
 ектростанций и подстанций
LOCATION:ГЗ 106
END:VEVENT
BEGIN:VEVENT
UID:7y91@192.168.245.71:3006
SEQUENCE:0
DTSTAMP:20260425T003821Z
DTSTART:20251113T090000Z
DTEND:20251113T104000Z
SUMMARY:Релейная защита электроэнергетических систем
LOCATION:ГЗ 283
END:VEVENT
BEGIN:VEVENT
UID:zf3c@192.168.245.71:3006
SEQUENCE:0
DTSTAMP:20260425T003821Z
DTSTART:20251113T110000Z
DTEND:20251113T124000Z
SUMMARY:Дополнительные главы теоретических основ электротехники
LOCATION:ГЗ 329
END:VEVENT
BEGIN:VEVENT
UID:2dg7@192.168.245.71:3006
SEQUENCE:0
DTSTAMP:20260425T003821Z
DTSTART:20251114T090000Z
DTEND:20251114T104000Z
SUMMARY:Компьютерные и информационные технологии в электроэнергетике
LOCATION:5 к. 208
END:VEVENT
BEGIN:VEVENT
UID:2lkh@192.168.245.71:3006
SEQUENCE:0
DTSTAMP:20260425T003821Z
DTSTART:20251114T110000Z
DTEND:20251114T124000Z
SUMMARY:Системы собственных нужд электрических станций
LOCATION:5 к. 305
END:VEVENT
BEGIN:VEVENT
UID:4tpm@192.168.245.71:3006
SEQUENCE:0
DTSTAMP:20260425T003821Z
DTSTART:20251114T130000Z
DTEND:20251114T144000Z
SUMMARY:Иностранный язык в профессиональной коммуникации\, Английский
LOCATION:ГЗ 240
END:VEVENT
END:VCALENDAR