BEGIN:VCALENDAR
VERSION:2.0
PRODID:-//spbstu.ru//ical//RU
NAME:Расписание группы 3241302/50101
X-WR-CALNAME:Расписание группы 3241302/50101
TIMEZONE-ID:Europe/Moscow
X-WR-TIMEZONE:Europe/Moscow
BEGIN:VEVENT
UID:sm4w@192.168.245.71:3006
SEQUENCE:0
DTSTAMP:20260422T071112Z
DTSTART:20260224T070000Z
DTEND:20260224T084000Z
SUMMARY:Противоаварийная автоматика
LOCATION:ГЗ 244
END:VEVENT
BEGIN:VEVENT
UID:8aoy@192.168.245.71:3006
SEQUENCE:0
DTSTAMP:20260422T071112Z
DTSTART:20260224T090000Z
DTEND:20260224T104000Z
SUMMARY:Технические средства диспетчерского и технологического управления
LOCATION:5 к. 305
END:VEVENT
BEGIN:VEVENT
UID:krwv@192.168.245.71:3006
SEQUENCE:0
DTSTAMP:20260422T071112Z
DTSTART:20260224T110000Z
DTEND:20260224T124000Z
SUMMARY:Теория надежности
LOCATION:5 к. 208
END:VEVENT
BEGIN:VEVENT
UID:6kc4@192.168.245.71:3006
SEQUENCE:0
DTSTAMP:20260422T071112Z
DTSTART:20260225T070000Z
DTEND:20260225T084000Z
SUMMARY:Физико-технические основы современной энергетики
LOCATION:ГЗ 253
END:VEVENT
BEGIN:VEVENT
UID:duo1@192.168.245.71:3006
SEQUENCE:0
DTSTAMP:20260422T071112Z
DTSTART:20260225T090000Z
DTEND:20260225T104000Z
SUMMARY:Технические средства диспетчерского и технологического управления
LOCATION:ГЗ 253
END:VEVENT
BEGIN:VEVENT
UID:vfjz@192.168.245.71:3006
SEQUENCE:0
DTSTAMP:20260422T071112Z
DTSTART:20260226T070000Z
DTEND:20260226T084000Z
SUMMARY:Автоматизированные системы управления технологическим процессом эл
 ектростанций и подстанций
LOCATION:5 к. 304
END:VEVENT
BEGIN:VEVENT
UID:eowz@192.168.245.71:3006
SEQUENCE:0
DTSTAMP:20260422T071112Z
DTSTART:20260226T090000Z
DTEND:20260226T104000Z
SUMMARY:Электрическая часть электростанций и подстанций
LOCATION:5 к. 208
END:VEVENT
END:VCALENDAR