BEGIN:VCALENDAR
VERSION:2.0
PRODID:-//spbstu.ru//ical//RU
NAME:Расписание группы 3241302/50401
X-WR-CALNAME:Расписание группы 3241302/50401
TIMEZONE-ID:Europe/Moscow
X-WR-TIMEZONE:Europe/Moscow
BEGIN:VEVENT
UID:oinc@192.168.245.71:3006
SEQUENCE:0
DTSTAMP:20260424T182630Z
DTSTART:20251105T090000Z
DTEND:20251105T104000Z
SUMMARY:Иностранный язык в профессиональной коммуникации\, Английский
LOCATION:ГЗ 240
END:VEVENT
BEGIN:VEVENT
UID:t8hw@192.168.245.71:3006
SEQUENCE:0
DTSTAMP:20260424T182630Z
DTSTART:20251105T110000Z
DTEND:20251105T124000Z
SUMMARY:Дополнительные главы теоретических основ электротехники
LOCATION:ТВН 301
END:VEVENT
BEGIN:VEVENT
UID:r3uh@192.168.245.71:3006
SEQUENCE:0
DTSTAMP:20260424T182630Z
DTSTART:20251106T110000Z
DTEND:20251106T124000Z
SUMMARY:Энергетическое оборудование высокого напряжения и его надежность
LOCATION:ВИТ 402
END:VEVENT
BEGIN:VEVENT
UID:2ggq@192.168.245.71:3006
SEQUENCE:0
DTSTAMP:20260424T182630Z
DTSTART:20251106T130000Z
DTEND:20251106T144000Z
SUMMARY:Управление инновационным проектом
LOCATION:ГЗ 218
END:VEVENT
BEGIN:VEVENT
UID:e075@192.168.245.71:3006
SEQUENCE:0
DTSTAMP:20260424T182630Z
DTSTART:20251107T070000Z
DTEND:20251107T105000Z
SUMMARY:Современные проблемы электроэнергетики и электротехники (лаборатор
 ный семинар)
LOCATION:ВИТ 401
END:VEVENT
BEGIN:VEVENT
UID:wtx3@192.168.245.71:3006
SEQUENCE:0
DTSTAMP:20260424T182630Z
DTSTART:20251107T110000Z
DTEND:20251107T124000Z
SUMMARY:Компьютерные\, сетевые и информационные технологии в электроэнерге
 тике и электротехнике
LOCATION:ВИТ 402
END:VEVENT
END:VCALENDAR