BEGIN:VCALENDAR
VERSION:2.0
PRODID:-//spbstu.ru//ical//RU
NAME:Расписание группы 3241302/50401
X-WR-CALNAME:Расписание группы 3241302/50401
TIMEZONE-ID:Europe/Moscow
X-WR-TIMEZONE:Europe/Moscow
BEGIN:VEVENT
UID:p1q6@192.168.245.71:3006
SEQUENCE:0
DTSTAMP:20260421T210916Z
DTSTART:20260317T070000Z
DTEND:20260317T084000Z
SUMMARY:Электроимпульсные технологии
LOCATION:ТВН 305
END:VEVENT
BEGIN:VEVENT
UID:yt6t@192.168.245.71:3006
SEQUENCE:0
DTSTAMP:20260421T210916Z
DTSTART:20260317T090000Z
DTEND:20260317T104000Z
SUMMARY:Физика и техника сильных магнитных полей
LOCATION:ТВН 304
END:VEVENT
BEGIN:VEVENT
UID:jgar@192.168.245.71:3006
SEQUENCE:0
DTSTAMP:20260421T210916Z
DTSTART:20260317T110000Z
DTEND:20260317T124000Z
SUMMARY:Электромагнитная совместимость и молниезащита
LOCATION:ВИТ 402
END:VEVENT
BEGIN:VEVENT
UID:z9x9@192.168.245.71:3006
SEQUENCE:0
DTSTAMP:20260421T210916Z
DTSTART:20260318T070000Z
DTEND:20260318T084000Z
SUMMARY:Электроимпульсные технологии
LOCATION:ТВН 305
END:VEVENT
BEGIN:VEVENT
UID:dr2o@192.168.245.71:3006
SEQUENCE:0
DTSTAMP:20260421T210916Z
DTSTART:20260318T090000Z
DTEND:20260318T104000Z
SUMMARY:Компьютерные\, сетевые и информационные технологии в электроэнерге
 тике и электротехнике
LOCATION:ВИТ 402
END:VEVENT
BEGIN:VEVENT
UID:ckzw@192.168.245.71:3006
SEQUENCE:0
DTSTAMP:20260421T210916Z
DTSTART:20260318T110000Z
DTEND:20260318T124000Z
SUMMARY:Силовая электроника
LOCATION:ВИТ 401
END:VEVENT
BEGIN:VEVENT
UID:4hco@192.168.245.71:3006
SEQUENCE:0
DTSTAMP:20260421T210916Z
DTSTART:20260321T070000Z
DTEND:20260321T084000Z
SUMMARY:Электромагнитная совместимость и молниезащита
LOCATION:ВИТ 402
END:VEVENT
BEGIN:VEVENT
UID:0rkg@192.168.245.71:3006
SEQUENCE:0
DTSTAMP:20260421T210916Z
DTSTART:20260321T090000Z
DTEND:20260321T104000Z
SUMMARY:Физико-технические основы современной энергетики
LOCATION:ТВН 305
END:VEVENT
END:VCALENDAR