BEGIN:VCALENDAR
VERSION:2.0
PRODID:-//spbstu.ru//ical//RU
NAME:Расписание группы 3241302/52101
X-WR-CALNAME:Расписание группы 3241302/52101
TIMEZONE-ID:Europe/Moscow
X-WR-TIMEZONE:Europe/Moscow
BEGIN:VEVENT
UID:rvcu@192.168.245.71:3006
SEQUENCE:0
DTSTAMP:20260425T153743Z
DTSTART:20251028T090000Z
DTEND:20251028T104000Z
SUMMARY:Современные проблемы электроэнергетики и электротехники (лаборатор
 ный семинар) (на английском языке)
LOCATION:ТВН 301
END:VEVENT
BEGIN:VEVENT
UID:xkos@192.168.245.71:3006
SEQUENCE:0
DTSTAMP:20260425T153743Z
DTSTART:20251028T110000Z
DTEND:20251028T124000Z
SUMMARY:Современные проблемы электроэнергетики и электротехники (лаборатор
 ный семинар) (на английском языке)
LOCATION:ВИТ 401
END:VEVENT
BEGIN:VEVENT
UID:xgx9@192.168.245.71:3006
SEQUENCE:0
DTSTAMP:20260425T153743Z
DTSTART:20251028T130000Z
DTEND:20251028T144000Z
SUMMARY:Компьютерные\, сетевые и информационные технологии в электроэнерге
 тике и электротехнике (на английском языке)
LOCATION:ВИТ 401
END:VEVENT
BEGIN:VEVENT
UID:zwl3@192.168.245.71:3006
SEQUENCE:0
DTSTAMP:20260425T153743Z
DTSTART:20251029T070000Z
DTEND:20251029T084000Z
SUMMARY:Техника высоких напряжений (на английском языке)
LOCATION:ВИТ 211
END:VEVENT
BEGIN:VEVENT
UID:0tf1@192.168.245.71:3006
SEQUENCE:0
DTSTAMP:20260425T153743Z
DTSTART:20251029T070000Z
DTEND:20251029T084000Z
SUMMARY:Техника высоких напряжений (на английском языке)
LOCATION:ВИТ 211
END:VEVENT
BEGIN:VEVENT
UID:w0d8@192.168.245.71:3006
SEQUENCE:0
DTSTAMP:20260425T153743Z
DTSTART:20251029T090000Z
DTEND:20251029T104000Z
SUMMARY:Дополнительные главы теоретических основ электротехники (на англий
 ском языке)
LOCATION:ГЗ 176
END:VEVENT
BEGIN:VEVENT
UID:moam@192.168.245.71:3006
SEQUENCE:0
DTSTAMP:20260425T153743Z
DTSTART:20251029T110000Z
DTEND:20251029T124000Z
SUMMARY:Иностранный язык в профессиональной коммуникации\, Английский
LOCATION:ГЗ 208
END:VEVENT
BEGIN:VEVENT
UID:jefa@192.168.245.71:3006
SEQUENCE:0
DTSTAMP:20260425T153743Z
DTSTART:20251029T130000Z
DTEND:20251029T144000Z
SUMMARY:Иностранный язык в профессиональной коммуникации\, Английский
LOCATION:ГЗ 208
END:VEVENT
BEGIN:VEVENT
UID:ebb6@192.168.245.71:3006
SEQUENCE:0
DTSTAMP:20260425T153743Z
DTSTART:20251030T090000Z
DTEND:20251030T104000Z
SUMMARY:Техника высоких напряжений (на английском языке)
LOCATION:ВИТ 302
END:VEVENT
BEGIN:VEVENT
UID:qpwo@192.168.245.71:3006
SEQUENCE:0
DTSTAMP:20260425T153743Z
DTSTART:20251030T150000Z
DTEND:20251030T164000Z
SUMMARY:Управление инновационным проектом (на английском языке)
LOCATION:ТВН ВШАиТЭ уч.ауд.№102
END:VEVENT
END:VCALENDAR