BEGIN:VCALENDAR
VERSION:2.0
PRODID:-//spbstu.ru//ical//RU
NAME:Расписание группы 3241302/52101
X-WR-CALNAME:Расписание группы 3241302/52101
TIMEZONE-ID:Europe/Moscow
X-WR-TIMEZONE:Europe/Moscow
BEGIN:VEVENT
UID:kbsk@192.168.245.71:3006
SEQUENCE:0
DTSTAMP:20260421T210831Z
DTSTART:20260324T090000Z
DTEND:20260324T104000Z
SUMMARY:Техническая сверхпроводимость (на английском языке)
LOCATION:ГЗ 176
END:VEVENT
BEGIN:VEVENT
UID:4mwb@192.168.245.71:3006
SEQUENCE:0
DTSTAMP:20260421T210831Z
DTSTART:20260325T090000Z
DTEND:20260325T104000Z
SUMMARY:Компьютерные\, сетевые и информационные технологии в электроэнерге
 тике и электротехнике (на английском языке)
LOCATION:ВИТ 401
END:VEVENT
BEGIN:VEVENT
UID:5gwr@192.168.245.71:3006
SEQUENCE:0
DTSTAMP:20260421T210831Z
DTSTART:20260326T070000Z
DTEND:20260326T084000Z
SUMMARY:Электромагнитная совместимость (на английском языке)
LOCATION:ВИТ 402
END:VEVENT
BEGIN:VEVENT
UID:a9dh@192.168.245.71:3006
SEQUENCE:0
DTSTAMP:20260421T210831Z
DTSTART:20260328T090000Z
DTEND:20260328T104000Z
SUMMARY:Электромагнитная совместимость (на английском языке)
LOCATION:DL Дистанционно
END:VEVENT
BEGIN:VEVENT
UID:wwwv@192.168.245.71:3006
SEQUENCE:0
DTSTAMP:20260421T210831Z
DTSTART:20260328T110000Z
DTEND:20260328T124000Z
SUMMARY:Проектирование изоляции высокого напряжения (на английском языке)
LOCATION:DL Дистанционно
END:VEVENT
END:VCALENDAR