BEGIN:VCALENDAR
VERSION:2.0
PRODID:-//spbstu.ru//ical//RU
NAME:Расписание группы 3241303/50501
X-WR-CALNAME:Расписание группы 3241303/50501
TIMEZONE-ID:Europe/Moscow
X-WR-TIMEZONE:Europe/Moscow
BEGIN:VEVENT
UID:pwro@192.168.245.71:3006
SEQUENCE:0
DTSTAMP:20260424T110645Z
DTSTART:20251015T070000Z
DTEND:20251015T084000Z
SUMMARY:Регулирование и автоматизация компрессорных\, холодильных\, вакуум
 ных установок
LOCATION:Мех. к. Комп. кл. КВХТ №36
END:VEVENT
BEGIN:VEVENT
UID:nqnv@192.168.245.71:3006
SEQUENCE:0
DTSTAMP:20260424T110645Z
DTSTART:20251015T090000Z
DTEND:20251015T104000Z
SUMMARY:Проектирование и численный эксперимент компрессорных машин и вспом
 огательного оборудования
LOCATION:Мех. к. Комп. кл. КВХТ №37
END:VEVENT
BEGIN:VEVENT
UID:er9x@192.168.245.71:3006
SEQUENCE:0
DTSTAMP:20260424T110645Z
DTSTART:20251015T110000Z
DTEND:20251015T124000Z
SUMMARY:Энергетические технологии
LOCATION:Мех. к. Лаб. компрессоростроения №38
END:VEVENT
BEGIN:VEVENT
UID:sbja@192.168.245.71:3006
SEQUENCE:0
DTSTAMP:20260424T110645Z
DTSTART:20251016T070000Z
DTEND:20251016T084000Z
SUMMARY:Нетрадиционные и экологичные источники энергии
LOCATION:Мех. к. Комп. кл. КВХТ №36
END:VEVENT
BEGIN:VEVENT
UID:vlwm@192.168.245.71:3006
SEQUENCE:0
DTSTAMP:20260424T110645Z
DTSTART:20251016T090000Z
DTEND:20251016T104000Z
SUMMARY:Иностранный язык в профессиональной коммуникации\, Английский
LOCATION:Мех. к. Комп. кл. КВХТ №36
END:VEVENT
BEGIN:VEVENT
UID:0tcb@192.168.245.71:3006
SEQUENCE:0
DTSTAMP:20260424T110645Z
DTSTART:20251016T110000Z
DTEND:20251016T124000Z
SUMMARY:Регулирование и автоматизация компрессорных\, холодильных\, вакуум
 ных установок
LOCATION:Мех. к. Комп. кл. КВХТ №36
END:VEVENT
END:VCALENDAR