BEGIN:VCALENDAR
VERSION:2.0
PRODID:-//spbstu.ru//ical//RU
NAME:Расписание группы 3241303/50601
X-WR-CALNAME:Расписание группы 3241303/50601
TIMEZONE-ID:Europe/Moscow
X-WR-TIMEZONE:Europe/Moscow
BEGIN:VEVENT
UID:2ey1@192.168.245.71:3006
SEQUENCE:0
DTSTAMP:20260424T231745Z
DTSTART:20251015T090000Z
DTEND:20251015T104000Z
SUMMARY:Управление инновационным проектом
LOCATION:ТВН 203
END:VEVENT
BEGIN:VEVENT
UID:ru70@192.168.245.71:3006
SEQUENCE:0
DTSTAMP:20260424T231745Z
DTSTART:20251015T110000Z
DTEND:20251015T124000Z
SUMMARY:Динамика\, вибропрочность гидромашин
LOCATION:ТВН 203
END:VEVENT
BEGIN:VEVENT
UID:9521@192.168.245.71:3006
SEQUENCE:0
DTSTAMP:20260424T231745Z
DTSTART:20251015T130000Z
DTEND:20251015T144000Z
SUMMARY:Гидродинамические расчеты проточной части гидромашин
LOCATION:ТВН 203
END:VEVENT
BEGIN:VEVENT
UID:kd5e@192.168.245.71:3006
SEQUENCE:0
DTSTAMP:20260424T231745Z
DTSTART:20251016T090000Z
DTEND:20251016T104000Z
SUMMARY:Иностранный язык в профессиональной коммуникации\, Английский
LOCATION:Мех. к. Учеб. кл. №2
END:VEVENT
BEGIN:VEVENT
UID:wo3j@192.168.245.71:3006
SEQUENCE:0
DTSTAMP:20260424T231745Z
DTSTART:20251016T110000Z
DTEND:20251016T124000Z
SUMMARY:Насосное оборудования ТЭС и АЭС
LOCATION:ТВН ГМ уч.ауд.№316
END:VEVENT
BEGIN:VEVENT
UID:dbct@192.168.245.71:3006
SEQUENCE:0
DTSTAMP:20260424T231745Z
DTSTART:20251018T070000Z
DTEND:20251018T084000Z
SUMMARY:Энергетические технологии
LOCATION:ТВН ГМ уч.ауд.№316
END:VEVENT
BEGIN:VEVENT
UID:xyej@192.168.245.71:3006
SEQUENCE:0
DTSTAMP:20260424T231745Z
DTSTART:20251018T090000Z
DTEND:20251018T104000Z
SUMMARY:Цифровые ресурсы в научном исследовании
LOCATION:ТВН 203
END:VEVENT
BEGIN:VEVENT
UID:bjoh@192.168.245.71:3006
SEQUENCE:0
DTSTAMP:20260424T231745Z
DTSTART:20251018T110000Z
DTEND:20251018T124000Z
SUMMARY:Энергетические технологии
LOCATION:ТВН ГМ уч.ауд.№316
END:VEVENT
END:VCALENDAR