BEGIN:VCALENDAR
VERSION:2.0
PRODID:-//spbstu.ru//ical//RU
NAME:Расписание группы 3241303/50601
X-WR-CALNAME:Расписание группы 3241303/50601
TIMEZONE-ID:Europe/Moscow
X-WR-TIMEZONE:Europe/Moscow
BEGIN:VEVENT
UID:tple@192.168.245.71:3006
SEQUENCE:0
DTSTAMP:20260424T231701Z
DTSTART:20251022T090000Z
DTEND:20251022T104000Z
SUMMARY:Динамика\, вибропрочность гидромашин
LOCATION:ТВН ГМ уч.ауд.№316
END:VEVENT
BEGIN:VEVENT
UID:znco@192.168.245.71:3006
SEQUENCE:0
DTSTAMP:20260424T231701Z
DTSTART:20251022T110000Z
DTEND:20251022T124000Z
SUMMARY:Динамика\, вибропрочность гидромашин
LOCATION:ТВН 203
END:VEVENT
BEGIN:VEVENT
UID:s6k4@192.168.245.71:3006
SEQUENCE:0
DTSTAMP:20260424T231701Z
DTSTART:20251022T130000Z
DTEND:20251022T144000Z
SUMMARY:Гидродинамические расчеты проточной части гидромашин
LOCATION:ТВН 203
END:VEVENT
BEGIN:VEVENT
UID:1zbe@192.168.245.71:3006
SEQUENCE:0
DTSTAMP:20260424T231701Z
DTSTART:20251023T090000Z
DTEND:20251023T104000Z
SUMMARY:Иностранный язык в профессиональной коммуникации\, Английский
LOCATION:Мех. к. Учеб. кл. №2
END:VEVENT
BEGIN:VEVENT
UID:nnlq@192.168.245.71:3006
SEQUENCE:0
DTSTAMP:20260424T231701Z
DTSTART:20251023T110000Z
DTEND:20251023T124000Z
SUMMARY:Насосное оборудования ТЭС и АЭС
LOCATION:ТВН ГМ уч.ауд.№316
END:VEVENT
BEGIN:VEVENT
UID:08ya@192.168.245.71:3006
SEQUENCE:0
DTSTAMP:20260424T231701Z
DTSTART:20251023T130000Z
DTEND:20251023T144000Z
SUMMARY:Гидропривод и средства автоматики
LOCATION:ТВН ГМ уч.ауд.№316
END:VEVENT
BEGIN:VEVENT
UID:7m8p@192.168.245.71:3006
SEQUENCE:0
DTSTAMP:20260424T231701Z
DTSTART:20251023T150000Z
DTEND:20251023T164000Z
SUMMARY:Гидропривод и средства автоматики
LOCATION:ТВН ГМ уч.ауд.№316
END:VEVENT
END:VCALENDAR