BEGIN:VCALENDAR
VERSION:2.0
PRODID:-//spbstu.ru//ical//RU
NAME:Расписание группы 3241303/50601
X-WR-CALNAME:Расписание группы 3241303/50601
TIMEZONE-ID:Europe/Moscow
X-WR-TIMEZONE:Europe/Moscow
BEGIN:VEVENT
UID:q45r@192.168.245.71:3006
SEQUENCE:0
DTSTAMP:20260425T134843Z
DTSTART:20251008T090000Z
DTEND:20251008T104000Z
SUMMARY:Динамика\, вибропрочность гидромашин
LOCATION:ТВН ГМ уч.ауд.№316
END:VEVENT
BEGIN:VEVENT
UID:qg15@192.168.245.71:3006
SEQUENCE:0
DTSTAMP:20260425T134843Z
DTSTART:20251008T110000Z
DTEND:20251008T124000Z
SUMMARY:Динамика\, вибропрочность гидромашин
LOCATION:ТВН 203
END:VEVENT
BEGIN:VEVENT
UID:c8up@192.168.245.71:3006
SEQUENCE:0
DTSTAMP:20260425T134843Z
DTSTART:20251008T130000Z
DTEND:20251008T144000Z
SUMMARY:Гидродинамические расчеты проточной части гидромашин
LOCATION:ТВН 203
END:VEVENT
BEGIN:VEVENT
UID:0wcv@192.168.245.71:3006
SEQUENCE:0
DTSTAMP:20260425T134843Z
DTSTART:20251009T090000Z
DTEND:20251009T104000Z
SUMMARY:Иностранный язык в профессиональной коммуникации\, Английский
LOCATION:Мех. к. Учеб. кл. №2
END:VEVENT
BEGIN:VEVENT
UID:90vy@192.168.245.71:3006
SEQUENCE:0
DTSTAMP:20260425T134843Z
DTSTART:20251009T110000Z
DTEND:20251009T124000Z
SUMMARY:Насосное оборудования ТЭС и АЭС
LOCATION:ТВН ГМ уч.ауд.№316
END:VEVENT
BEGIN:VEVENT
UID:iwob@192.168.245.71:3006
SEQUENCE:0
DTSTAMP:20260425T134843Z
DTSTART:20251009T130000Z
DTEND:20251009T144000Z
SUMMARY:Гидропривод и средства автоматики
LOCATION:ТВН ГМ уч.ауд.№316
END:VEVENT
BEGIN:VEVENT
UID:6q7q@192.168.245.71:3006
SEQUENCE:0
DTSTAMP:20260425T134843Z
DTSTART:20251009T150000Z
DTEND:20251009T164000Z
SUMMARY:Гидропривод и средства автоматики
LOCATION:ТВН ГМ уч.ауд.№316
END:VEVENT
END:VCALENDAR