BEGIN:VCALENDAR
VERSION:2.0
PRODID:-//spbstu.ru//ical//RU
NAME:Расписание группы 3241303/50601
X-WR-CALNAME:Расписание группы 3241303/50601
TIMEZONE-ID:Europe/Moscow
X-WR-TIMEZONE:Europe/Moscow
BEGIN:VEVENT
UID:u8uo@192.168.245.71:3006
SEQUENCE:0
DTSTAMP:20260421T120948Z
DTSTART:20260525T090000Z
DTEND:20260525T104000Z
SUMMARY:Насосное оборудования ТЭС и АЭС
LOCATION:ТВН ГМ уч.ауд.№316
END:VEVENT
BEGIN:VEVENT
UID:932f@192.168.245.71:3006
SEQUENCE:0
DTSTAMP:20260421T120948Z
DTSTART:20260526T070000Z
DTEND:20260526T084000Z
SUMMARY:Специальные исследования гидромашин
LOCATION:ТВН ГМ уч.ауд.№201
END:VEVENT
BEGIN:VEVENT
UID:p9qr@192.168.245.71:3006
SEQUENCE:0
DTSTAMP:20260421T120948Z
DTSTART:20260528T100000Z
DTEND:20260528T130000Z
SUMMARY:Экономика и управление в энергетике
LOCATION:ГЗ 107
END:VEVENT
END:VCALENDAR