BEGIN:VCALENDAR
VERSION:2.0
PRODID:-//spbstu.ru//ical//RU
NAME:Расписание группы 3241303/50601
X-WR-CALNAME:Расписание группы 3241303/50601
TIMEZONE-ID:Europe/Moscow
X-WR-TIMEZONE:Europe/Moscow
BEGIN:VEVENT
UID:iqgc@192.168.245.71:3006
SEQUENCE:0
DTSTAMP:20260421T173329Z
DTSTART:20260608T090000Z
DTEND:20260608T130000Z
SUMMARY:Насосное оборудования ТЭС и АЭС
LOCATION:ТВН ГМ уч.ауд.№316
END:VEVENT
BEGIN:VEVENT
UID:kdjp@192.168.245.71:3006
SEQUENCE:0
DTSTAMP:20260421T173329Z
DTSTART:20260610T090000Z
DTEND:20260610T104000Z
SUMMARY:Насосное оборудования ТЭС и АЭС
LOCATION:ТВН ГМ уч.ауд.№316
END:VEVENT
BEGIN:VEVENT
UID:k3iq@192.168.245.71:3006
SEQUENCE:0
DTSTAMP:20260421T173329Z
DTSTART:20260611T090000Z
DTEND:20260611T150000Z
SUMMARY:Насосное оборудования ТЭС и АЭС
LOCATION:ТВН ГМ уч.ауд.№316
END:VEVENT
END:VCALENDAR