BEGIN:VCALENDAR
VERSION:2.0
PRODID:-//spbstu.ru//ical//RU
NAME:Расписание группы 3251402/50001
X-WR-CALNAME:Расписание группы 3251402/50001
TIMEZONE-ID:Europe/Moscow
X-WR-TIMEZONE:Europe/Moscow
BEGIN:VEVENT
UID:ja34@192.168.245.71:3006
SEQUENCE:0
DTSTAMP:20260423T182639Z
DTSTART:20251013T090000Z
DTEND:20251013T104000Z
SUMMARY:Метрология
LOCATION:Мех. к. 14
END:VEVENT
BEGIN:VEVENT
UID:dcjn@192.168.245.71:3006
SEQUENCE:0
DTSTAMP:20260423T182639Z
DTSTART:20251013T110000Z
DTEND:20251013T124000Z
SUMMARY:Основы цифровых технологий
LOCATION:ТВН ВШАиТЭ комп.кл.
END:VEVENT
BEGIN:VEVENT
UID:khcf@192.168.245.71:3006
SEQUENCE:0
DTSTAMP:20260423T182639Z
DTSTART:20251013T130000Z
DTEND:20251013T144000Z
SUMMARY:Высшая математика
LOCATION:ГЗ 253
END:VEVENT
BEGIN:VEVENT
UID:bv3j@192.168.245.71:3006
SEQUENCE:0
DTSTAMP:20260423T182639Z
DTSTART:20251014T050000Z
DTEND:20251014T064000Z
SUMMARY:Элективная физическая культура и спорт
LOCATION:СК Секции
END:VEVENT
BEGIN:VEVENT
UID:x0xk@192.168.245.71:3006
SEQUENCE:0
DTSTAMP:20260423T182639Z
DTSTART:20251014T070000Z
DTEND:20251014T084000Z
SUMMARY:История России
LOCATION:ГЗ Белый зал
END:VEVENT
BEGIN:VEVENT
UID:9dw1@192.168.245.71:3006
SEQUENCE:0
DTSTAMP:20260423T182639Z
DTSTART:20251014T090000Z
DTEND:20251014T104000Z
SUMMARY:Основы российской государственности
LOCATION:ГЗ 223
END:VEVENT
BEGIN:VEVENT
UID:8n7m@192.168.245.71:3006
SEQUENCE:0
DTSTAMP:20260423T182639Z
DTSTART:20251014T110000Z
DTEND:20251014T124000Z
SUMMARY:Экономическая культура
LOCATION:ГЗ 178
END:VEVENT
BEGIN:VEVENT
UID:x92k@192.168.245.71:3006
SEQUENCE:0
DTSTAMP:20260423T182639Z
DTSTART:20251015T070000Z
DTEND:20251015T084000Z
SUMMARY:Инженерная графика
LOCATION:ГЗ 122
END:VEVENT
BEGIN:VEVENT
UID:404l@192.168.245.71:3006
SEQUENCE:0
DTSTAMP:20260423T182639Z
DTSTART:20251015T090000Z
DTEND:20251015T104000Z
SUMMARY:Высшая математика
LOCATION:ГЗ 224
END:VEVENT
BEGIN:VEVENT
UID:bq7j@192.168.245.71:3006
SEQUENCE:0
DTSTAMP:20260423T182639Z
DTSTART:20251015T110000Z
DTEND:20251015T124000Z
SUMMARY:Иностранный язык: Базовый курс
LOCATION:ГЗ 222
END:VEVENT
BEGIN:VEVENT
UID:x4nw@192.168.245.71:3006
SEQUENCE:0
DTSTAMP:20260423T182639Z
DTSTART:20251016T070000Z
DTEND:20251016T084000Z
SUMMARY:Метрология
LOCATION:ГЗ 283
END:VEVENT
BEGIN:VEVENT
UID:ygrl@192.168.245.71:3006
SEQUENCE:0
DTSTAMP:20260423T182639Z
DTSTART:20251016T090000Z
DTEND:20251016T104000Z
SUMMARY:Высшая математика
LOCATION:ГЗ 106
END:VEVENT
BEGIN:VEVENT
UID:80o0@192.168.245.71:3006
SEQUENCE:0
DTSTAMP:20260423T182639Z
DTSTART:20251016T110000Z
DTEND:20251016T124000Z
SUMMARY:Инженерная графика
LOCATION:ГЗ 239
END:VEVENT
BEGIN:VEVENT
UID:9bat@192.168.245.71:3006
SEQUENCE:0
DTSTAMP:20260423T182639Z
DTSTART:20251017T070000Z
DTEND:20251017T084000Z
SUMMARY:Элективная физическая культура и спорт
LOCATION:СК Секции
END:VEVENT
BEGIN:VEVENT
UID:iqm1@192.168.245.71:3006
SEQUENCE:0
DTSTAMP:20260423T182639Z
DTSTART:20251017T090000Z
DTEND:20251017T104000Z
SUMMARY:История России
LOCATION:ГЗ 225
END:VEVENT
BEGIN:VEVENT
UID:l8x4@192.168.245.71:3006
SEQUENCE:0
DTSTAMP:20260423T182639Z
DTSTART:20251017T110000Z
DTEND:20251017T124000Z
SUMMARY:Метрология
LOCATION:Мех. к. 14
END:VEVENT
BEGIN:VEVENT
UID:1v28@192.168.245.71:3006
SEQUENCE:0
DTSTAMP:20260423T182639Z
DTSTART:20251017T140000Z
DTEND:20251017T154000Z
SUMMARY:Введение в профессиональную деятельность
LOCATION:DL Дистанционно
END:VEVENT
BEGIN:VEVENT
UID:nmio@192.168.245.71:3006
SEQUENCE:0
DTSTAMP:20260423T182639Z
DTSTART:20251018T070000Z
DTEND:20251018T084000Z
SUMMARY:Иностранный язык: Русский язык как иностранный
LOCATION:ГЗ 284
END:VEVENT
BEGIN:VEVENT
UID:o56z@192.168.245.71:3006
SEQUENCE:0
DTSTAMP:20260423T182639Z
DTSTART:20251018T090000Z
DTEND:20251018T104000Z
SUMMARY:Иностранный язык: Русский язык как иностранный
LOCATION:ГЗ 284
END:VEVENT
BEGIN:VEVENT
UID:bssj@192.168.245.71:3006
SEQUENCE:0
DTSTAMP:20260423T182639Z
DTSTART:20251018T110000Z
DTEND:20251018T133000Z
SUMMARY:Русский язык как иностранный
LOCATION:15 к. 705
END:VEVENT
END:VCALENDAR