BEGIN:VCALENDAR
VERSION:2.0
PRODID:-//spbstu.ru//ical//RU
NAME:Расписание группы 3251402/50001
X-WR-CALNAME:Расписание группы 3251402/50001
TIMEZONE-ID:Europe/Moscow
X-WR-TIMEZONE:Europe/Moscow
BEGIN:VEVENT
UID:zpxs@192.168.245.71:3006
SEQUENCE:0
DTSTAMP:20260424T120713Z
DTSTART:20250915T070000Z
DTEND:20250915T084000Z
SUMMARY:Тестирование по математике
LOCATION:НИК А2.17 (1-2)
END:VEVENT
BEGIN:VEVENT
UID:a55d@192.168.245.71:3006
SEQUENCE:0
DTSTAMP:20260424T120713Z
DTSTART:20250915T090000Z
DTEND:20250915T104000Z
SUMMARY:Метрология
LOCATION:Мех. к. 14
END:VEVENT
BEGIN:VEVENT
UID:hag1@192.168.245.71:3006
SEQUENCE:0
DTSTAMP:20260424T120713Z
DTSTART:20250915T110000Z
DTEND:20250915T124000Z
SUMMARY:Основы цифровых технологий
LOCATION:ТВН ВШАиТЭ комп.кл.
END:VEVENT
BEGIN:VEVENT
UID:24vw@192.168.245.71:3006
SEQUENCE:0
DTSTAMP:20260424T120713Z
DTSTART:20250915T130000Z
DTEND:20250915T144000Z
SUMMARY:Высшая математика
LOCATION:ГЗ 253
END:VEVENT
BEGIN:VEVENT
UID:x782@192.168.245.71:3006
SEQUENCE:0
DTSTAMP:20260424T120713Z
DTSTART:20250916T050000Z
DTEND:20250916T064000Z
SUMMARY:Элективная физическая культура и спорт
LOCATION:СК Секции
END:VEVENT
BEGIN:VEVENT
UID:uncy@192.168.245.71:3006
SEQUENCE:0
DTSTAMP:20260424T120713Z
DTSTART:20250916T070000Z
DTEND:20250916T084000Z
SUMMARY:История России
LOCATION:ГЗ Белый зал
END:VEVENT
BEGIN:VEVENT
UID:ydvs@192.168.245.71:3006
SEQUENCE:0
DTSTAMP:20260424T120713Z
DTSTART:20250916T090000Z
DTEND:20250916T104000Z
SUMMARY:Основы российской государственности
LOCATION:ГЗ 223
END:VEVENT
BEGIN:VEVENT
UID:rv7a@192.168.245.71:3006
SEQUENCE:0
DTSTAMP:20260424T120713Z
DTSTART:20250916T110000Z
DTEND:20250916T124000Z
SUMMARY:Экономическая культура
LOCATION:ГЗ 178
END:VEVENT
BEGIN:VEVENT
UID:pz41@192.168.245.71:3006
SEQUENCE:0
DTSTAMP:20260424T120713Z
DTSTART:20250916T130000Z
DTEND:20250916T144000Z
SUMMARY:Факультатив по физике
LOCATION:ГЗ 329
END:VEVENT
BEGIN:VEVENT
UID:ohyl@192.168.245.71:3006
SEQUENCE:0
DTSTAMP:20260424T120713Z
DTSTART:20250917T070000Z
DTEND:20250917T084000Z
SUMMARY:Инженерная графика
LOCATION:ГЗ 122
END:VEVENT
BEGIN:VEVENT
UID:6qt2@192.168.245.71:3006
SEQUENCE:0
DTSTAMP:20260424T120713Z
DTSTART:20250917T090000Z
DTEND:20250917T104000Z
SUMMARY:Высшая математика
LOCATION:ГЗ 224
END:VEVENT
BEGIN:VEVENT
UID:l7d6@192.168.245.71:3006
SEQUENCE:0
DTSTAMP:20260424T120713Z
DTSTART:20250917T110000Z
DTEND:20250917T124000Z
SUMMARY:Иностранный язык: Базовый курс
LOCATION:ГЗ 222
END:VEVENT
BEGIN:VEVENT
UID:xjkc@192.168.245.71:3006
SEQUENCE:0
DTSTAMP:20260424T120713Z
DTSTART:20250918T070000Z
DTEND:20250918T084000Z
SUMMARY:Метрология
LOCATION:ГЗ 283
END:VEVENT
BEGIN:VEVENT
UID:9i3c@192.168.245.71:3006
SEQUENCE:0
DTSTAMP:20260424T120713Z
DTSTART:20250918T090000Z
DTEND:20250918T104000Z
SUMMARY:Высшая математика
LOCATION:ГЗ 106
END:VEVENT
BEGIN:VEVENT
UID:crts@192.168.245.71:3006
SEQUENCE:0
DTSTAMP:20260424T120713Z
DTSTART:20250918T110000Z
DTEND:20250918T124000Z
SUMMARY:Инженерная графика
LOCATION:ГЗ 239
END:VEVENT
BEGIN:VEVENT
UID:aaex@192.168.245.71:3006
SEQUENCE:0
DTSTAMP:20260424T120713Z
DTSTART:20250919T070000Z
DTEND:20250919T084000Z
SUMMARY:Элективная физическая культура и спорт
LOCATION:СК Секции
END:VEVENT
BEGIN:VEVENT
UID:qy2q@192.168.245.71:3006
SEQUENCE:0
DTSTAMP:20260424T120713Z
DTSTART:20250919T090000Z
DTEND:20250919T104000Z
SUMMARY:История России
LOCATION:ГЗ 225
END:VEVENT
BEGIN:VEVENT
UID:i6f2@192.168.245.71:3006
SEQUENCE:0
DTSTAMP:20260424T120713Z
DTSTART:20250919T110000Z
DTEND:20250919T124000Z
SUMMARY:Метрология
LOCATION:Мех. к. 14
END:VEVENT
BEGIN:VEVENT
UID:1pqa@192.168.245.71:3006
SEQUENCE:0
DTSTAMP:20260424T120713Z
DTSTART:20250919T140000Z
DTEND:20250919T154000Z
SUMMARY:Введение в профессиональную деятельность
LOCATION:DL Дистанционно
END:VEVENT
BEGIN:VEVENT
UID:clnf@192.168.245.71:3006
SEQUENCE:0
DTSTAMP:20260424T120713Z
DTSTART:20250920T070000Z
DTEND:20250920T084000Z
SUMMARY:Иностранный язык: Русский язык как иностранный
LOCATION:ГЗ 284
END:VEVENT
BEGIN:VEVENT
UID:8d9v@192.168.245.71:3006
SEQUENCE:0
DTSTAMP:20260424T120713Z
DTSTART:20250920T090000Z
DTEND:20250920T104000Z
SUMMARY:Иностранный язык: Русский язык как иностранный
LOCATION:ГЗ 284
END:VEVENT
END:VCALENDAR