BEGIN:VCALENDAR
VERSION:2.0
PRODID:-//spbstu.ru//ical//RU
NAME:Расписание группы 3251402/50001
X-WR-CALNAME:Расписание группы 3251402/50001
TIMEZONE-ID:Europe/Moscow
X-WR-TIMEZONE:Europe/Moscow
BEGIN:VEVENT
UID:0b7w@192.168.245.71:3006
SEQUENCE:0
DTSTAMP:20260421T043344Z
DTSTART:20260302T060000Z
DTEND:20260302T084000Z
SUMMARY:Информатика
LOCATION:ТВН ВШАиТЭ уч.ауд.№303
END:VEVENT
BEGIN:VEVENT
UID:78f9@192.168.245.71:3006
SEQUENCE:0
DTSTAMP:20260421T043344Z
DTSTART:20260302T090000Z
DTEND:20260302T104000Z
SUMMARY:История России
LOCATION:ГЗ Белый зал
END:VEVENT
BEGIN:VEVENT
UID:u0iw@192.168.245.71:3006
SEQUENCE:0
DTSTAMP:20260421T043344Z
DTSTART:20260302T110000Z
DTEND:20260302T124000Z
SUMMARY:Теоретическая механика
LOCATION:ГЗ 283
END:VEVENT
BEGIN:VEVENT
UID:pne5@192.168.245.71:3006
SEQUENCE:0
DTSTAMP:20260421T043344Z
DTSTART:20260302T130000Z
DTEND:20260302T144000Z
SUMMARY:Высшая математика повышенной сложности
LOCATION:ГЗ 232
END:VEVENT
BEGIN:VEVENT
UID:msxm@192.168.245.71:3006
SEQUENCE:0
DTSTAMP:20260421T043344Z
DTSTART:20260303T050000Z
DTEND:20260303T064000Z
SUMMARY:Элективная физическая культура и спорт
LOCATION:СК Секции
END:VEVENT
BEGIN:VEVENT
UID:qftk@192.168.245.71:3006
SEQUENCE:0
DTSTAMP:20260421T043344Z
DTSTART:20260303T070000Z
DTEND:20260303T084000Z
SUMMARY:Физика
LOCATION:ГЗ 257
END:VEVENT
BEGIN:VEVENT
UID:8wp7@192.168.245.71:3006
SEQUENCE:0
DTSTAMP:20260421T043344Z
DTSTART:20260303T090000Z
DTEND:20260303T104000Z
SUMMARY:Иностранный язык: Базовый курс
LOCATION:ГЗ 240
END:VEVENT
BEGIN:VEVENT
UID:w2zm@192.168.245.71:3006
SEQUENCE:0
DTSTAMP:20260421T043344Z
DTSTART:20260303T110000Z
DTEND:20260303T124000Z
SUMMARY:Высшая математика
LOCATION:ГЗ 107
END:VEVENT
BEGIN:VEVENT
UID:rxtd@192.168.245.71:3006
SEQUENCE:0
DTSTAMP:20260421T043344Z
DTSTART:20260303T150000Z
DTEND:20260303T164000Z
SUMMARY:Философия
LOCATION:DL Дистанционно
END:VEVENT
BEGIN:VEVENT
UID:scak@192.168.245.71:3006
SEQUENCE:0
DTSTAMP:20260421T043344Z
DTSTART:20260304T070000Z
DTEND:20260304T084000Z
SUMMARY:Информатика
LOCATION:ГЗ 257
END:VEVENT
BEGIN:VEVENT
UID:ur3a@192.168.245.71:3006
SEQUENCE:0
DTSTAMP:20260421T043344Z
DTSTART:20260304T090000Z
DTEND:20260304T104000Z
SUMMARY:Инженерная графика
LOCATION:ГЗ 123
END:VEVENT
BEGIN:VEVENT
UID:m5cm@192.168.245.71:3006
SEQUENCE:0
DTSTAMP:20260421T043344Z
DTSTART:20260304T110000Z
DTEND:20260304T124000Z
SUMMARY:Химия
LOCATION:Хим. к. 10
END:VEVENT
BEGIN:VEVENT
UID:ez0u@192.168.245.71:3006
SEQUENCE:0
DTSTAMP:20260421T043344Z
DTSTART:20260304T130000Z
DTEND:20260304T134000Z
SUMMARY:Химия
LOCATION:Хим. к. 10
END:VEVENT
BEGIN:VEVENT
UID:2mzl@192.168.245.71:3006
SEQUENCE:0
DTSTAMP:20260421T043344Z
DTSTART:20260304T130000Z
DTEND:20260304T134000Z
SUMMARY:Химия
LOCATION:Хим. к. 10
END:VEVENT
BEGIN:VEVENT
UID:b1sc@192.168.245.71:3006
SEQUENCE:0
DTSTAMP:20260421T043344Z
DTSTART:20260305T090000Z
DTEND:20260305T104000Z
SUMMARY:Высшая математика
LOCATION:ГЗ 224
END:VEVENT
BEGIN:VEVENT
UID:k8nb@192.168.245.71:3006
SEQUENCE:0
DTSTAMP:20260421T043344Z
DTSTART:20260305T110000Z
DTEND:20260305T124000Z
SUMMARY:Физика
LOCATION:ГЗ 155
END:VEVENT
BEGIN:VEVENT
UID:mnid@192.168.245.71:3006
SEQUENCE:0
DTSTAMP:20260421T043344Z
DTSTART:20260305T110000Z
DTEND:20260305T124000Z
SUMMARY:Физика
LOCATION:ГЗ 155
END:VEVENT
BEGIN:VEVENT
UID:am23@192.168.245.71:3006
SEQUENCE:0
DTSTAMP:20260421T043344Z
DTSTART:20260305T130000Z
DTEND:20260305T144000Z
SUMMARY:Инженерная графика
LOCATION:ГЗ 283
END:VEVENT
BEGIN:VEVENT
UID:ruea@192.168.245.71:3006
SEQUENCE:0
DTSTAMP:20260421T043344Z
DTSTART:20260306T050000Z
DTEND:20260306T064000Z
SUMMARY:Факультатив по основам методологии научных исследований
LOCATION:ГЗ 123
END:VEVENT
BEGIN:VEVENT
UID:du91@192.168.245.71:3006
SEQUENCE:0
DTSTAMP:20260421T043344Z
DTSTART:20260306T070000Z
DTEND:20260306T084000Z
SUMMARY:Элективная физическая культура и спорт
LOCATION:СК Секции
END:VEVENT
BEGIN:VEVENT
UID:6koi@192.168.245.71:3006
SEQUENCE:0
DTSTAMP:20260421T043344Z
DTSTART:20260306T090000Z
DTEND:20260306T104000Z
SUMMARY:Химия
LOCATION:Хим. к. 52
END:VEVENT
BEGIN:VEVENT
UID:2k3t@192.168.245.71:3006
SEQUENCE:0
DTSTAMP:20260421T043344Z
DTSTART:20260306T110000Z
DTEND:20260306T124000Z
SUMMARY:Физика
LOCATION:ГЗ 239
END:VEVENT
BEGIN:VEVENT
UID:j7jx@192.168.245.71:3006
SEQUENCE:0
DTSTAMP:20260421T043344Z
DTSTART:20260307T060000Z
DTEND:20260307T084000Z
SUMMARY:Физика повышенной сложности
LOCATION:ГЗ 283
END:VEVENT
BEGIN:VEVENT
UID:hmy8@192.168.245.71:3006
SEQUENCE:0
DTSTAMP:20260421T043344Z
DTSTART:20260307T070000Z
DTEND:20260307T084000Z
SUMMARY:Иностранный язык: Русский язык как иностранный
LOCATION:ГЗ 230
END:VEVENT
BEGIN:VEVENT
UID:mi1p@192.168.245.71:3006
SEQUENCE:0
DTSTAMP:20260421T043344Z
DTSTART:20260307T090000Z
DTEND:20260307T104000Z
SUMMARY:Иностранный язык: Русский язык как иностранный
LOCATION:ГЗ 230
END:VEVENT
BEGIN:VEVENT
UID:bhrc@192.168.245.71:3006
SEQUENCE:0
DTSTAMP:20260421T043344Z
DTSTART:20260307T090000Z
DTEND:20260307T104000Z
SUMMARY:Физика повышенной сложности
LOCATION:ГЗ 283
END:VEVENT
BEGIN:VEVENT
UID:q63e@192.168.245.71:3006
SEQUENCE:0
DTSTAMP:20260421T043344Z
DTSTART:20260307T110000Z
DTEND:20260307T124000Z
SUMMARY:Высшая математика повышенной сложности
LOCATION:ГЗ 284
END:VEVENT
END:VCALENDAR