BEGIN:VCALENDAR
VERSION:2.0
PRODID:-//spbstu.ru//ical//RU
NAME:Расписание группы 3251402/50002
X-WR-CALNAME:Расписание группы 3251402/50002
TIMEZONE-ID:Europe/Moscow
X-WR-TIMEZONE:Europe/Moscow
BEGIN:VEVENT
UID:z1j5@192.168.245.71:3006
SEQUENCE:0
DTSTAMP:20260425T105220Z
DTSTART:20251117T090000Z
DTEND:20251117T104000Z
SUMMARY:Иностранный язык: Базовый курс
LOCATION:ГЗ 220
END:VEVENT
BEGIN:VEVENT
UID:3n8u@192.168.245.71:3006
SEQUENCE:0
DTSTAMP:20260425T105220Z
DTSTART:20251117T110000Z
DTEND:20251117T124000Z
SUMMARY:Высшая математика
LOCATION:ГЗ 283
END:VEVENT
BEGIN:VEVENT
UID:jo9s@192.168.245.71:3006
SEQUENCE:0
DTSTAMP:20260425T105220Z
DTSTART:20251117T130000Z
DTEND:20251117T144000Z
SUMMARY:Высшая математика
LOCATION:ГЗ 253
END:VEVENT
BEGIN:VEVENT
UID:3rgk@192.168.245.71:3006
SEQUENCE:0
DTSTAMP:20260425T105220Z
DTSTART:20251118T050000Z
DTEND:20251118T064000Z
SUMMARY:Элективная физическая культура и спорт
LOCATION:СК Секции
END:VEVENT
BEGIN:VEVENT
UID:terq@192.168.245.71:3006
SEQUENCE:0
DTSTAMP:20260425T105220Z
DTSTART:20251118T070000Z
DTEND:20251118T084000Z
SUMMARY:Основы российской государственности
LOCATION:ГЗ Белый зал
END:VEVENT
BEGIN:VEVENT
UID:z9a6@192.168.245.71:3006
SEQUENCE:0
DTSTAMP:20260425T105220Z
DTSTART:20251118T090000Z
DTEND:20251118T104000Z
SUMMARY:Основы российской государственности
LOCATION:ГЗ 255
END:VEVENT
BEGIN:VEVENT
UID:9a9s@192.168.245.71:3006
SEQUENCE:0
DTSTAMP:20260425T105220Z
DTSTART:20251118T130000Z
DTEND:20251118T144000Z
SUMMARY:Факультатив по математике
LOCATION:ГЗ 329
END:VEVENT
BEGIN:VEVENT
UID:8dj2@192.168.245.71:3006
SEQUENCE:0
DTSTAMP:20260425T105220Z
DTSTART:20251119T070000Z
DTEND:20251119T084000Z
SUMMARY:Инженерная графика
LOCATION:ГЗ 239
END:VEVENT
BEGIN:VEVENT
UID:arrg@192.168.245.71:3006
SEQUENCE:0
DTSTAMP:20260425T105220Z
DTSTART:20251119T090000Z
DTEND:20251119T104000Z
SUMMARY:Высшая математика
LOCATION:ГЗ 224
END:VEVENT
BEGIN:VEVENT
UID:8qwi@192.168.245.71:3006
SEQUENCE:0
DTSTAMP:20260425T105220Z
DTSTART:20251119T110000Z
DTEND:20251119T124000Z
SUMMARY:Метрология
LOCATION:Мех. к. 14
END:VEVENT
BEGIN:VEVENT
UID:sn4m@192.168.245.71:3006
SEQUENCE:0
DTSTAMP:20260425T105220Z
DTSTART:20251120T090000Z
DTEND:20251120T104000Z
SUMMARY:История России
LOCATION:ГЗ 244
END:VEVENT
BEGIN:VEVENT
UID:i1df@192.168.245.71:3006
SEQUENCE:0
DTSTAMP:20260425T105220Z
DTSTART:20251120T110000Z
DTEND:20251120T124000Z
SUMMARY:Высшая математика
LOCATION:ГЗ 253
END:VEVENT
BEGIN:VEVENT
UID:yl1p@192.168.245.71:3006
SEQUENCE:0
DTSTAMP:20260425T105220Z
DTSTART:20251120T130000Z
DTEND:20251120T144000Z
SUMMARY:Творческие семестры
LOCATION:ГЗ Белый зал
END:VEVENT
BEGIN:VEVENT
UID:lzdu@192.168.245.71:3006
SEQUENCE:0
DTSTAMP:20260425T105220Z
DTSTART:20251120T150000Z
DTEND:20251120T170000Z
SUMMARY:Факультатив по физике повышенной сложности
LOCATION:ГЗ 329
END:VEVENT
BEGIN:VEVENT
UID:8o2k@192.168.245.71:3006
SEQUENCE:0
DTSTAMP:20260425T105220Z
DTSTART:20251121T070000Z
DTEND:20251121T084000Z
SUMMARY:Элективная физическая культура и спорт
LOCATION:СК Секции
END:VEVENT
BEGIN:VEVENT
UID:0dt8@192.168.245.71:3006
SEQUENCE:0
DTSTAMP:20260425T105220Z
DTSTART:20251121T090000Z
DTEND:20251121T104000Z
SUMMARY:Метрология
LOCATION:Мех. к. 14
END:VEVENT
BEGIN:VEVENT
UID:opaz@192.168.245.71:3006
SEQUENCE:0
DTSTAMP:20260425T105220Z
DTSTART:20251121T140000Z
DTEND:20251121T154000Z
SUMMARY:Введение в профессиональную деятельность
LOCATION:DL Дистанционно
END:VEVENT
BEGIN:VEVENT
UID:pm93@192.168.245.71:3006
SEQUENCE:0
DTSTAMP:20260425T105220Z
DTSTART:20251122T070000Z
DTEND:20251122T093000Z
SUMMARY:Высшая математика повышенной сложности
LOCATION:ГЗ 253
END:VEVENT
BEGIN:VEVENT
UID:f4z1@192.168.245.71:3006
SEQUENCE:0
DTSTAMP:20260425T105220Z
DTSTART:20251122T070000Z
DTEND:20251122T084000Z
SUMMARY:Иностранный язык: Русский язык как иностранный
LOCATION:ГЗ 284
END:VEVENT
BEGIN:VEVENT
UID:0xvy@192.168.245.71:3006
SEQUENCE:0
DTSTAMP:20260425T105220Z
DTSTART:20251122T090000Z
DTEND:20251122T104000Z
SUMMARY:Иностранный язык: Русский язык как иностранный
LOCATION:ГЗ 284
END:VEVENT
BEGIN:VEVENT
UID:qqau@192.168.245.71:3006
SEQUENCE:0
DTSTAMP:20260425T105220Z
DTSTART:20251122T110000Z
DTEND:20251122T133000Z
SUMMARY:Русский язык как иностранный
LOCATION:15 к. 705
END:VEVENT
END:VCALENDAR