BEGIN:VCALENDAR
VERSION:2.0
PRODID:-//spbstu.ru//ical//RU
NAME:Расписание группы 3251402/50003
X-WR-CALNAME:Расписание группы 3251402/50003
TIMEZONE-ID:Europe/Moscow
X-WR-TIMEZONE:Europe/Moscow
BEGIN:VEVENT
UID:b9e6@192.168.245.71:3006
SEQUENCE:0
DTSTAMP:20260420T192859Z
DTSTART:20260330T060000Z
DTEND:20260330T064000Z
SUMMARY:Химия
LOCATION:Хим. к. 10
END:VEVENT
BEGIN:VEVENT
UID:vj3y@192.168.245.71:3006
SEQUENCE:0
DTSTAMP:20260420T192859Z
DTSTART:20260330T060000Z
DTEND:20260330T064000Z
SUMMARY:Химия
LOCATION:Хим. к. 10
END:VEVENT
BEGIN:VEVENT
UID:kqxx@192.168.245.71:3006
SEQUENCE:0
DTSTAMP:20260420T192859Z
DTSTART:20260330T070000Z
DTEND:20260330T084000Z
SUMMARY:Химия
LOCATION:Хим. к. 10
END:VEVENT
BEGIN:VEVENT
UID:p74s@192.168.245.71:3006
SEQUENCE:0
DTSTAMP:20260420T192859Z
DTSTART:20260330T090000Z
DTEND:20260330T104000Z
SUMMARY:История России
LOCATION:ГЗ Белый зал
END:VEVENT
BEGIN:VEVENT
UID:3860@192.168.245.71:3006
SEQUENCE:0
DTSTAMP:20260420T192859Z
DTSTART:20260330T110000Z
DTEND:20260330T124000Z
SUMMARY:Теоретическая механика
LOCATION:ГЗ 283
END:VEVENT
BEGIN:VEVENT
UID:08eh@192.168.245.71:3006
SEQUENCE:0
DTSTAMP:20260420T192859Z
DTSTART:20260330T130000Z
DTEND:20260330T144000Z
SUMMARY:Высшая математика повышенной сложности
LOCATION:ГЗ 232
END:VEVENT
BEGIN:VEVENT
UID:8v7x@192.168.245.71:3006
SEQUENCE:0
DTSTAMP:20260420T192859Z
DTSTART:20260331T050000Z
DTEND:20260331T064000Z
SUMMARY:Элективная физическая культура и спорт
LOCATION:СК Секции
END:VEVENT
BEGIN:VEVENT
UID:ry94@192.168.245.71:3006
SEQUENCE:0
DTSTAMP:20260420T192859Z
DTSTART:20260331T070000Z
DTEND:20260331T084000Z
SUMMARY:Физика
LOCATION:ГЗ 257
END:VEVENT
BEGIN:VEVENT
UID:qp3e@192.168.245.71:3006
SEQUENCE:0
DTSTAMP:20260420T192859Z
DTSTART:20260331T090000Z
DTEND:20260331T104000Z
SUMMARY:Высшая математика
LOCATION:ГЗ 107
END:VEVENT
BEGIN:VEVENT
UID:207h@192.168.245.71:3006
SEQUENCE:0
DTSTAMP:20260420T192859Z
DTSTART:20260331T110000Z
DTEND:20260331T124000Z
SUMMARY:Иностранный язык: Базовый курс
LOCATION:ГЗ 240
END:VEVENT
BEGIN:VEVENT
UID:6xp1@192.168.245.71:3006
SEQUENCE:0
DTSTAMP:20260420T192859Z
DTSTART:20260401T050000Z
DTEND:20260401T064000Z
SUMMARY:Инженерная графика
LOCATION:ГЗ 123
END:VEVENT
BEGIN:VEVENT
UID:g1dd@192.168.245.71:3006
SEQUENCE:0
DTSTAMP:20260420T192859Z
DTSTART:20260401T070000Z
DTEND:20260401T084000Z
SUMMARY:Информатика
LOCATION:ГЗ 257
END:VEVENT
BEGIN:VEVENT
UID:lf0r@192.168.245.71:3006
SEQUENCE:0
DTSTAMP:20260420T192859Z
DTSTART:20260401T090000Z
DTEND:20260401T104000Z
SUMMARY:Информатика
LOCATION:ТВН ВШАиТЭ комп.кл.
END:VEVENT
BEGIN:VEVENT
UID:wpia@192.168.245.71:3006
SEQUENCE:0
DTSTAMP:20260420T192859Z
DTSTART:20260401T110000Z
DTEND:20260401T124000Z
SUMMARY:Информатика
LOCATION:ТВН ВШАиТЭ комп.кл.
END:VEVENT
BEGIN:VEVENT
UID:gbj4@192.168.245.71:3006
SEQUENCE:0
DTSTAMP:20260420T192859Z
DTSTART:20260402T070000Z
DTEND:20260402T084000Z
SUMMARY:Физика
LOCATION:ГЗ 223
END:VEVENT
BEGIN:VEVENT
UID:3yjl@192.168.245.71:3006
SEQUENCE:0
DTSTAMP:20260420T192859Z
DTSTART:20260402T090000Z
DTEND:20260402T104000Z
SUMMARY:Высшая математика
LOCATION:ГЗ 224
END:VEVENT
BEGIN:VEVENT
UID:vztf@192.168.245.71:3006
SEQUENCE:0
DTSTAMP:20260420T192859Z
DTSTART:20260402T110000Z
DTEND:20260402T124000Z
SUMMARY:Высшая математика (продвинутый уровень)
LOCATION:ГЗ 107
END:VEVENT
BEGIN:VEVENT
UID:uhvv@192.168.245.71:3006
SEQUENCE:0
DTSTAMP:20260420T192859Z
DTSTART:20260403T050000Z
DTEND:20260403T064000Z
SUMMARY:Факультатив по основам методологии научных исследований
LOCATION:ГЗ 184
END:VEVENT
BEGIN:VEVENT
UID:pm8y@192.168.245.71:3006
SEQUENCE:0
DTSTAMP:20260420T192859Z
DTSTART:20260403T070000Z
DTEND:20260403T084000Z
SUMMARY:Элективная физическая культура и спорт
LOCATION:СК Секции
END:VEVENT
BEGIN:VEVENT
UID:gr4x@192.168.245.71:3006
SEQUENCE:0
DTSTAMP:20260420T192859Z
DTSTART:20260403T090000Z
DTEND:20260403T104000Z
SUMMARY:Химия
LOCATION:Хим. к. 52
END:VEVENT
BEGIN:VEVENT
UID:1p1a@192.168.245.71:3006
SEQUENCE:0
DTSTAMP:20260420T192859Z
DTSTART:20260403T110000Z
DTEND:20260403T124000Z
SUMMARY:История России
LOCATION:ГЗ 244
END:VEVENT
BEGIN:VEVENT
UID:kvwq@192.168.245.71:3006
SEQUENCE:0
DTSTAMP:20260420T192859Z
DTSTART:20260404T060000Z
DTEND:20260404T084000Z
SUMMARY:Физика повышенной сложности
LOCATION:ГЗ 283
END:VEVENT
BEGIN:VEVENT
UID:gbxq@192.168.245.71:3006
SEQUENCE:0
DTSTAMP:20260420T192859Z
DTSTART:20260404T070000Z
DTEND:20260404T084000Z
SUMMARY:Иностранный язык: Русский язык как иностранный
LOCATION:ГЗ 230
END:VEVENT
BEGIN:VEVENT
UID:lezs@192.168.245.71:3006
SEQUENCE:0
DTSTAMP:20260420T192859Z
DTSTART:20260404T090000Z
DTEND:20260404T104000Z
SUMMARY:Иностранный язык: Русский язык как иностранный
LOCATION:ГЗ 230
END:VEVENT
BEGIN:VEVENT
UID:mr3q@192.168.245.71:3006
SEQUENCE:0
DTSTAMP:20260420T192859Z
DTSTART:20260404T090000Z
DTEND:20260404T104000Z
SUMMARY:Физика повышенной сложности
LOCATION:ГЗ 283
END:VEVENT
BEGIN:VEVENT
UID:1slb@192.168.245.71:3006
SEQUENCE:0
DTSTAMP:20260420T192859Z
DTSTART:20260404T110000Z
DTEND:20260404T124000Z
SUMMARY:Высшая математика повышенной сложности
LOCATION:ГЗ 284
END:VEVENT
END:VCALENDAR