BEGIN:VCALENDAR
VERSION:2.0
PRODID:-//spbstu.ru//ical//RU
NAME:Расписание группы 3231301/40002
X-WR-CALNAME:Расписание группы 3231301/40002
TIMEZONE-ID:Europe/Moscow
X-WR-TIMEZONE:Europe/Moscow
BEGIN:VEVENT
UID:axp7@192.168.245.71:3006
SEQUENCE:0
DTSTAMP:20260422T163227Z
DTSTART:20251103T070000Z
DTEND:20251103T084000Z
SUMMARY:Термодинамика
LOCATION:Мех. к. 26
END:VEVENT
BEGIN:VEVENT
UID:vw1u@192.168.245.71:3006
SEQUENCE:0
DTSTAMP:20260422T163227Z
DTSTART:20251103T090000Z
DTEND:20251103T104000Z
SUMMARY:Теоретическая механика
LOCATION:ГЗ 257
END:VEVENT
BEGIN:VEVENT
UID:xabi@192.168.245.71:3006
SEQUENCE:0
DTSTAMP:20260422T163227Z
DTSTART:20251103T110000Z
DTEND:20251103T124000Z
SUMMARY:Компьютерные технологии
LOCATION:ГЗ 122
END:VEVENT
BEGIN:VEVENT
UID:uuvh@192.168.245.71:3006
SEQUENCE:0
DTSTAMP:20260422T163227Z
DTSTART:20251105T050000Z
DTEND:20251105T064000Z
SUMMARY:История России
LOCATION:ГЗ 215
END:VEVENT
BEGIN:VEVENT
UID:wpxk@192.168.245.71:3006
SEQUENCE:0
DTSTAMP:20260422T163227Z
DTSTART:20251105T070000Z
DTEND:20251105T084000Z
SUMMARY:Термодинамика
LOCATION:ГЗ 225
END:VEVENT
BEGIN:VEVENT
UID:dqs2@192.168.245.71:3006
SEQUENCE:0
DTSTAMP:20260422T163227Z
DTSTART:20251105T090000Z
DTEND:20251105T104000Z
SUMMARY:Компьютерные технологии
LOCATION:ТВН ВШАиТЭ комп.кл.
END:VEVENT
BEGIN:VEVENT
UID:5b11@192.168.245.71:3006
SEQUENCE:0
DTSTAMP:20260422T163227Z
DTSTART:20251105T110000Z
DTEND:20251105T124000Z
SUMMARY:Тепломассообмен
LOCATION:Хим. к. Лаб.№10 Тепло- и массообмен
END:VEVENT
BEGIN:VEVENT
UID:9ksj@192.168.245.71:3006
SEQUENCE:0
DTSTAMP:20260422T163227Z
DTSTART:20251105T130000Z
DTEND:20251105T144000Z
SUMMARY:Модуль саморазвития (SoftSkills)
LOCATION:DL Дистанционно
END:VEVENT
BEGIN:VEVENT
UID:c24j@192.168.245.71:3006
SEQUENCE:0
DTSTAMP:20260422T163227Z
DTSTART:20251106T070000Z
DTEND:20251106T084000Z
SUMMARY:Механика жидкости и газа
LOCATION:Хим. к. лаб.№11 Механика жидкости и газа
END:VEVENT
BEGIN:VEVENT
UID:tcr7@192.168.245.71:3006
SEQUENCE:0
DTSTAMP:20260422T163227Z
DTSTART:20251106T090000Z
DTEND:20251106T104000Z
SUMMARY:Прикладная механика
LOCATION:ГЗ 107
END:VEVENT
BEGIN:VEVENT
UID:lq9s@192.168.245.71:3006
SEQUENCE:0
DTSTAMP:20260422T163227Z
DTSTART:20251106T110000Z
DTEND:20251106T124000Z
SUMMARY:Высшая математика
LOCATION:ГЗ 220
END:VEVENT
BEGIN:VEVENT
UID:nukt@192.168.245.71:3006
SEQUENCE:0
DTSTAMP:20260422T163227Z
DTSTART:20251106T130000Z
DTEND:20251106T144000Z
SUMMARY:Тепломассообмен
LOCATION:Хим. к. 9
END:VEVENT
BEGIN:VEVENT
UID:l1qq@192.168.245.71:3006
SEQUENCE:0
DTSTAMP:20260422T163227Z
DTSTART:20251107T070000Z
DTEND:20251107T084000Z
SUMMARY:История России
LOCATION:ГЗ 244
END:VEVENT
BEGIN:VEVENT
UID:vm8l@192.168.245.71:3006
SEQUENCE:0
DTSTAMP:20260422T163227Z
DTSTART:20251107T090000Z
DTEND:20251107T104000Z
SUMMARY:Механика жидкости и газа
LOCATION:ГЗ 224
END:VEVENT
BEGIN:VEVENT
UID:pfe3@192.168.245.71:3006
SEQUENCE:0
DTSTAMP:20260422T163227Z
DTSTART:20251107T110000Z
DTEND:20251107T124000Z
SUMMARY:Элективная физическая культура и спорт
LOCATION:СК Секции
END:VEVENT
BEGIN:VEVENT
UID:pzyl@192.168.245.71:3006
SEQUENCE:0
DTSTAMP:20260422T163227Z
DTSTART:20251107T130000Z
DTEND:20251107T144000Z
SUMMARY:Иностранный язык: Базовый курс
LOCATION:ГЗ 228
END:VEVENT
BEGIN:VEVENT
UID:nfre@192.168.245.71:3006
SEQUENCE:0
DTSTAMP:20260422T163227Z
DTSTART:20251108T060000Z
DTEND:20251108T083000Z
SUMMARY:Иностранный язык: Русский язык как иностранный
LOCATION:ГЗ 229
END:VEVENT
END:VCALENDAR