BEGIN:VCALENDAR
VERSION:2.0
PRODID:-//spbstu.ru//ical//RU
NAME:Расписание группы 3231301/40002
X-WR-CALNAME:Расписание группы 3231301/40002
TIMEZONE-ID:Europe/Moscow
X-WR-TIMEZONE:Europe/Moscow
BEGIN:VEVENT
UID:55ot@192.168.245.71:3006
SEQUENCE:0
DTSTAMP:20260421T173455Z
DTSTART:20260112T070000Z
DTEND:20260112T130000Z
SUMMARY:Высшая математика
LOCATION:ГЗ 224
END:VEVENT
BEGIN:VEVENT
UID:2gfn@192.168.245.71:3006
SEQUENCE:0
DTSTAMP:20260421T173455Z
DTSTART:20260115T070000Z
DTEND:20260115T084000Z
SUMMARY:Механика жидкости и газа
LOCATION:ГЗ 244
END:VEVENT
BEGIN:VEVENT
UID:nt6d@192.168.245.71:3006
SEQUENCE:0
DTSTAMP:20260421T173455Z
DTSTART:20260117T090000Z
DTEND:20260117T150000Z
SUMMARY:Механика жидкости и газа
LOCATION:ГЗ 223
END:VEVENT
END:VCALENDAR