BEGIN:VCALENDAR
VERSION:2.0
PRODID:-//spbstu.ru//ical//RU
NAME:Расписание группы 3231301/40002
X-WR-CALNAME:Расписание группы 3231301/40002
TIMEZONE-ID:Europe/Moscow
X-WR-TIMEZONE:Europe/Moscow
BEGIN:VEVENT
UID:b9ho@192.168.245.71:3006
SEQUENCE:0
DTSTAMP:20260420T174139Z
DTSTART:20260406T070000Z
DTEND:20260406T084000Z
SUMMARY:Электротехника
LOCATION:ГЗ 122
END:VEVENT
BEGIN:VEVENT
UID:6z6w@192.168.245.71:3006
SEQUENCE:0
DTSTAMP:20260420T174139Z
DTSTART:20260406T090000Z
DTEND:20260406T104000Z
SUMMARY:Технология конструкционных материалов
LOCATION:ГЗ 138
END:VEVENT
BEGIN:VEVENT
UID:phbv@192.168.245.71:3006
SEQUENCE:0
DTSTAMP:20260420T174139Z
DTSTART:20260406T110000Z
DTEND:20260406T124000Z
SUMMARY:Технология конструкционных материалов
LOCATION:ГЗ каф.ТКМ к.6
END:VEVENT
BEGIN:VEVENT
UID:uthc@192.168.245.71:3006
SEQUENCE:0
DTSTAMP:20260420T174139Z
DTSTART:20260406T130000Z
DTEND:20260406T144000Z
SUMMARY:Тепломассообмен
LOCATION:Мех. к. 14
END:VEVENT
BEGIN:VEVENT
UID:bwod@192.168.245.71:3006
SEQUENCE:0
DTSTAMP:20260420T174139Z
DTSTART:20260407T070000Z
DTEND:20260407T084000Z
SUMMARY:Электротехника
LOCATION:ГЗ ЭиЭ
END:VEVENT
BEGIN:VEVENT
UID:ax51@192.168.245.71:3006
SEQUENCE:0
DTSTAMP:20260420T174139Z
DTSTART:20260407T090000Z
DTEND:20260407T104000Z
SUMMARY:Тепломассообмен
LOCATION:Мех. к. 14
END:VEVENT
BEGIN:VEVENT
UID:3z3m@192.168.245.71:3006
SEQUENCE:0
DTSTAMP:20260420T174139Z
DTSTART:20260407T110000Z
DTEND:20260407T124000Z
SUMMARY:Элективная физическая культура и спорт
LOCATION:СК Секции
END:VEVENT
BEGIN:VEVENT
UID:njk2@192.168.245.71:3006
SEQUENCE:0
DTSTAMP:20260420T174139Z
DTSTART:20260408T070000Z
DTEND:20260408T084000Z
SUMMARY:Безопасность жизнедеятельности
LOCATION:ГК 104
END:VEVENT
BEGIN:VEVENT
UID:54ef@192.168.245.71:3006
SEQUENCE:0
DTSTAMP:20260420T174139Z
DTSTART:20260408T090000Z
DTEND:20260408T104000Z
SUMMARY:Материаловедение
LOCATION:ГЗ 282
END:VEVENT
BEGIN:VEVENT
UID:xozn@192.168.245.71:3006
SEQUENCE:0
DTSTAMP:20260420T174139Z
DTSTART:20260408T110000Z
DTEND:20260408T124000Z
SUMMARY:Высшая математика (продвинутый уровень)
LOCATION:ГЗ 208
END:VEVENT
BEGIN:VEVENT
UID:jc4b@192.168.245.71:3006
SEQUENCE:0
DTSTAMP:20260420T174139Z
DTSTART:20260409T070000Z
DTEND:20260409T084000Z
SUMMARY:Иностранный язык. Профессионально-ориентированный курс
LOCATION:ГЗ 210
END:VEVENT
BEGIN:VEVENT
UID:50ns@192.168.245.71:3006
SEQUENCE:0
DTSTAMP:20260420T174139Z
DTSTART:20260409T090000Z
DTEND:20260409T104000Z
SUMMARY:Высшая математика (продвинутый уровень)
LOCATION:ГЗ 244
END:VEVENT
BEGIN:VEVENT
UID:7ejg@192.168.245.71:3006
SEQUENCE:0
DTSTAMP:20260420T174139Z
DTSTART:20260409T110000Z
DTEND:20260409T124000Z
SUMMARY:Цифровая аналитика
LOCATION:ТВН ВШАиТЭ комп.кл.
END:VEVENT
BEGIN:VEVENT
UID:0yol@192.168.245.71:3006
SEQUENCE:0
DTSTAMP:20260420T174139Z
DTSTART:20260410T070000Z
DTEND:20260410T084000Z
SUMMARY:Паротурбинные установки
LOCATION:ТВН ВШАиТЭ уч.ауд.№102
END:VEVENT
BEGIN:VEVENT
UID:u2w4@192.168.245.71:3006
SEQUENCE:0
DTSTAMP:20260420T174139Z
DTSTART:20260410T090000Z
DTEND:20260410T104000Z
SUMMARY:Паротурбинные установки
LOCATION:ТВН ВШАиТЭ уч.ауд.№102
END:VEVENT
BEGIN:VEVENT
UID:4f4x@192.168.245.71:3006
SEQUENCE:0
DTSTAMP:20260420T174139Z
DTSTART:20260410T110000Z
DTEND:20260410T124000Z
SUMMARY:Элективная физическая культура и спорт
LOCATION:СК Секции
END:VEVENT
END:VCALENDAR