BEGIN:VCALENDAR
VERSION:2.0
PRODID:-//spbstu.ru//ical//RU
NAME:Расписание группы 3231302/40001
X-WR-CALNAME:Расписание группы 3231302/40001
TIMEZONE-ID:Europe/Moscow
X-WR-TIMEZONE:Europe/Moscow
BEGIN:VEVENT
UID:uojq@192.168.245.71:3006
SEQUENCE:0
DTSTAMP:20260424T194552Z
DTSTART:20251013T070000Z
DTEND:20251013T084000Z
SUMMARY:Компьютерные технологии
LOCATION:ГЗ 224
END:VEVENT
BEGIN:VEVENT
UID:mckj@192.168.245.71:3006
SEQUENCE:0
DTSTAMP:20260424T194552Z
DTSTART:20251013T090000Z
DTEND:20251013T104000Z
SUMMARY:Прикладная механика
LOCATION:ГЗ 239
END:VEVENT
BEGIN:VEVENT
UID:6p5f@192.168.245.71:3006
SEQUENCE:0
DTSTAMP:20260424T194552Z
DTSTART:20251013T110000Z
DTEND:20251013T124000Z
SUMMARY:Теоретические основы электротехники
LOCATION:ГЗ 178
END:VEVENT
BEGIN:VEVENT
UID:5fwe@192.168.245.71:3006
SEQUENCE:0
DTSTAMP:20260424T194552Z
DTSTART:20251013T130000Z
DTEND:20251013T144000Z
SUMMARY:История России
LOCATION:ГЗ 230
END:VEVENT
BEGIN:VEVENT
UID:2wxl@192.168.245.71:3006
SEQUENCE:0
DTSTAMP:20260424T194552Z
DTSTART:20251014T090000Z
DTEND:20251014T104000Z
SUMMARY:Компьютерная графика
LOCATION:ВИТ 302
END:VEVENT
BEGIN:VEVENT
UID:hc1g@192.168.245.71:3006
SEQUENCE:0
DTSTAMP:20260424T194552Z
DTSTART:20251014T110000Z
DTEND:20251014T124000Z
SUMMARY:Элективная физическая культура и спорт
LOCATION:СК Секции
END:VEVENT
BEGIN:VEVENT
UID:l64h@192.168.245.71:3006
SEQUENCE:0
DTSTAMP:20260424T194552Z
DTSTART:20251015T070000Z
DTEND:20251015T084000Z
SUMMARY:История России
LOCATION:ГЗ 226
END:VEVENT
BEGIN:VEVENT
UID:q5t6@192.168.245.71:3006
SEQUENCE:0
DTSTAMP:20260424T194552Z
DTSTART:20251015T090000Z
DTEND:20251015T104000Z
SUMMARY:Теоретические основы электротехники
LOCATION:ГЗ 257
END:VEVENT
BEGIN:VEVENT
UID:5ebd@192.168.245.71:3006
SEQUENCE:0
DTSTAMP:20260424T194552Z
DTSTART:20251015T110000Z
DTEND:20251015T124000Z
SUMMARY:Теоретические основы электротехники
LOCATION:ГЗ 180
END:VEVENT
BEGIN:VEVENT
UID:xbug@192.168.245.71:3006
SEQUENCE:0
DTSTAMP:20260424T194552Z
DTSTART:20251015T130000Z
DTEND:20251015T144000Z
SUMMARY:Модуль саморазвития (SoftSkills)
LOCATION:DL Дистанционно
END:VEVENT
BEGIN:VEVENT
UID:4dcl@192.168.245.71:3006
SEQUENCE:0
DTSTAMP:20260424T194552Z
DTSTART:20251016T050000Z
DTEND:20251016T064000Z
SUMMARY:Высшая математика
LOCATION:ГЗ 255
END:VEVENT
BEGIN:VEVENT
UID:kwlk@192.168.245.71:3006
SEQUENCE:0
DTSTAMP:20260424T194552Z
DTSTART:20251016T070000Z
DTEND:20251016T084000Z
SUMMARY:Иностранный язык: Базовый курс
LOCATION:ГЗ 221
END:VEVENT
BEGIN:VEVENT
UID:8e8u@192.168.245.71:3006
SEQUENCE:0
DTSTAMP:20260424T194552Z
DTSTART:20251016T090000Z
DTEND:20251016T104000Z
SUMMARY:Компьютерные технологии
LOCATION:Мех. к. 7
END:VEVENT
BEGIN:VEVENT
UID:fd73@192.168.245.71:3006
SEQUENCE:0
DTSTAMP:20260424T194552Z
DTSTART:20251016T090000Z
DTEND:20251016T104000Z
SUMMARY:Компьютерные технологии
LOCATION:Мех. к. 7
END:VEVENT
BEGIN:VEVENT
UID:vszh@192.168.245.71:3006
SEQUENCE:0
DTSTAMP:20260424T194552Z
DTSTART:20251016T110000Z
DTEND:20251016T124000Z
SUMMARY:История России
LOCATION:ГЗ 122
END:VEVENT
BEGIN:VEVENT
UID:qoo1@192.168.245.71:3006
SEQUENCE:0
DTSTAMP:20260424T194552Z
DTSTART:20251016T130000Z
DTEND:20251016T144000Z
SUMMARY:Промышленная электроника
LOCATION:ГЗ 284
END:VEVENT
BEGIN:VEVENT
UID:y92k@192.168.245.71:3006
SEQUENCE:0
DTSTAMP:20260424T194552Z
DTSTART:20251017T090000Z
DTEND:20251017T104000Z
SUMMARY:Теоретическая механика
LOCATION:ГЗ 257
END:VEVENT
BEGIN:VEVENT
UID:pkm8@192.168.245.71:3006
SEQUENCE:0
DTSTAMP:20260424T194552Z
DTSTART:20251017T110000Z
DTEND:20251017T124000Z
SUMMARY:Элективная физическая культура и спорт
LOCATION:СК Секции
END:VEVENT
BEGIN:VEVENT
UID:cob1@192.168.245.71:3006
SEQUENCE:0
DTSTAMP:20260424T194552Z
DTSTART:20251018T060000Z
DTEND:20251018T083000Z
SUMMARY:Иностранный язык: Русский язык как иностранный
LOCATION:ГЗ 229
END:VEVENT
END:VCALENDAR