BEGIN:VCALENDAR
VERSION:2.0
PRODID:-//spbstu.ru//ical//RU
NAME:Расписание группы 3231302/40001
X-WR-CALNAME:Расписание группы 3231302/40001
TIMEZONE-ID:Europe/Moscow
X-WR-TIMEZONE:Europe/Moscow
BEGIN:VEVENT
UID:5e4b@192.168.245.71:3006
SEQUENCE:0
DTSTAMP:20260424T155840Z
DTSTART:20251027T070000Z
DTEND:20251027T084000Z
SUMMARY:Компьютерные технологии
LOCATION:ГЗ 224
END:VEVENT
BEGIN:VEVENT
UID:zqve@192.168.245.71:3006
SEQUENCE:0
DTSTAMP:20260424T155840Z
DTSTART:20251027T090000Z
DTEND:20251027T104000Z
SUMMARY:Прикладная механика
LOCATION:ГЗ 239
END:VEVENT
BEGIN:VEVENT
UID:83ru@192.168.245.71:3006
SEQUENCE:0
DTSTAMP:20260424T155840Z
DTSTART:20251027T110000Z
DTEND:20251027T124000Z
SUMMARY:Теоретические основы электротехники
LOCATION:ГЗ 178
END:VEVENT
BEGIN:VEVENT
UID:1kzr@192.168.245.71:3006
SEQUENCE:0
DTSTAMP:20260424T155840Z
DTSTART:20251027T130000Z
DTEND:20251027T144000Z
SUMMARY:История России
LOCATION:ГЗ 256
END:VEVENT
BEGIN:VEVENT
UID:msit@192.168.245.71:3006
SEQUENCE:0
DTSTAMP:20260424T155840Z
DTSTART:20251028T090000Z
DTEND:20251028T104000Z
SUMMARY:Компьютерная графика
LOCATION:ВИТ 302
END:VEVENT
BEGIN:VEVENT
UID:yz4h@192.168.245.71:3006
SEQUENCE:0
DTSTAMP:20260424T155840Z
DTSTART:20251028T110000Z
DTEND:20251028T124000Z
SUMMARY:Элективная физическая культура и спорт
LOCATION:СК Секции
END:VEVENT
BEGIN:VEVENT
UID:64cw@192.168.245.71:3006
SEQUENCE:0
DTSTAMP:20260424T155840Z
DTSTART:20251029T070000Z
DTEND:20251029T084000Z
SUMMARY:История России
LOCATION:ГЗ 226
END:VEVENT
BEGIN:VEVENT
UID:7dse@192.168.245.71:3006
SEQUENCE:0
DTSTAMP:20260424T155840Z
DTSTART:20251029T090000Z
DTEND:20251029T104000Z
SUMMARY:Теоретические основы электротехники
LOCATION:ГЗ 257
END:VEVENT
BEGIN:VEVENT
UID:fu8m@192.168.245.71:3006
SEQUENCE:0
DTSTAMP:20260424T155840Z
DTSTART:20251029T110000Z
DTEND:20251029T124000Z
SUMMARY:Теоретические основы электротехники
LOCATION:ГЗ 180
END:VEVENT
BEGIN:VEVENT
UID:xy30@192.168.245.71:3006
SEQUENCE:0
DTSTAMP:20260424T155840Z
DTSTART:20251029T130000Z
DTEND:20251029T144000Z
SUMMARY:Модуль саморазвития (SoftSkills)
LOCATION:DL Дистанционно
END:VEVENT
BEGIN:VEVENT
UID:vnc0@192.168.245.71:3006
SEQUENCE:0
DTSTAMP:20260424T155840Z
DTSTART:20251030T050000Z
DTEND:20251030T064000Z
SUMMARY:Высшая математика
LOCATION:ГЗ 255
END:VEVENT
BEGIN:VEVENT
UID:53fh@192.168.245.71:3006
SEQUENCE:0
DTSTAMP:20260424T155840Z
DTSTART:20251030T070000Z
DTEND:20251030T084000Z
SUMMARY:Иностранный язык: Базовый курс
LOCATION:ГЗ 221
END:VEVENT
BEGIN:VEVENT
UID:c3wv@192.168.245.71:3006
SEQUENCE:0
DTSTAMP:20260424T155840Z
DTSTART:20251030T090000Z
DTEND:20251030T104000Z
SUMMARY:Компьютерные технологии
LOCATION:Мех. к. 7
END:VEVENT
BEGIN:VEVENT
UID:5j4t@192.168.245.71:3006
SEQUENCE:0
DTSTAMP:20260424T155840Z
DTSTART:20251030T090000Z
DTEND:20251030T104000Z
SUMMARY:Компьютерные технологии
LOCATION:Мех. к. 7
END:VEVENT
BEGIN:VEVENT
UID:kk7v@192.168.245.71:3006
SEQUENCE:0
DTSTAMP:20260424T155840Z
DTSTART:20251030T110000Z
DTEND:20251030T124000Z
SUMMARY:История России
LOCATION:ГЗ 122
END:VEVENT
BEGIN:VEVENT
UID:p57f@192.168.245.71:3006
SEQUENCE:0
DTSTAMP:20260424T155840Z
DTSTART:20251030T130000Z
DTEND:20251030T144000Z
SUMMARY:Промышленная электроника
LOCATION:ГЗ 284
END:VEVENT
BEGIN:VEVENT
UID:1isi@192.168.245.71:3006
SEQUENCE:0
DTSTAMP:20260424T155840Z
DTSTART:20251031T090000Z
DTEND:20251031T104000Z
SUMMARY:Теоретическая механика
LOCATION:ГЗ 257
END:VEVENT
BEGIN:VEVENT
UID:jbq4@192.168.245.71:3006
SEQUENCE:0
DTSTAMP:20260424T155840Z
DTSTART:20251031T110000Z
DTEND:20251031T124000Z
SUMMARY:Элективная физическая культура и спорт
LOCATION:СК Секции
END:VEVENT
BEGIN:VEVENT
UID:bam0@192.168.245.71:3006
SEQUENCE:0
DTSTAMP:20260424T155840Z
DTSTART:20251101T060000Z
DTEND:20251101T083000Z
SUMMARY:Иностранный язык: Русский язык как иностранный
LOCATION:ГЗ 229
END:VEVENT
END:VCALENDAR