BEGIN:VCALENDAR
VERSION:2.0
PRODID:-//spbstu.ru//ical//RU
NAME:Расписание группы 3231302/40001
X-WR-CALNAME:Расписание группы 3231302/40001
TIMEZONE-ID:Europe/Moscow
X-WR-TIMEZONE:Europe/Moscow
BEGIN:VEVENT
UID:697n@192.168.245.71:3006
SEQUENCE:0
DTSTAMP:20260424T084351Z
DTSTART:20251117T070000Z
DTEND:20251117T084000Z
SUMMARY:Прикладная механика
LOCATION:ГЗ 122
END:VEVENT
BEGIN:VEVENT
UID:ccet@192.168.245.71:3006
SEQUENCE:0
DTSTAMP:20260424T084351Z
DTSTART:20251117T090000Z
DTEND:20251117T104000Z
SUMMARY:Прикладная механика
LOCATION:Мех. к. СМ №2
END:VEVENT
BEGIN:VEVENT
UID:s0da@192.168.245.71:3006
SEQUENCE:0
DTSTAMP:20260424T084351Z
DTSTART:20251117T090000Z
DTEND:20251117T104000Z
SUMMARY:Прикладная механика
LOCATION:Мех. к. СМ №2
END:VEVENT
BEGIN:VEVENT
UID:lp27@192.168.245.71:3006
SEQUENCE:0
DTSTAMP:20260424T084351Z
DTSTART:20251117T110000Z
DTEND:20251117T124000Z
SUMMARY:Теоретические основы электротехники
LOCATION:ГЗ 178
END:VEVENT
BEGIN:VEVENT
UID:n6e8@192.168.245.71:3006
SEQUENCE:0
DTSTAMP:20260424T084351Z
DTSTART:20251118T090000Z
DTEND:20251118T104000Z
SUMMARY:Компьютерная графика
LOCATION:ВИТ 302
END:VEVENT
BEGIN:VEVENT
UID:kzd0@192.168.245.71:3006
SEQUENCE:0
DTSTAMP:20260424T084351Z
DTSTART:20251118T110000Z
DTEND:20251118T124000Z
SUMMARY:Элективная физическая культура и спорт
LOCATION:СК Секции
END:VEVENT
BEGIN:VEVENT
UID:ewt7@192.168.245.71:3006
SEQUENCE:0
DTSTAMP:20260424T084351Z
DTSTART:20251119T090000Z
DTEND:20251119T104000Z
SUMMARY:Теоретические основы электротехники
LOCATION:ГЗ 257
END:VEVENT
BEGIN:VEVENT
UID:u3ft@192.168.245.71:3006
SEQUENCE:0
DTSTAMP:20260424T084351Z
DTSTART:20251119T110000Z
DTEND:20251119T124000Z
SUMMARY:Теоретическая механика
LOCATION:ГЗ 182
END:VEVENT
BEGIN:VEVENT
UID:1d43@192.168.245.71:3006
SEQUENCE:0
DTSTAMP:20260424T084351Z
DTSTART:20251119T130000Z
DTEND:20251119T144000Z
SUMMARY:Модуль саморазвития (SoftSkills)
LOCATION:DL Дистанционно
END:VEVENT
BEGIN:VEVENT
UID:jwc0@192.168.245.71:3006
SEQUENCE:0
DTSTAMP:20260424T084351Z
DTSTART:20251120T050000Z
DTEND:20251120T064000Z
SUMMARY:Высшая математика
LOCATION:ГЗ 255
END:VEVENT
BEGIN:VEVENT
UID:uhob@192.168.245.71:3006
SEQUENCE:0
DTSTAMP:20260424T084351Z
DTSTART:20251120T070000Z
DTEND:20251120T084000Z
SUMMARY:Иностранный язык: Базовый курс
LOCATION:ГЗ 221
END:VEVENT
BEGIN:VEVENT
UID:tva7@192.168.245.71:3006
SEQUENCE:0
DTSTAMP:20260424T084351Z
DTSTART:20251120T090000Z
DTEND:20251120T104000Z
SUMMARY:Промышленная электроника
LOCATION:17 уч.к. 308
END:VEVENT
BEGIN:VEVENT
UID:05kx@192.168.245.71:3006
SEQUENCE:0
DTSTAMP:20260424T084351Z
DTSTART:20251120T090000Z
DTEND:20251120T104000Z
SUMMARY:Промышленная электроника
LOCATION:17 уч.к. 308
END:VEVENT
BEGIN:VEVENT
UID:uy4s@192.168.245.71:3006
SEQUENCE:0
DTSTAMP:20260424T084351Z
DTSTART:20251120T110000Z
DTEND:20251120T124000Z
SUMMARY:Высшая математика
LOCATION:ГЗ 122
END:VEVENT
BEGIN:VEVENT
UID:np26@192.168.245.71:3006
SEQUENCE:0
DTSTAMP:20260424T084351Z
DTSTART:20251120T130000Z
DTEND:20251120T144000Z
SUMMARY:Промышленная электроника
LOCATION:ГЗ 284
END:VEVENT
BEGIN:VEVENT
UID:v40r@192.168.245.71:3006
SEQUENCE:0
DTSTAMP:20260424T084351Z
DTSTART:20251121T090000Z
DTEND:20251121T104000Z
SUMMARY:Теоретическая механика
LOCATION:ГЗ 257
END:VEVENT
BEGIN:VEVENT
UID:xhcr@192.168.245.71:3006
SEQUENCE:0
DTSTAMP:20260424T084351Z
DTSTART:20251121T110000Z
DTEND:20251121T124000Z
SUMMARY:Элективная физическая культура и спорт
LOCATION:СК Секции
END:VEVENT
BEGIN:VEVENT
UID:41pb@192.168.245.71:3006
SEQUENCE:0
DTSTAMP:20260424T084351Z
DTSTART:20251122T060000Z
DTEND:20251122T083000Z
SUMMARY:Иностранный язык: Русский язык как иностранный
LOCATION:ГЗ 229
END:VEVENT
END:VCALENDAR