BEGIN:VCALENDAR
VERSION:2.0
PRODID:-//spbstu.ru//ical//RU
NAME:Расписание группы 3231302/40001
X-WR-CALNAME:Расписание группы 3231302/40001
TIMEZONE-ID:Europe/Moscow
X-WR-TIMEZONE:Europe/Moscow
BEGIN:VEVENT
UID:0o5z@192.168.245.71:3006
SEQUENCE:0
DTSTAMP:20260422T203452Z
DTSTART:20260209T070000Z
DTEND:20260209T084000Z
SUMMARY:Высшая математика (продвинутый уровень)
LOCATION:ГЗ 224
END:VEVENT
BEGIN:VEVENT
UID:qwyu@192.168.245.71:3006
SEQUENCE:0
DTSTAMP:20260422T203452Z
DTSTART:20260209T090000Z
DTEND:20260209T104000Z
SUMMARY:Иностранный язык. Профессионально-ориентированный курс
LOCATION:ГЗ 229
END:VEVENT
BEGIN:VEVENT
UID:tdy5@192.168.245.71:3006
SEQUENCE:0
DTSTAMP:20260422T203452Z
DTSTART:20260209T110000Z
DTEND:20260209T124000Z
SUMMARY:Теоретические основы электротехники
LOCATION:ГЗ 271
END:VEVENT
BEGIN:VEVENT
UID:q63j@192.168.245.71:3006
SEQUENCE:0
DTSTAMP:20260422T203452Z
DTSTART:20260209T110000Z
DTEND:20260209T124000Z
SUMMARY:Теоретические основы электротехники
LOCATION:ГЗ 271
END:VEVENT
BEGIN:VEVENT
UID:47s3@192.168.245.71:3006
SEQUENCE:0
DTSTAMP:20260422T203452Z
DTSTART:20260209T130000Z
DTEND:20260209T144000Z
SUMMARY:Прикладная механика
LOCATION:ГЗ 222
END:VEVENT
BEGIN:VEVENT
UID:6bsg@192.168.245.71:3006
SEQUENCE:0
DTSTAMP:20260422T203452Z
DTSTART:20260209T130000Z
DTEND:20260209T144000Z
SUMMARY:Прикладная механика
LOCATION:ГЗ 222
END:VEVENT
BEGIN:VEVENT
UID:ixfl@192.168.245.71:3006
SEQUENCE:0
DTSTAMP:20260422T203452Z
DTSTART:20260210T070000Z
DTEND:20260210T084000Z
SUMMARY:Промышленная электроника
LOCATION:17 уч.к. 308
END:VEVENT
BEGIN:VEVENT
UID:reo6@192.168.245.71:3006
SEQUENCE:0
DTSTAMP:20260422T203452Z
DTSTART:20260210T090000Z
DTEND:20260210T104000Z
SUMMARY:Промышленная электроника
LOCATION:ГЗ 282
END:VEVENT
BEGIN:VEVENT
UID:i6kj@192.168.245.71:3006
SEQUENCE:0
DTSTAMP:20260422T203452Z
DTSTART:20260210T110000Z
DTEND:20260210T124000Z
SUMMARY:Элективная физическая культура и спорт
LOCATION:СК Секции
END:VEVENT
BEGIN:VEVENT
UID:a57e@192.168.245.71:3006
SEQUENCE:0
DTSTAMP:20260422T203452Z
DTSTART:20260210T130000Z
DTEND:20260210T144000Z
SUMMARY:Высшая математика
LOCATION:ГЗ 280
END:VEVENT
BEGIN:VEVENT
UID:6ih0@192.168.245.71:3006
SEQUENCE:0
DTSTAMP:20260422T203452Z
DTSTART:20260211T070000Z
DTEND:20260211T084000Z
SUMMARY:Иностранный язык. Профессионально-ориентированный курс
LOCATION:ГЗ 226
END:VEVENT
BEGIN:VEVENT
UID:tb5w@192.168.245.71:3006
SEQUENCE:0
DTSTAMP:20260422T203452Z
DTSTART:20260211T090000Z
DTEND:20260211T104000Z
SUMMARY:Теоретические основы электротехники
LOCATION:ГЗ 283
END:VEVENT
BEGIN:VEVENT
UID:9656@192.168.245.71:3006
SEQUENCE:0
DTSTAMP:20260422T203452Z
DTSTART:20260211T110000Z
DTEND:20260211T124000Z
SUMMARY:Теоретические основы электротехники
LOCATION:ГЗ 178
END:VEVENT
BEGIN:VEVENT
UID:wuhi@192.168.245.71:3006
SEQUENCE:0
DTSTAMP:20260422T203452Z
DTSTART:20260212T090000Z
DTEND:20260212T104000Z
SUMMARY:Теоретические основы электротехники
LOCATION:ГЗ 178
END:VEVENT
BEGIN:VEVENT
UID:ccwn@192.168.245.71:3006
SEQUENCE:0
DTSTAMP:20260422T203452Z
DTSTART:20260212T110000Z
DTEND:20260212T124000Z
SUMMARY:Безопасность жизнедеятельности
LOCATION:ГЗ 122
END:VEVENT
BEGIN:VEVENT
UID:yd67@192.168.245.71:3006
SEQUENCE:0
DTSTAMP:20260422T203452Z
DTSTART:20260213T110000Z
DTEND:20260213T124000Z
SUMMARY:Элективная физическая культура и спорт
LOCATION:СК Секции
END:VEVENT
BEGIN:VEVENT
UID:lesc@192.168.245.71:3006
SEQUENCE:0
DTSTAMP:20260422T203452Z
DTSTART:20260213T130000Z
DTEND:20260213T144000Z
SUMMARY:Высшая математика
LOCATION:ГЗ 284
END:VEVENT
END:VCALENDAR