BEGIN:VCALENDAR
VERSION:2.0
PRODID:-//spbstu.ru//ical//RU
NAME:Расписание группы 3231302/40005
X-WR-CALNAME:Расписание группы 3231302/40005
TIMEZONE-ID:Europe/Moscow
X-WR-TIMEZONE:Europe/Moscow
BEGIN:VEVENT
UID:nzph@192.168.245.71:3006
SEQUENCE:0
DTSTAMP:20260423T151158Z
DTSTART:20251222T070000Z
DTEND:20251222T100000Z
SUMMARY:Теоретическая механика
LOCATION:ГЗ 182
END:VEVENT
BEGIN:VEVENT
UID:umyt@192.168.245.71:3006
SEQUENCE:0
DTSTAMP:20260423T151158Z
DTSTART:20251223T070000Z
DTEND:20251223T084000Z
SUMMARY:Элективная физическая культура и спорт
LOCATION:СК Секции
END:VEVENT
BEGIN:VEVENT
UID:b2cq@192.168.245.71:3006
SEQUENCE:0
DTSTAMP:20260423T151158Z
DTSTART:20251224T100000Z
DTEND:20251224T130000Z
SUMMARY:Иностранный язык: Базовый курс
LOCATION:ГЗ 182
END:VEVENT
BEGIN:VEVENT
UID:l3nk@192.168.245.71:3006
SEQUENCE:0
DTSTAMP:20260423T151158Z
DTSTART:20251225T070000Z
DTEND:20251225T100000Z
SUMMARY:Промышленная электроника
LOCATION:ВИТ 401
END:VEVENT
END:VCALENDAR